BEGIN:VCALENDAR
VERSION:2.0
PRODID:-//Red Note  - ECPv6.15.18//NONSGML v1.0//EN
CALSCALE:GREGORIAN
METHOD:PUBLISH
X-WR-CALNAME:Red Note 
X-ORIGINAL-URL:https://www.rednoteensemble.com
X-WR-CALDESC:Events for Red Note 
REFRESH-INTERVAL;VALUE=DURATION:PT1H
X-Robots-Tag:noindex
X-PUBLISHED-TTL:PT1H
BEGIN:VTIMEZONE
TZID:Europe/London
BEGIN:DAYLIGHT
TZOFFSETFROM:+0000
TZOFFSETTO:+0100
TZNAME:BST
DTSTART:20250330T010000
END:DAYLIGHT
BEGIN:STANDARD
TZOFFSETFROM:+0100
TZOFFSETTO:+0000
TZNAME:GMT
DTSTART:20251026T010000
END:STANDARD
BEGIN:DAYLIGHT
TZOFFSETFROM:+0000
TZOFFSETTO:+0100
TZNAME:BST
DTSTART:20260329T010000
END:DAYLIGHT
BEGIN:STANDARD
TZOFFSETFROM:+0100
TZOFFSETTO:+0000
TZNAME:GMT
DTSTART:20261025T010000
END:STANDARD
BEGIN:DAYLIGHT
TZOFFSETFROM:+0000
TZOFFSETTO:+0100
TZNAME:BST
DTSTART:20270328T010000
END:DAYLIGHT
BEGIN:STANDARD
TZOFFSETFROM:+0100
TZOFFSETTO:+0000
TZNAME:GMT
DTSTART:20271031T010000
END:STANDARD
END:VTIMEZONE
BEGIN:VEVENT
DTSTART;TZID=Europe/London:20260207T193000
DTEND;TZID=Europe/London:20260207T203000
DTSTAMP:20260419T145315
CREATED:20251209T163829Z
LAST-MODIFIED:20260114T153745Z
UID:5940-1770492600-1770496200@www.rednoteensemble.com
SUMMARY:Red Note Ensemble and Laura Bowler: Deconstructing Pierrot
DESCRIPTION:What happens when you take a so-called classical masterpiece\, smash it open\, and rebuild it for the world we actually live in? \nLaura Bowler dives head-first into Pierrot Lunaire\, dragging Schoenberg’s iconic outsider into an age of clicks\, feeds\, and digital self-performance. Glitched\, remixed\, questioned and reclaimed\, Deconstructing Pierrot dismantles the myth of the tortured clown and rebuilds it through contemporary sound\, text and image. \nBold\, unsettling and darkly playful\, this visceral music-theatre work speaks directly to a new generation while sharply re-examining a canonical work. \nCome get your expectations\, and your attention span\, rewired. \nDeconstructing Pierrot\nRed Note Ensemble with Laura Bowler (voice)\nJoan Knight Studio\, Perth Theatre\nSaturday 7 February 2026\, 7:30pm\nUnder 18s go free \n  \nRed Note Ensemble\nRuth Morley\, Flute\nTim Lines\, Clarinet\nTom Hunter\, Percussion\nSiwan Rhys\, Piano\nJackie Shave\, Violin\nNaomi Pavri\, Cello \nLaura Bowler\, Voice \nMatthew Swan\, Electronics \n  \nCo-commissioned by Red Note Ensemble\, Music on Main\, and Ensemble Offspring\nImage: © Robin Clewley
URL:https://www.rednoteensemble.com/event/red-note-ensemble-and-laura-bowler-deconstructing-pierrot/
LOCATION:Joan Knight Studio\, Perth Theatre\, Perth Theatre\, Perth\, PH1 5HZ
CATEGORIES:Concerts
ATTACH;FMTTYPE=image/jpeg:https://www.rednoteensemble.com/wp-content/uploads/2025/12/LB-DP-Split.jpg
END:VEVENT
BEGIN:VEVENT
DTSTART;TZID=Europe/London:20260211T170000
DTEND;TZID=Europe/London:20260212T170000
DTSTAMP:20260419T145315
CREATED:20260106T143959Z
LAST-MODIFIED:20260212T123743Z
UID:5972-1770829200-1770915600@www.rednoteensemble.com
SUMMARY:Apply For Red Note FACTORY (DEVISING) WEEKEND
DESCRIPTION:RED NOTE FACTORY (DEVISING) WEEKEND \n14–15 March 2026\nPearce Institute\, Glasgow \nA free weekend course for classical performers aged 18–28 who want to explore contemporary music\, devising\, and creative collaboration. \nLed by Laura Bowler and Ruth Morley\, you’ll work together to create a brand-new group piece through guided devising\, improvisation\, and material-making — and perform it at the end of the weekend. There’s also the option to propose a solo or small ensemble work for the final concert. \n• Open to orchestral instruments\, plus classical guitar & saxophone (unfortunately we can’t accept applications from pianists or singers this time)\n• Fully funded\, lunch provided\n• Limited travel bursaries available \nCome and make something new — and meet future collaborators along the way. \nHow to apply \nTo apply\, fill out the application form via this link before Wednesday 11th February 2026 \nIf you have any questions or need any further information\, please contact us at admin@rednoteensemble.com. \nRed Note is funded by Creative Scotland and is a PRS Foundation Talent Development Partner.
URL:https://www.rednoteensemble.com/event/apply-for-red-note-factory-devising-weekend/
LOCATION:The Pearce Institute\, 840-860 Govan Road\, Glasgow\, G51 3UU
CATEGORIES:Creative Learning
ATTACH;FMTTYPE=image/jpeg:https://www.rednoteensemble.com/wp-content/uploads/2026/01/RN-Factory-Call-Website.jpg
END:VEVENT
BEGIN:VEVENT
DTSTART;TZID=Europe/London:20260223T193000
DTEND;TZID=Europe/London:20260223T210000
DTSTAMP:20260419T145315
CREATED:20251219T104328Z
LAST-MODIFIED:20260211T143600Z
UID:5937-1771875000-1771880400@www.rednoteensemble.com
SUMMARY:Noisy Nights At Drygate Glasgow
DESCRIPTION:Shake off your winter hibernation and come thaw your ears with bold\, unpredictable\, and never-before-heard music. Noisy Nights champions fresh sounds and emerging voices\, bringing together composers\, performers\, and curious listeners in an informal setting where anything can happen. \nRuth (flute)\, Cerys (bassoon) and Sasha (classical guitar) perform eight brand-new five-minute works\, selected from the open call: \nColin Riley ‘Rollick’\nJamie Mackenzie ‘gluasadan’\nDarlene Zarabozo ‘you deserve good things’\nColin Donati ‘Reckless (fragment)’\nScott Wearing ’Three Responses’\nAbbey Felton ‘running joke’\nDaniel Abrahams ’The Road to Applecross’\nCraig Morrison ’The Sound of Wood’ \nGot a musical idea of your own? Step up for the 10-Minute Composer Challenge. Create a quick sketch on the night\, and our musicians might bring it to life before the evening’s out. \nYes\, it’s a Monday night in February but it’s FREE! \nDrygate\, Glasgow\nMonday 23rd February\n7:30pm\nFREE entry – booking essential \nRed Note Ensemble\nRuth Morley\, Flute\nCerys Ambrose Evans\, Bassoon\nSasha Savaloni\, Classical Guitar\nJohn Harris\, Conductor \nRed Note is a PRS Foundation Talent Development Network Partner supported by PPL.
URL:https://www.rednoteensemble.com/event/noisy-nights-at-drygate-glasgow/
LOCATION:Drygate Brewery\, 85 Drygate\, Glasgow\, G4 0UT
CATEGORIES:Noisy Nights
ATTACH;FMTTYPE=image/jpeg:https://www.rednoteensemble.com/wp-content/uploads/2025/12/IMG_0165-scaled.jpeg
END:VEVENT
BEGIN:VEVENT
DTSTART;VALUE=DATE:20260228
DTEND;VALUE=DATE:20260301
DTSTAMP:20260419T145315
CREATED:20251219T105438Z
LAST-MODIFIED:20251219T105438Z
UID:5976-1772236800-1772323199@www.rednoteensemble.com
SUMMARY:Red Note Annual Report 2024-25
DESCRIPTION:Covering the period 1 April 2024 – 31 March 2025\, you can read or download a copy of our Annual Report here. \n 
URL:https://www.rednoteensemble.com/event/red-note-annual-report-2024-25/
CATEGORIES:Other Events
ATTACH;FMTTYPE=image/jpeg:https://www.rednoteensemble.com/wp-content/uploads/2025/12/Red-Note-Annual-Report-24-25_pages-to-jpg-0001-scaled.jpg
END:VEVENT
END:VCALENDAR