BEGIN:VCALENDAR
VERSION:2.0
PRODID:-//Red Note  - ECPv6.15.18//NONSGML v1.0//EN
CALSCALE:GREGORIAN
METHOD:PUBLISH
X-WR-CALNAME:Red Note 
X-ORIGINAL-URL:https://www.rednoteensemble.com
X-WR-CALDESC:Events for Red Note 
REFRESH-INTERVAL;VALUE=DURATION:PT1H
X-Robots-Tag:noindex
X-PUBLISHED-TTL:PT1H
BEGIN:VTIMEZONE
TZID:Europe/London
BEGIN:DAYLIGHT
TZOFFSETFROM:+0000
TZOFFSETTO:+0100
TZNAME:BST
DTSTART:20250330T010000
END:DAYLIGHT
BEGIN:STANDARD
TZOFFSETFROM:+0100
TZOFFSETTO:+0000
TZNAME:GMT
DTSTART:20251026T010000
END:STANDARD
BEGIN:DAYLIGHT
TZOFFSETFROM:+0000
TZOFFSETTO:+0100
TZNAME:BST
DTSTART:20260329T010000
END:DAYLIGHT
BEGIN:STANDARD
TZOFFSETFROM:+0100
TZOFFSETTO:+0000
TZNAME:GMT
DTSTART:20261025T010000
END:STANDARD
BEGIN:DAYLIGHT
TZOFFSETFROM:+0000
TZOFFSETTO:+0100
TZNAME:BST
DTSTART:20270328T010000
END:DAYLIGHT
BEGIN:STANDARD
TZOFFSETFROM:+0100
TZOFFSETTO:+0000
TZNAME:GMT
DTSTART:20271031T010000
END:STANDARD
END:VTIMEZONE
BEGIN:VEVENT
DTSTART;VALUE=DATE:20260104
DTEND;VALUE=DATE:20260105
DTSTAMP:20260419T163033
CREATED:20251113T091815Z
LAST-MODIFIED:20251114T155014Z
UID:5907-1767484800-1767571199@www.rednoteensemble.com
SUMMARY:Chair Of The Board
DESCRIPTION:Be part of something amazing – Scotland’s new music ensemble is looking for a new Chair of the Board. \nAs one of the UK’s most exciting and innovative makers and commissioners of new music\, the role of trustee means you will become part of a vanguard developing new works for the national and international stage\, supporting and developing young composers and musicians and working closely with communities. \nAlways forward-thinking and dynamic\, the company plays a leadership role nationally and internationally in the development of new music and the engagement of new audiences through its busy\, annual schedule of events. Our current Board members have expertise and experience at a senior level in arts\, marketing\, education\, finance\, and community work. \nCHAIR OF THE BOARD \nFor this role\, we invite interest from suitably experienced individuals at a Chief Executive level and would particularly welcome those with a background in the UK public sector and/or experience of a previous board membership and a genuine interest in music and the arts. The ideal candidate would contribute their knowledge and strong industry contacts and commit to actively support the ensemble by promoting and supporting the organisation externally. \nCandidates should share our values\, have experience in leadership or governance and have time to invest in supporting Red Note’s work and strategy. Previous Chair experience is not required but a plus\, though we do require strong leadership experience in a public sector setting. \nBoard meetings are held quarterly online\, and the Board meet once a year in person in Glasgow or Edinburgh for the annual Board Away Day. \nThe Chair is responsible for ensuring the Board works effectively\, leading the Board team and meetings and overseeing decisions taken. \nIn addition\, the Chair gives informal advice by phone or 1:1 meeting with the executive team as required and line-manages the CEO. \nIf you would like to have an informal discussion with the current Chair of the Board\, Ian Smith\, you can get in touch with him via email at ian65smith@icloud.com or call +353 87 442 2654 \nAlternatively\, please write to us explaining why you are interested in becoming Red Note’s Chair of the Board (no more than an A4 page\, single sided) and attach your CV.\nPlease send this to Red Note’s General Manager\, Flore Ducasse\, on flore@rednoteensemble.com. \nThe deadline to apply is Sunday 4th January 2026.  \nIf you have any questions that aren’t covered here\, if you have technical difficulties or have any access requirements\, we can support you with the application process. Please contact Ian Smith\, Chair of the Board at ian65smith@icloud.com with your question and he will reply to you with the required information.
URL:https://www.rednoteensemble.com/event/chairman-of-the-board/
CATEGORIES:Other Events
ATTACH;FMTTYPE=image/jpeg:https://www.rednoteensemble.com/wp-content/uploads/2025/11/RN-Board-Chair.jpg
END:VEVENT
BEGIN:VEVENT
DTSTART;VALUE=DATE:20260121
DTEND;VALUE=DATE:20260122
DTSTAMP:20260419T163033
CREATED:20251119T171930Z
LAST-MODIFIED:20251125T150600Z
UID:5918-1768953600-1769039999@www.rednoteensemble.com
SUMMARY:Noisy Nights in Glasgow - Call for Scores
DESCRIPTION:Noisy Nights are informal new music nights that provide an outlet to hear emerging new musical ideas and voices. Three Red Note musicians will perform up to 8 short new 5-minute works selected from the open call. \nThe concert will take place on Monday 23rd February 2026\, 19:30 at Drygate in Glasgow.  \nThe deadline for submissions is Wednesday 21st January 2026\, 23:59. \nCALL FOR SCORES \n• Maximum length: 5 minutes\n• Instrumentation: Flute*\, Bassoon\, Classical Guitar \n• Only new works composed for this call and including all three instruments will be accepted\n• Deadline: Wednesday 21st January 2026 (23:59 – UK time) \nPlease note the scores should not include electronics or any pre-recorded parts\, and when writing please consider that these concerts are rehearsed in a short time frame. \n*concert flute without doublings.  \nIf you’ve got any questions regarding the instruments list\, please email admin@rednoteensemble.com. \n\nHOW TO APPLY \nTo apply please please fill in the form HERE \nIf you have any questions or encountering any issues with the form or uploading your score to the form please contact us on admin@rednoteensemble.com.  \n  \nSUPPORT: \nWe encourage those local to the area to apply. There are limited options to apply for a travel bursary if you are selected and based outside of Glasgow\, and reside within the UK. \nPlease note that our travel bursary funds are limited\, so we may not be able to fully cover your travel expenses. We will strive to offer as much support as possible. However if travel is not possible\, selected composers will have the option to join the rehearsal and concert online. \nUnfortunately we are not able to offer travel support for composers based outside of the UK. \nIf you have any questions or access requirements\, please contact Dawn Coulshed at admin@rednoteensemble.com \n  \nRed Note is a PRS Foundation Talent Development Network Partner supported by PPL
URL:https://www.rednoteensemble.com/event/red-note-noisy-nights-in-glasgow-call-for-scores-february-2026/
CATEGORIES:Calls for Scores
ATTACH;FMTTYPE=image/png:https://www.rednoteensemble.com/wp-content/uploads/2025/11/RN-NN-26-Call-2.png
END:VEVENT
END:VCALENDAR