BEGIN:VCALENDAR
VERSION:2.0
PRODID:-//Red Note  - ECPv6.15.18//NONSGML v1.0//EN
CALSCALE:GREGORIAN
METHOD:PUBLISH
X-WR-CALNAME:Red Note 
X-ORIGINAL-URL:https://www.rednoteensemble.com
X-WR-CALDESC:Events for Red Note 
REFRESH-INTERVAL;VALUE=DURATION:PT1H
X-Robots-Tag:noindex
X-PUBLISHED-TTL:PT1H
BEGIN:VTIMEZONE
TZID:Europe/London
BEGIN:DAYLIGHT
TZOFFSETFROM:+0000
TZOFFSETTO:+0100
TZNAME:BST
DTSTART:20240331T010000
END:DAYLIGHT
BEGIN:STANDARD
TZOFFSETFROM:+0100
TZOFFSETTO:+0000
TZNAME:GMT
DTSTART:20241027T010000
END:STANDARD
BEGIN:DAYLIGHT
TZOFFSETFROM:+0000
TZOFFSETTO:+0100
TZNAME:BST
DTSTART:20250330T010000
END:DAYLIGHT
BEGIN:STANDARD
TZOFFSETFROM:+0100
TZOFFSETTO:+0000
TZNAME:GMT
DTSTART:20251026T010000
END:STANDARD
BEGIN:DAYLIGHT
TZOFFSETFROM:+0000
TZOFFSETTO:+0100
TZNAME:BST
DTSTART:20260329T010000
END:DAYLIGHT
BEGIN:STANDARD
TZOFFSETFROM:+0100
TZOFFSETTO:+0000
TZNAME:GMT
DTSTART:20261025T010000
END:STANDARD
END:VTIMEZONE
BEGIN:VEVENT
DTSTART;VALUE=DATE:20250105
DTEND;VALUE=DATE:20250106
DTSTAMP:20260420T122614
CREATED:20241219T172422Z
LAST-MODIFIED:20241219T172422Z
UID:5493-1736035200-1736121599@www.rednoteensemble.com
SUMMARY:Christmas Holidays Office Closure
DESCRIPTION:And that’s a wrap for 2024! \nA huge thank you from everyone at Red Note for all your support this past year\, and for coming to see and hear us over the last 12 months. \nIt’s been an incredible year\, with concerts\, workshops\, continuing with our Working with Communities projects\, successful firsts with Factory Weekend and the RCS Solo Recording\, and of course the celebration and recognition of “A Children’s Guide to Anarchy” at the Ivor Novellos. \nWe’re now taking a short break to celebrate the festive season and enjoy time with friends and family. The office will be closed from Monday 23 December 2024 until Monday 6 January 2025. \nHave a wonderful Christmas and New Year – we look forward to seeing you in 2025! \nPhoto credit: Sean Purser
URL:https://www.rednoteensemble.com/event/christmas-holidays-office-closure-2024/
CATEGORIES:Other Events
ATTACH;FMTTYPE=image/png:https://www.rednoteensemble.com/wp-content/uploads/2024/12/Christmas-2024.png
END:VEVENT
BEGIN:VEVENT
DTSTART;VALUE=DATE:20250110
DTEND;VALUE=DATE:20250111
DTSTAMP:20260420T122614
CREATED:20241217T110522Z
LAST-MODIFIED:20241219T162112Z
UID:5474-1736467200-1736553599@www.rednoteensemble.com
SUMMARY:Welcome to our newest board members!
DESCRIPTION:We’re delighted to announce Danae and Peter have both recently joined the Red Note board\, bringing with them fresh insights and expertise to help us deliver our programme to the highest standard. \nDanae Eggen (she/her): Canadian-born Danae’s musical career started as a professional horn player for ensembles such as the London Sinfonietta\, Birmingham Contemporary Music Group\, Sinfonia Cymru\, Band of HM Coldstream Guards\, RAF Central Band\, and progressive rock group Big Big Train. She is an associate artist manager and is also a member of Future Talent’s advisory board\, supporting young\, gifted musicians from low income families all over the UK. Danae is thrilled to be working with Red Note Ensemble’s board of trustees for future concerts\, projects\, and commissions. \nPeter Nicholson: Peter Nicholson is a cellist\, improviser\, composer\, and educator. As a passionate educator advocating for inclusion\, Peter has extensive experience in music education\, most recently serving as Director of Music at Sistema Scotland. Often working collaboratively\, he has created music for theatre\, dance and film\, including projects with National Theatre of Scotland and Scottish Dance Theatre. In 2023\, Peter founded New String Collective\, an improvising string orchestra.
URL:https://www.rednoteensemble.com/event/welcome-to-our-newest-board-members/
CATEGORIES:Other Events
ATTACH;FMTTYPE=image/png:https://www.rednoteensemble.com/wp-content/uploads/2024/12/New-Board-Members-Dec-2024.png
END:VEVENT
END:VCALENDAR