BEGIN:VCALENDAR
VERSION:2.0
PRODID:-//Red Note  - ECPv6.15.18//NONSGML v1.0//EN
CALSCALE:GREGORIAN
METHOD:PUBLISH
X-ORIGINAL-URL:https://www.rednoteensemble.com
X-WR-CALDESC:Events for Red Note 
REFRESH-INTERVAL;VALUE=DURATION:PT1H
X-Robots-Tag:noindex
X-PUBLISHED-TTL:PT1H
BEGIN:VTIMEZONE
TZID:Europe/London
BEGIN:DAYLIGHT
TZOFFSETFROM:+0000
TZOFFSETTO:+0100
TZNAME:BST
DTSTART:20230326T010000
END:DAYLIGHT
BEGIN:STANDARD
TZOFFSETFROM:+0100
TZOFFSETTO:+0000
TZNAME:GMT
DTSTART:20231029T010000
END:STANDARD
BEGIN:DAYLIGHT
TZOFFSETFROM:+0000
TZOFFSETTO:+0100
TZNAME:BST
DTSTART:20240331T010000
END:DAYLIGHT
BEGIN:STANDARD
TZOFFSETFROM:+0100
TZOFFSETTO:+0000
TZNAME:GMT
DTSTART:20241027T010000
END:STANDARD
BEGIN:DAYLIGHT
TZOFFSETFROM:+0000
TZOFFSETTO:+0100
TZNAME:BST
DTSTART:20250330T010000
END:DAYLIGHT
BEGIN:STANDARD
TZOFFSETFROM:+0100
TZOFFSETTO:+0000
TZNAME:GMT
DTSTART:20251026T010000
END:STANDARD
END:VTIMEZONE
BEGIN:VEVENT
DTSTART;TZID=Europe/London:20240507T130000
DTEND;TZID=Europe/London:20240507T140000
DTSTAMP:20260421T003205
CREATED:20240411T114918Z
LAST-MODIFIED:20240429T134310Z
UID:5060-1715086800-1715090400@www.rednoteensemble.com
SUMMARY:RCS & Red Note present 5 new works performed by Mark O'Keeffe
DESCRIPTION:We’re happy to present our new partnership with RCS\, combining a performance and recording of new works for solo trumpet created by 5 RCS students composers. \nThis project is a collaboration between Red Note and composers from the RCS\, who have been working with Mark O’Keeffe over the last few months\, to develop new pieces for solo trumpet. These new works will also be recorded as part of the project\, allowing the composers to reflect on this creative process\, as they develop their skills in writing for the instrument. \nJoin us on Tuesday 7 May at 1pm at the Scottish Music Centre in Glasgow for an informal sharing of these new works.  \nThe concert is FREE and not ticketed. \nAndrew Keddie Dawn\nElla Cookson Wandering\nHiro Kyo Sauce\nKaty Babenko Trumpet Solo 01.02\nNancy Johnstone flibbertigibbet\n \nRed Note Ensemble\nMark O’Keeffe\, Trumpet \nPlease note that one of the piece includes food that will be distributed to the audience. For any questions regarding allergies please contact admin@rednoteensemble.com 
URL:https://www.rednoteensemble.com/event/rcs-red-note-present-5-new-works-performed-by-mark-okeeffe/
LOCATION:Scottish Music Centre\, 100 Candleriggs\, Glasgow\, G1 1NQ\, United Kingdom
CATEGORIES:Concerts
ATTACH;FMTTYPE=image/png:https://www.rednoteensemble.com/wp-content/uploads/2024/04/IMG_5978.png
END:VEVENT
BEGIN:VEVENT
DTSTART;TZID=Europe/London:20240515T140000
DTEND;TZID=Europe/London:20240515T151500
DTSTAMP:20260421T003205
CREATED:20240318T153209Z
LAST-MODIFIED:20240318T161315Z
UID:5026-1715781600-1715786100@www.rednoteensemble.com
SUMMARY:FLOCK - Project Pitch at Classical:NEXT 2024 in Berlin
DESCRIPTION:FLOCK has been selected for the Classical:NEXT 2024 Project Pitches. The presentation will be on Wednesday 15th May between 14:00-15:15.\nhttps://classicalnext.com/project-pitches/flock-by-kathy-hinde-and-red-note-ensemble/ \nClassical:NEXT Project Pitches are targeted\, fast-moving opportunities for creators and those on the lookout for new creations\, a ‘seek and find’ for collaboration and inspiration. This format allows representatives from ensembles\, music theatre productions and music projects to offer rapid insight into their current offerings. \nMore on FLOCK:\nFLOCK is a 30 minute small ensemble piece with a strong visual element\, created for children and families of all ages. It is centred around a suite of newly invented playful instruments that use bellows\, pipes\, reeds\, whistles\, origami combined with the more traditional instruments; flute\, cello and percussion. Opening with a sonically and visually captivating performance by the musicians\, the audience are gently encouraged to become more involved until\, through their collective effort\, a chirping flock comes into being. \nFLOCK was co-commissioned by Red Note Ensemble and Sound and developed with Oakwood Primary School. \n 
URL:https://www.rednoteensemble.com/event/flock-project-pitch-at-classicalnext-2024-in-berlin/
LOCATION:Colosseum Berlin\, Schönhauser Allee 123\, Berlin\, 10437\, Germany
CATEGORIES:Other Events
ATTACH;FMTTYPE=image/png:https://www.rednoteensemble.com/wp-content/uploads/2024/03/4.png
END:VEVENT
END:VCALENDAR