BEGIN:VCALENDAR
VERSION:2.0
PRODID:-//Red Note  - ECPv6.15.18//NONSGML v1.0//EN
CALSCALE:GREGORIAN
METHOD:PUBLISH
X-WR-CALNAME:Red Note 
X-ORIGINAL-URL:https://www.rednoteensemble.com
X-WR-CALDESC:Events for Red Note 
REFRESH-INTERVAL;VALUE=DURATION:PT1H
X-Robots-Tag:noindex
X-PUBLISHED-TTL:PT1H
BEGIN:VTIMEZONE
TZID:Europe/London
BEGIN:DAYLIGHT
TZOFFSETFROM:+0000
TZOFFSETTO:+0100
TZNAME:BST
DTSTART:20210328T010000
END:DAYLIGHT
BEGIN:STANDARD
TZOFFSETFROM:+0100
TZOFFSETTO:+0000
TZNAME:GMT
DTSTART:20211031T010000
END:STANDARD
BEGIN:DAYLIGHT
TZOFFSETFROM:+0000
TZOFFSETTO:+0100
TZNAME:BST
DTSTART:20220327T010000
END:DAYLIGHT
BEGIN:STANDARD
TZOFFSETFROM:+0100
TZOFFSETTO:+0000
TZNAME:GMT
DTSTART:20221030T010000
END:STANDARD
BEGIN:DAYLIGHT
TZOFFSETFROM:+0000
TZOFFSETTO:+0100
TZNAME:BST
DTSTART:20230326T010000
END:DAYLIGHT
BEGIN:STANDARD
TZOFFSETFROM:+0100
TZOFFSETTO:+0000
TZNAME:GMT
DTSTART:20231029T010000
END:STANDARD
END:VTIMEZONE
BEGIN:VEVENT
DTSTART;TZID=Europe/London:20220703T183000
DTEND;TZID=Europe/London:20220703T193000
DTSTAMP:20260422T113548
CREATED:20220330T145431Z
LAST-MODIFIED:20220330T151554Z
UID:3950-1656873000-1656876600@www.rednoteensemble.com
SUMMARY:13 Vices - New Music Biennial
DESCRIPTION:For ensemble\, improvisers\, conductor & voice\, 13 Vices melts boundaries between theatre\, poetry & contemporary music. Exploring the weird\, humorous\, dark & exotic world of contemporary vices\, it is the creation of pioneering compositional voices –  Brian Irvine & Jennifer Walshe. \nFirst performed in 2015\, the seed was planted many years before when Brian chanced upon sculptures by Mihail Chemiakin in Moscow. The collection of slightly grotesque figures\, each representing a particular adult vice that is damaging to children was the springboard to the project\, which would eventually become\, in Brian’s words\, “a wonderfully messy\, chopped up\, beautiful\, bewitching cocktail of the best people making the best sounds and is a project that myself\, collaborator Jennifer (Walshe) and all the gang and very proud of!”. \n13 Vices is truly some of the most imaginative and exhilarating music around and Red Note Ensemble is delighted to perform alongside Paul Dunmall\, Paul Rogers\, & Mark Sanders. This piece that will stick with you.  \nRed Note Ensemble\nJackie Shave\, Violin \nTom Hankey\, Viola\nRobert Irvine\, Cello \nNew Music Biennial is a PRS Foundation and Southbank Centre initiative.  \nFor ages 11+ \nImage credit: Moving on Music \n 
URL:https://www.rednoteensemble.com/event/13-vices-new-music-biennial-london/
LOCATION:Purcell Room at Queen Elizabeth Hall\, Southbank Centre\, London
CATEGORIES:Concerts
ATTACH;FMTTYPE=image/jpeg:https://www.rednoteensemble.com/wp-content/uploads/2022/03/13VicesHiRes5243print-scaled.jpg
END:VEVENT
BEGIN:VEVENT
DTSTART;TZID=Europe/London:20220709T200000
DTEND;TZID=Europe/London:20220709T203000
DTSTAMP:20260422T113548
CREATED:20220524T141056Z
LAST-MODIFIED:20220628T112232Z
UID:4061-1657396800-1657398600@www.rednoteensemble.com
SUMMARY:Human Threads: Red Note with Artlink
DESCRIPTION:Reacting spontaneously to the exhibition and audience\, Red Note’s musicians will move freely throughout the space and will invite the audience to experience the music and arts from a different perspective. On Saturday 9th July\, Red Note Ensemble will perform with Indepen-dance dancers. Open to all. \nThis event is informed by the interests and insights of individuals with profound and multiple learning disabilities who have collaborated with Red Note over a number of years. \nFree – Drop-in – no ticket required \nWhen? \nSaturday 28th May – 13:00\nSaturday 9th July – 20:00\nSunday 28th August – 14:00 – CLOSING EVENT \nRed Note Ensemble – Saturday 28th May\nRuth Morley\, Flute\nRobert Irvine\, Cello \nRed Note Ensemble – Saturday 9th July\nMark O’Keeffe\, Trumpet\nJessica Beeston\, Viola \nMore about the exhibition\nConceived as an accessible\, creative experience informed by individuals with profound and multiple learning disabilities (PMLD)\, the exhibition takes the form of an interactive landscape which invites audiences on a journey of light\, sound\, touch and smell. From a huge silk sail which sways softly\, to sculpture that translates audio into vibrating pulses\, and a playful tower emitting light\, smoke and bubbles – each artwork within this gentle fairground offers a new encounter. \nHuman Threads is the culmination of years of pioneering research by Artlink and the Cherry Road Learning Centre. Through a process of mutual learning via collaborative play. Each artwork has been developed with and informed by individuals with PMLD and invites audiences to interact through a variety of senses. The works expand our perceptions of what an artwork might be and break down barriers of access to contemporary art. Throughout Human Threads the physical experience of the artwork becomes a shared\, communal language through which to explore new possibilities of human perception.  \nIf you require additional info on access to this event please contact Artlink directly.
URL:https://www.rednoteensemble.com/event/human-threads-red-note-with-artlink/
LOCATION:Tramway\, Glasgow Tramway\, Glasgow\, G41 2PE\, United Kingdom
CATEGORIES:Creative Learning
ATTACH;FMTTYPE=image/jpeg:https://www.rednoteensemble.com/wp-content/uploads/2022/05/Exhibition-poster.jpeg
END:VEVENT
BEGIN:VEVENT
DTSTART;VALUE=DATE:20220715
DTEND;VALUE=DATE:20220716
DTSTAMP:20260422T113548
CREATED:20220628T085629Z
LAST-MODIFIED:20240521T094334Z
UID:4126-1657843200-1657929599@www.rednoteensemble.com
SUMMARY:Development opportunity for Scotland-based composers
DESCRIPTION:The new works will be performed during soundfestival 2022. \nThis development opportunity for Scotland-based composers is part of the soundcreators programme\, which focuses on nurturing creative talent.\nsoundcreators is funded by PRS for Music Foundation\, Creative Scotland\, Foyle Foundation\, Hugh Fraser Foundation\, Hope Scott Trust and Aberdeen City Council. \nThis opportunity is organised in partnership with sound. sound is a new music incubator based in north-east Scotland encouraging new music creation and discovery. They run the annual soundfestival\, as well as year-round activity supporting a wide range of composers\, engaging with local communities and providing educational opportunities. \n  \nDraft schedule:\nSession 1: Introduction to voice and viola\nWhen: Thursday 11th August\, 11am-1pm\nWhere: Zoom\nThis first session will primarily be an introduction to writing for voice and viola and will be led by both musicians and Laura Bowler. \nSession 2:\nWhen: 29th and/or 30th August\nWhere: Zoom\n1-to-1 mentoring sessions with Laura Bowler and/or musicians. The composers will submit short (approximately 30 second sketches) in advance.\nFollowing this\, the composers will work up full pieces for the third session. \nSession 3:\nWhen: Saturday 17th September\nWhere: TBC (Central Belt)\nThe composers will work alongside two musicians to develop new works. It is expected that composers will bring work in progress with them. The session will last a whole day.\nThe composers will then have until mid-October to make any last adjustments. \nRehearsal:\nWhen: Monday 10th October\nWhere: TBC (Central Belt)\nHalf-day rehearsal of finished pieces with the composers in attendance. \nPerformance:\nWhen: 30th October\nWhere: Aberdeen\nA performance of the new works as part of the 2022 soundfestival. There will also be a rehearsal prior to the performance. \n  \nCandidates \nThe five successful candidates will be talented composers resident in Scotland. They can be at any stage in their career\, however they should be able to demonstrate a number of years of compositional experience\, and must be able to articulate their development needs and how the opportunity would benefit them. \nPlease note that we are committed to working with and supporting composers from under-represented groups. Female\, trans\, gender-diverse and ethnic minority composers as well as composers with a disability are encouraged to apply. \nFinancial support for the opportunity is limited to related expenses for travel/accommodation. There will also be a small commission fee of £200 per composer for a delivered piece to be performed at soundfestival. \n  \nHow to apply  \nTo apply for the opportunity please complete this Google form. \nDeadline for applications: 15th July 2022 \nIf further information is required\, please contact Elza (info@sound-scotland.co.uk). \nWe will inform you whether you are successful or not by the 22nd July 2022. \n  \nSelection process  \nAs mentioned above sound is committed to working with and supporting composers from under-represented sections of the population. To enable this\, there is a two-stage application process: an initial selection is made\, and then this is narrowed down in a second stage selection process. If you are a female\, disabled and/or BAME composer\, you can self-select to be put forward automatically to the second round if you want. The selection panel will be made up of the composer mentor\, a representative of sound (either a staff member or the Chair) and of Red Note. \n  \nNotes to composers applying  \nSelection for new music opportunities is inherently subjective and the criteria used can differ from project to project. We are frequently over-subscribed and often the quality of applications is extremely high from a wide range of composers\, which usually means making difficult decisions. \nReasons for selecting one composer over another are not always to do with skill level or experience. We may\, for example\, be looking for the right fit for us as an organisation at a particular point in time e.g.\, we may be looking to develop specific strands or activity or genres of music. \nFor development opportunities that happen in a group setting\, it may be that we need to take into consideration the coherence of that group e.g.\, we may prefer to have composers of a similar experience-level. We thus sometimes end up turning down composers with more experience or skills\, or giving opportunities to composers who we feel would benefit most from a particular opportunity at that stage in their career\, and faced with difficult choices we may sometimes turn down composers who may have already benefitted from a number of opportunities in the past. \nWe would however encourage composers to apply for any opportunities that interest them and for which they fit the specification\, and not be discouraged if they are not selected for a particular opportunity\, as it does not mean that they are not “good” enough. Please do continue to apply for any opportunity that interests you! \n 
URL:https://www.rednoteensemble.com/event/development-opportunity-for-scotland-based-composers-2022/
CATEGORIES:Calls for Scores
ATTACH;FMTTYPE=image/jpeg:https://www.rednoteensemble.com/wp-content/uploads/2022/06/Composer-Development-Call-sound-2022-4.jpg
END:VEVENT
END:VCALENDAR