BEGIN:VCALENDAR
VERSION:2.0
PRODID:-//Red Note  - ECPv6.15.18//NONSGML v1.0//EN
CALSCALE:GREGORIAN
METHOD:PUBLISH
X-WR-CALNAME:Red Note 
X-ORIGINAL-URL:https://www.rednoteensemble.com
X-WR-CALDESC:Events for Red Note 
REFRESH-INTERVAL;VALUE=DURATION:PT1H
X-Robots-Tag:noindex
X-PUBLISHED-TTL:PT1H
BEGIN:VTIMEZONE
TZID:Europe/London
BEGIN:DAYLIGHT
TZOFFSETFROM:+0000
TZOFFSETTO:+0100
TZNAME:BST
DTSTART:20210328T010000
END:DAYLIGHT
BEGIN:STANDARD
TZOFFSETFROM:+0100
TZOFFSETTO:+0000
TZNAME:GMT
DTSTART:20211031T010000
END:STANDARD
BEGIN:DAYLIGHT
TZOFFSETFROM:+0000
TZOFFSETTO:+0100
TZNAME:BST
DTSTART:20220327T010000
END:DAYLIGHT
BEGIN:STANDARD
TZOFFSETFROM:+0100
TZOFFSETTO:+0000
TZNAME:GMT
DTSTART:20221030T010000
END:STANDARD
BEGIN:DAYLIGHT
TZOFFSETFROM:+0000
TZOFFSETTO:+0100
TZNAME:BST
DTSTART:20230326T010000
END:DAYLIGHT
BEGIN:STANDARD
TZOFFSETFROM:+0100
TZOFFSETTO:+0000
TZNAME:GMT
DTSTART:20231029T010000
END:STANDARD
END:VTIMEZONE
BEGIN:VEVENT
DTSTART;TZID=Europe/London:20220423T120000
DTEND;TZID=Europe/London:20220423T130000
DTSTAMP:20260422T160215
CREATED:20220330T145543Z
LAST-MODIFIED:20220330T151503Z
UID:3943-1650715200-1650718800@www.rednoteensemble.com
SUMMARY:13 Vices - New Music Biennial
DESCRIPTION:For ensemble\, improvisers\, conductor & voice\, 13 Vices melts boundaries between theatre\, poetry & contemporary music. Exploring the weird\, humorous\, dark & exotic world of contemporary vices\, it is the creation of pioneering compositional voices –  Brian Irvine & Jennifer Walshe. \nFirst performed in 2015\, the seed was planted many years before when Brian chanced upon sculptures by Mihail Chemiakin in Moscow. The collection of slightly grotesque figures\, each representing a particular adult vice that is damaging to children was the springboard to the project\, which would eventually become\, in Brian’s words\, “a wonderfully messy\, chopped up\, beautiful\, bewitching cocktail of the best people making the best sounds and is a project that myself\, collaborator Jennifer (Walshe) and all the gang and very proud of!”. \n13 Vices is truly some of the most imaginative and exhilarating music around and Red Note Ensemble is delighted to perform alongside Paul Dunmall\, Paul Rogers\, & Mark Sanders. This piece that will stick with you.  \nRed Note Ensemble\nJackie Shave\, Violin \nTom Hankey\, Viola\nRobert Irvine\, Cello \nNew Music Biennial is a PRS Foundation and Southbank Centre initiative. Presented in partnership with Coventry UK City of Culture\, BBC Radio 3 and NMC Recordings with support from Arts Council of England\, Arts Council of Northern Ireland and Paul Hamlyn Foundation \nSuitable for all ages. Under 16s must be accompanied by an adult 18+. \nImage credit: Moving on Music \n 
URL:https://www.rednoteensemble.com/event/13-vices-new-music-biennial-coventry/
LOCATION:Draper’s Hall\, Coventry Bayley Lane\, Coventry\, CV1 5RN\, United Kingdom
CATEGORIES:Concerts
ATTACH;FMTTYPE=image/jpeg:https://www.rednoteensemble.com/wp-content/uploads/2022/03/13VicesHiRes5243print-scaled.jpg
END:VEVENT
BEGIN:VEVENT
DTSTART;TZID=Europe/London:20220426T193000
DTEND;TZID=Europe/London:20220426T210000
DTSTAMP:20260422T160215
CREATED:20220406T124648Z
LAST-MODIFIED:20220406T131740Z
UID:3969-1651001400-1651006800@www.rednoteensemble.com
SUMMARY:Red Note at Plug 2022
DESCRIPTION:PLUG is the Royal Conservatoire of Scotland’s festival of contemporary music\, all about showcasing original compositions by the students. As Contemporary Ensemble\, Red Note will be playing and recording new works by five student composers: \nKatrin Klose – Piano Concerto\nSiobhan Dyson – Chapter Two\nJo Strike – Unreasonable Music\nPablo Martinez – The boys who became stars\nMichael Maftean – 2394\, 36mg\nZeo Fawcett – Shed \nRed Note Ensemble\nRuth Morley\, flute\nTimothy Orpen\, clarinet\nTom Hunter\, percussion\nSimon Smith\, piano \nColin Scobie\, violin \nRobert Irvine\, cello\nIain Crawford\, double bass \nMarianna Abrahamyan Piano\nStephanie Lamprea Voice\nRylan Gleave Voice \nRCS Conductors – Leverhulme Fellowship Conductors* \n*Red Note Ensemble and RCS are supported by the Leverhulme Trust 
URL:https://www.rednoteensemble.com/event/red-note-at-plug-2022/
LOCATION:Royal Conservatoire of Scotland\, Glasgow\, United Kingdom
CATEGORIES:Concerts
ATTACH;FMTTYPE=image/jpeg:https://www.rednoteensemble.com/wp-content/uploads/2018/10/WC4_6163.jpg
END:VEVENT
END:VCALENDAR