BEGIN:VCALENDAR
VERSION:2.0
PRODID:-//Red Note  - ECPv6.15.18//NONSGML v1.0//EN
CALSCALE:GREGORIAN
METHOD:PUBLISH
X-ORIGINAL-URL:https://www.rednoteensemble.com
X-WR-CALDESC:Events for Red Note 
REFRESH-INTERVAL;VALUE=DURATION:PT1H
X-Robots-Tag:noindex
X-PUBLISHED-TTL:PT1H
BEGIN:VTIMEZONE
TZID:Europe/London
BEGIN:DAYLIGHT
TZOFFSETFROM:+0000
TZOFFSETTO:+0100
TZNAME:BST
DTSTART:20210328T010000
END:DAYLIGHT
BEGIN:STANDARD
TZOFFSETFROM:+0100
TZOFFSETTO:+0000
TZNAME:GMT
DTSTART:20211031T010000
END:STANDARD
BEGIN:DAYLIGHT
TZOFFSETFROM:+0000
TZOFFSETTO:+0100
TZNAME:BST
DTSTART:20220327T010000
END:DAYLIGHT
BEGIN:STANDARD
TZOFFSETFROM:+0100
TZOFFSETTO:+0000
TZNAME:GMT
DTSTART:20221030T010000
END:STANDARD
BEGIN:DAYLIGHT
TZOFFSETFROM:+0000
TZOFFSETTO:+0100
TZNAME:BST
DTSTART:20230326T010000
END:DAYLIGHT
BEGIN:STANDARD
TZOFFSETFROM:+0100
TZOFFSETTO:+0000
TZNAME:GMT
DTSTART:20231029T010000
END:STANDARD
END:VTIMEZONE
BEGIN:VEVENT
DTSTART;TZID=Europe/London:20220322T160000
DTEND;TZID=Europe/London:20220322T160000
DTSTAMP:20260422T172629
CREATED:20220304T125057Z
LAST-MODIFIED:20220309T092712Z
UID:3911-1647964800-1647964800@www.rednoteensemble.com
SUMMARY:CALL FOR PARTICIPANTS - The Night With... Concerts
DESCRIPTION:Take part in a research project by attending one of our concerts on the 23rd and 24th March 2022. The 10 participants will receive a complimentary ticket to see one of our concerts organised by The Night With… in Edinburgh and Glasgow. There will be a limit of 5 participants per concert.  \nIf you are interested to take part in this event\, please contact Flore at admin@rednoteensemble.com with the concert you would like to attend and we will get in touch with you: \n   – 23rd March 8pm – Summerhall\, Edinburgh\n   – 24th March 8pm – Stereo\, Glasgow \nAs well as the concert\, participants will be needed for a focus group 45 minutes before the concert and 30 minutes after the concert. \nDeadline to submit interest: 22nd March 2022\, 4pm  \nShould you have any further questions\, please contact Sarah at sarah@rednoteensemble.com \nMore details about the event:  \nDr Charlotte Gilmore\, an Athenaeum Leadership Fellow at the Royal Conservatoire of Scotland\, is leading a research project to identify and analyse the audience attending arts events. She will lead her project during two concerts with Red Note Ensemble as part of The Night With… 2022.  \nThe Night With… is a charity based in Glasgow presenting salon style concerts of interesting music in intimate\, informal venues across Scotland and further afield. Run by Matthew Whiteside\, it provides development and commissioning opportunities for young and emerging composers. \nRed Note returns to The Night With… with concerts in Edinburgh\, Glasgow\, Belfast and Aberdeen. Please refer to each individual event page for tickets at each location. Find out more here.  \nRufus Isabel Elliot The way we cupped our hands (and how the water ran through our fingers and down to the sea)* (World Premiere)\nWitold Lutoslawski String Quartet\nGeorge Crumb Black Angels\nCaroline Shaw Valencia \nRed Note Ensemble\nJackie Shave\, Violin 1\nTom Hankey\, Violin 2\nFiona Winning\, Viola\nRobert Irvine\, Cello \n 
URL:https://www.rednoteensemble.com/event/call-for-participants-the-night-with-concerts/
CATEGORIES:Other Events
ATTACH;FMTTYPE=image/png:https://www.rednoteensemble.com/wp-content/uploads/2022/03/CALL-FOR-PARTICIPANT-1.png
END:VEVENT
BEGIN:VEVENT
DTSTART;TZID=Europe/London:20220323T200000
DTEND;TZID=Europe/London:20220323T213000
DTSTAMP:20260422T172629
CREATED:20220124T133439Z
LAST-MODIFIED:20220124T133651Z
UID:3863-1648065600-1648071000@www.rednoteensemble.com
SUMMARY:Red Note at The Night With...
DESCRIPTION:The Night With… is a charity based in Glasgow presenting salon style concerts of interesting music in intimate\, informal venues across Scotland and further afield. Run by Matthew Whiteside\, it provides development and commissioning opportunities for young and emerging composers. \nRed Note returns to The Night With… with concerts in Edinburgh\, Glasgow\, Belfast and Aberdeen. Please refer to each individual event page for tickets at each location.  \nRufus Isabel Elliot The way we cupped our hands (and how the water ran through our fingers and down to the sea)* (World Premiere)\nWitold Lutoslawski String Quartet\nGeorge Crumb Black Angels\nCaroline Shaw Valencia \nRed Note Ensemble\nJackie Shave\, Violin 1\nTom Hankey\, Violin 2\nFiona Winning\, Viola\nRobert Irvine\, Cello \nIn partnership with The Night With… \n*co-commissioned by Red Note Ensemble and The Night With…
URL:https://www.rednoteensemble.com/event/red-note-at-the-night-with-edinburgh/
LOCATION:Summerhall\, Summerhall Pl.\, Edinburgh\, EH9 1QH\, United Kingdom
CATEGORIES:Concerts
ATTACH;FMTTYPE=image/jpeg:https://www.rednoteensemble.com/wp-content/uploads/2022/01/Rednote-Ensemblefullsize028-scaled.jpg
END:VEVENT
BEGIN:VEVENT
DTSTART;TZID=Europe/London:20220324T200000
DTEND;TZID=Europe/London:20220324T213000
DTSTAMP:20260422T172629
CREATED:20220124T134428Z
LAST-MODIFIED:20220304T155126Z
UID:3881-1648152000-1648157400@www.rednoteensemble.com
SUMMARY:Red Note at The Night With...
DESCRIPTION:The Night With… is a charity based in Glasgow presenting salon style concerts of interesting music in intimate\, informal venues across Scotland and further afield. Run by Matthew Whiteside\, it provides development and commissioning opportunities for young and emerging composers. \nRed Note returns to The Night With… with concerts in Edinburgh\, Glasgow\, Belfast and Aberdeen. Please refer to each individual event page for tickets at each location.  \nRufus Isabel Elliot The way we cupped our hands (and how the water ran through our fingers and down to the sea)* (World Premiere)\nWitold Lutoslawski String Quartet\nGeorge Crumb Black Angels\nCaroline Shaw Valencia \nRed Note Ensemble\nJackie Shave\, Violin 1\nTom Hankey\, Violin 2\nFiona Winning\, Viola\nRobert Irvine\, Cello \nIn partnership with The Night With… \n*co-commissioned by Red Note Ensemble and The Night With…
URL:https://www.rednoteensemble.com/event/red-note-at-the-night-with-glasgow/
LOCATION:Stereo\, 22 Renfield Ln\, Glasgow\, G2 5AR
CATEGORIES:Concerts
ATTACH;FMTTYPE=image/jpeg:https://www.rednoteensemble.com/wp-content/uploads/2022/01/Rednote-Ensemblefullsize028-scaled.jpg
END:VEVENT
BEGIN:VEVENT
DTSTART;TZID=Europe/London:20220325T200000
DTEND;TZID=Europe/London:20220325T213000
DTSTAMP:20260422T172629
CREATED:20220124T135032Z
LAST-MODIFIED:20220124T135032Z
UID:3886-1648238400-1648243800@www.rednoteensemble.com
SUMMARY:Red Note at The Night With...
DESCRIPTION:The Night With… is a charity based in Glasgow presenting salon style concerts of interesting music in intimate\, informal venues across Scotland and further afield. Run by Matthew Whiteside\, it provides development and commissioning opportunities for young and emerging composers. \nRed Note returns to The Night With… with concerts in Edinburgh\, Glasgow\, Belfast and Aberdeen. Please refer to each individual event page for tickets at each location.  \nRufus Isabel Elliot The way we cupped our hands (and how the water ran through our fingers and down to the sea)* (World Premiere)\nWitold Lutoslawski String Quartet\nGeorge Crumb Black Angels\nCaroline Shaw Valencia \nRed Note Ensemble\nJackie Shave\, Violin 1\nTom Hankey\, Violin 2\nFiona Winning\, Viola\nRobert Irvine\, Cello \nIn partnership with The Night With… \n*co-commissioned by Red Note Ensemble and The Night With…
URL:https://www.rednoteensemble.com/event/red-note-at-the-night-with-belfast/
LOCATION:The Black Box\, 18-22 Hill Street\, Belfast\, Northern Ireland\, BT1 2LA\, United Kingdom
CATEGORIES:Concerts
ATTACH;FMTTYPE=image/jpeg:https://www.rednoteensemble.com/wp-content/uploads/2022/01/Rednote-Ensemblefullsize028-scaled.jpg
END:VEVENT
BEGIN:VEVENT
DTSTART;TZID=Europe/London:20220327T200000
DTEND;TZID=Europe/London:20220327T213000
DTSTAMP:20260422T172629
CREATED:20220124T135615Z
LAST-MODIFIED:20220124T135615Z
UID:3892-1648411200-1648416600@www.rednoteensemble.com
SUMMARY:Red Note at The Night With...
DESCRIPTION:The Night With… is a charity based in Glasgow presenting salon style concerts of interesting music in intimate\, informal venues across Scotland and further afield. Run by Matthew Whiteside\, it provides development and commissioning opportunities for young and emerging composers. \nRed Note returns to The Night With… with concerts in Edinburgh\, Glasgow\, Belfast and Aberdeen. Please refer to each individual event page for tickets at each location.  \nRufus Isabel Elliot The way we cupped our hands (and how the water ran through our fingers and down to the sea)* (World Premiere)\nWitold Lutoslawski String Quartet\nGeorge Crumb Black Angels\nCaroline Shaw Valencia \n  \nRed Note Ensemble\nJackie Shave\, Violin 1\nTom Hankey\, Violin 2\nFiona Winning\, Viola\nRobert Irvine\, Cello \nIn partnership with The Night With… \n*co-commissioned by Red Note Ensemble and The Night With…
URL:https://www.rednoteensemble.com/event/red-note-at-the-night-with-aberdeen/
LOCATION:Belmont Filmhouse\, 49 Belmont Street\, Aberdeen\, Scotland\, AB10 1JS
CATEGORIES:Concerts
ATTACH;FMTTYPE=image/jpeg:https://www.rednoteensemble.com/wp-content/uploads/2022/01/Rednote-Ensemblefullsize028-scaled.jpg
END:VEVENT
BEGIN:VEVENT
DTSTART;VALUE=DATE:20220329
DTEND;VALUE=DATE:20220401
DTSTAMP:20260422T172629
CREATED:20220321T174001Z
LAST-MODIFIED:20220321T174616Z
UID:3933-1648512000-1648771199@www.rednoteensemble.com
SUMMARY:Red Note Community Spring Tour
DESCRIPTION:From the 29th to the 31st of March\, Red Note will be on the road across various locations in Glasgow and Paisley to bring music to schools and communities living in those areas*.  \nTuesday 29th March: Easterhouse\n       – 09:00-12:00: Lochend Community High School\n       – 13:00-15:00: Newhills Secondary School \nWednesday 30th March: Methil\n       – TBC \nThursday 31st March: Ferguslie Park\n       – 11:30-12:00: Love Street Disability Resource Centre\, Beechwood Community Centre\n       – 13:00-15:00: Glencoats Primary School \nRed Note Ensemble\nJackie Shave\, Violin 1\nTom Hankey\, Violin 2\nFiona Winning\, Viola\nRobert Irvine\, Cello \n*Please note: these performances are not on sale to the general public. If you happen to be part of the groups we are visiting\, we would love to see you there!
URL:https://www.rednoteensemble.com/event/red-note-community-spring-tour/
ATTACH;FMTTYPE=image/jpeg:https://www.rednoteensemble.com/wp-content/uploads/2022/03/Communitytour2019_OakwoodPS_Easterhouse-scaled.jpg
END:VEVENT
END:VCALENDAR