BEGIN:VCALENDAR
VERSION:2.0
PRODID:-//Red Note  - ECPv6.15.18//NONSGML v1.0//EN
CALSCALE:GREGORIAN
METHOD:PUBLISH
X-WR-CALNAME:Red Note 
X-ORIGINAL-URL:https://www.rednoteensemble.com
X-WR-CALDESC:Events for Red Note 
REFRESH-INTERVAL;VALUE=DURATION:PT1H
X-Robots-Tag:noindex
X-PUBLISHED-TTL:PT1H
BEGIN:VTIMEZONE
TZID:Europe/London
BEGIN:DAYLIGHT
TZOFFSETFROM:+0000
TZOFFSETTO:+0100
TZNAME:BST
DTSTART:20200329T010000
END:DAYLIGHT
BEGIN:STANDARD
TZOFFSETFROM:+0100
TZOFFSETTO:+0000
TZNAME:GMT
DTSTART:20201025T010000
END:STANDARD
BEGIN:DAYLIGHT
TZOFFSETFROM:+0000
TZOFFSETTO:+0100
TZNAME:BST
DTSTART:20210328T010000
END:DAYLIGHT
BEGIN:STANDARD
TZOFFSETFROM:+0100
TZOFFSETTO:+0000
TZNAME:GMT
DTSTART:20211031T010000
END:STANDARD
BEGIN:DAYLIGHT
TZOFFSETFROM:+0000
TZOFFSETTO:+0100
TZNAME:BST
DTSTART:20220327T010000
END:DAYLIGHT
BEGIN:STANDARD
TZOFFSETFROM:+0100
TZOFFSETTO:+0000
TZNAME:GMT
DTSTART:20221030T010000
END:STANDARD
END:VTIMEZONE
BEGIN:VEVENT
DTSTART;TZID=Europe/London:20210915T150000
DTEND;TZID=Europe/London:20210915T164500
DTSTAMP:20260423T015331
CREATED:20210820T191646Z
LAST-MODIFIED:20210910T102821Z
UID:3683-1631718000-1631724300@www.rednoteensemble.com
SUMMARY:Red Note at Lammermuir Festival 2021
DESCRIPTION:Winner of the Royal Philharmonic Society composition award\, Tanz/Haus is a tour de force from Scottish composer James Dillon. Its ravishing\, extravagant sound world finds a gentler\, quieter companion in Tansy Davies’s Soul Canoe. Red Note’s intrepid and brilliant musicians are\, as ever\, the ideal guides to this fascinating music. \n\n\n\n\n\n\n\n”James Dillon’s Tanz/Haus is a brilliant piece of music; its construction solid\, its expression human\, with a breathtaking and shimmering orchestration” The Wire \n\n\n\n\nTansy Davies Soul Canoe\nJames Dillon Tanz/Haus: triptych 2017 \n  \nRed Note Ensemble  \nConductor Johnathan Berman  \n 
URL:https://www.rednoteensemble.com/event/red-note-at-lammermuir-festival-2021/
LOCATION:The Brunton\, The Brunton\, Ladywell Way\, Musselburgh\, EH21 6AA\, United Kingdom
CATEGORIES:Concerts
ATTACH;FMTTYPE=image/jpeg:https://www.rednoteensemble.com/wp-content/uploads/2018/10/WC4_6163.jpg
END:VEVENT
BEGIN:VEVENT
DTSTART;TZID=Europe/London:20210924T193000
DTEND;TZID=Europe/London:20210924T203000
DTSTAMP:20260423T015331
CREATED:20210910T105425Z
LAST-MODIFIED:20210920T133454Z
UID:3740-1632511800-1632515400@www.rednoteensemble.com
SUMMARY:Red Note Sessions in Perth - James Dillon's EMBLEMATA: Carnival
DESCRIPTION:Red Note’s players have spent the past 3 days together recording two commissions by foremost Scottish composer James Dillon for Delphian Records\, and we will share with you the latest – EMBLEMATA: Carnival – talking about the music and the inspirations behind it\, and the challenges and delights of performing new music of such extraordinary complexity and beauty. Expect insight\, virtuosity\, and good company as Red Note take you into James Dillon’s astonishing\, unique sound world. \n  \nJames Dillon EMBLEMATA: Carnival  \n  \nRed Note Ensemble  \nRuth Morley\, flute  \nWilliam White\, clarinet \nTom Hunter\, percussion  \nSimon Smith\, piano \nJackie Shave\, violin \nRobert Irvine\, cello \n  \nConductor Geoffrey Paterson 
URL:https://www.rednoteensemble.com/event/red-note-sessions-james-dillons-carnival/
LOCATION:Perth Concert Hall\, Mill Street\, Perth\, Scotland\, PH1 5HZ\, United Kingdom
CATEGORIES:Concerts
ATTACH;FMTTYPE=image/png:https://www.rednoteensemble.com/wp-content/uploads/2021/09/Red-Note-Sessions-Carnival.png
END:VEVENT
END:VCALENDAR