BEGIN:VCALENDAR
VERSION:2.0
PRODID:-//Red Note  - ECPv6.15.18//NONSGML v1.0//EN
CALSCALE:GREGORIAN
METHOD:PUBLISH
X-WR-CALNAME:Red Note 
X-ORIGINAL-URL:https://www.rednoteensemble.com
X-WR-CALDESC:Events for Red Note 
REFRESH-INTERVAL;VALUE=DURATION:PT1H
X-Robots-Tag:noindex
X-PUBLISHED-TTL:PT1H
BEGIN:VTIMEZONE
TZID:Europe/London
BEGIN:DAYLIGHT
TZOFFSETFROM:+0000
TZOFFSETTO:+0100
TZNAME:BST
DTSTART:20200329T010000
END:DAYLIGHT
BEGIN:STANDARD
TZOFFSETFROM:+0100
TZOFFSETTO:+0000
TZNAME:GMT
DTSTART:20201025T010000
END:STANDARD
BEGIN:DAYLIGHT
TZOFFSETFROM:+0000
TZOFFSETTO:+0100
TZNAME:BST
DTSTART:20210328T010000
END:DAYLIGHT
BEGIN:STANDARD
TZOFFSETFROM:+0100
TZOFFSETTO:+0000
TZNAME:GMT
DTSTART:20211031T010000
END:STANDARD
BEGIN:DAYLIGHT
TZOFFSETFROM:+0000
TZOFFSETTO:+0100
TZNAME:BST
DTSTART:20220327T010000
END:DAYLIGHT
BEGIN:STANDARD
TZOFFSETFROM:+0100
TZOFFSETTO:+0000
TZNAME:GMT
DTSTART:20221030T010000
END:STANDARD
END:VTIMEZONE
BEGIN:VEVENT
DTSTART;VALUE=DATE:20210428
DTEND;VALUE=DATE:20210513
DTSTAMP:20260423T084518
CREATED:20210420T134523Z
LAST-MODIFIED:20210420T134523Z
UID:3511-1619568000-1620863999@www.rednoteensemble.com
SUMMARY:The Engaged Composer: Open Sessions
DESCRIPTION:sound and Red Note Ensemble present 3 open zoom sessions for emerging composers interested in learning more about how to inspire and work effectively with community groups. In each session\, two experienced composers/animators will talk about a project they have led\, highlighting different key relevant skills\, and exploring co-creation where relevant. \nThese will take place from 5-6.30pm on three Wednesdays: 28th April\, 5th and 12th May. \nThese sessions are free and open to anyone who would like to take part. \nTo register\, please click the link(s) below. \n\n28th April: Judith Weir and Pippa Murphy\n\nRegister in advance for this meeting: https://us02web.zoom.us/meeting/register/tZApceqrrjIqHdwnYpm3u0ghe9Vt2W52SK9L \n\n5th May: Brian Irvine and Paul Rissmann\n\nRegister in advance for this meeting: https://us02web.zoom.us/meeting/register/tZUqde-vpjwuGtVpGnKmSchITJ_cUqO_8KPx \n\n12th May: Gareth Williams and Pete Sparkes\n\nRegister in advance for this meeting: https://us02web.zoom.us/meeting/register/tZ0tf-ihqz4uH9P3lOXaSg9pRh_KQU0Lb8-H \n  \nThis is part of sound’s soundcreators programme supported by PRSF talent development\, Creative Scotland\, Aberdeen City Council\, Idlewild Trust\, Hugh Fraser Foundation and Leche Trust.
URL:https://www.rednoteensemble.com/event/engaged-composer-open-sessions/
CATEGORIES:Creative Learning
ATTACH;FMTTYPE=image/png:https://www.rednoteensemble.com/wp-content/uploads/2021/04/TheEngagedComposer-Visual-Workshops.png
END:VEVENT
BEGIN:VEVENT
DTSTART;VALUE=DATE:20210503
DTEND;VALUE=DATE:20210506
DTSTAMP:20260423T084518
CREATED:20210310T123724Z
LAST-MODIFIED:20210310T123800Z
UID:3464-1620000000-1620259199@www.rednoteensemble.com
SUMMARY:Red Note at PLUG 2021
DESCRIPTION:PLUG is the Royal Conservatoire of Scotland’s festival of contemporary music\, all about showcasing original compositions by the students. As Contemporary Ensemble in Residence\, Red Note will be playing and recording new works by five student composers. \nUnfortunately this year we are not able to share these with an audience\, but we look forward to working with the RCS composers and conductors to bring them to life: \nErin Thomson\nCallum Huseyin\nGabriel Stenborg\nEvan Bailey\nEllie Cherry
URL:https://www.rednoteensemble.com/event/plug-2021/
LOCATION:Royal Conservatoire of Scotland\, Glasgow\, United Kingdom
CATEGORIES:Creative Learning
ATTACH;FMTTYPE=image/jpeg:https://www.rednoteensemble.com/wp-content/uploads/2019/05/MusicLab-RCS-e1615379219550.jpg
END:VEVENT
BEGIN:VEVENT
DTSTART;VALUE=DATE:20210521
DTEND;VALUE=DATE:20210522
DTSTAMP:20260423T084518
CREATED:20210330T112410Z
LAST-MODIFIED:20210525T140132Z
UID:3498-1621555200-1621641599@www.rednoteensemble.com
SUMMARY:Noisy Nights at sound - Call for Scores - NOW CLOSED
DESCRIPTION:On this occasion we have partnered with sound\, following the success and learnings from the Neurotribes conference\, to showcase the talent of neurodiverse composers\, supporting greater inclusion in contemporary classical music. \nWe are hoping to share the selected works live streamed or with a social distanced audience at a concert in Aberdeen on Sunday 13th June. \nCall for Scores  \nAre you an emerging or amateur neurodiverse composer (18+ years old) interested in writing for Red Note?\nThen this call is for you. \n\nMaximum length 5 minutes;\nInstrumentation is Clarinet\, Violin\, Viola and Cello;\nOnly new works composed for this call;\nDeadline 21st May (5PM – UK time)\n\nPlease note the scores should not include electronics or any pre-recorded parts\, and take into account that concerts are rehearsed and performed in a short timeframe. \nFull score and parts in PDF format to be submitted online via Google forms (click here) or via email to katja@rednoteensemble.com by 5pm (UK time) on Friday 21st May. Please include full name and contact in your submission email. Late submissions will not be accepted. \nA maximum of 5 pieces will be selected by a panel of musicians and composers from Red Note and sound. All submissions will receive feedback from our panel if requested. Selected composers will be notified on the 31stMay and invited to join the rehearsals over zoom on the 9th June. \nIf you have any questions or access requirements\, please contact Katja on katja@rednoteensemble.com. She will be your point of contact if you need help or advice. \nHappy composing! \nRed Note and sound are PRS Foundation Talent Development Partners.
URL:https://www.rednoteensemble.com/event/noisy-nights-sound-call-scores/
CATEGORIES:Calls for Scores
ATTACH;FMTTYPE=image/png:https://www.rednoteensemble.com/wp-content/uploads/2021/03/NN-June2021-Call-Web-2.png
END:VEVENT
BEGIN:VEVENT
DTSTART;VALUE=DATE:20210523
DTEND;VALUE=DATE:20210524
DTSTAMP:20260423T084518
CREATED:20210429T152225Z
LAST-MODIFIED:20210524T104356Z
UID:3521-1621728000-1621814399@www.rednoteensemble.com
SUMMARY:Arts Administration Trainee - Easterhouse - NOW CLOSED
DESCRIPTION:We are looking for an Arts Administration trainee to support the administration and management of Red Note’s music-and-drama project A Child’s Guide to Anarchy (working title). \nThis is a part-time\, 12-month trainee position for a member of the Easterhouse community to work with Red Note Ensemble to assist in the delivery of the project for the period June 2021 – May 2022.  \nSupported by the Red Note production team and using the appointee’s knowledge of their own community to support the project\, this position will focus on the successful candidate working with Red Note Ensemble to deliver this community-based music-and-drama project\, whilst receiving training and gaining valuable skills and experience in administering youth music activities. \nHours of work:                                  8 hours a week \nSalary:                                                £4\,343 p.a. (£19\,000 per year full time equivalent) \nPeriod of contract:                           12 months\, starting between 22nd and 28th June 2021 depending on availability \nKey Dates: \n\nDEADLINE EXTENDED for application: Sunday 23rd May 2021\, 12 noon\nNotification of interviews: Friday 28th May 2021\nInterviews: Wednesday 2nd June and Thursday 3rd June 2021\n\nHow to apply \nDownload the JOB PACK and the FAQ document for full information on how to apply. \nAccess to the online form link for your application can be found HERE. \nPlease CLICK HERE to download the monitoring form. Once completed\, please send it by email to admin@rednoteensemble.com \nSupport with making your application \nBefore you make an application there is also an opportunity to attend a webinar with John Harris (Chief Executive) and Louise Martin (Director of Access\, Engagement and Participation) to learn more about the position\, what we are looking for from the successful applicant\, and discuss any questions you may have. \nTo sign up please click on the date that suits you best: \n\nWednesday 5th May 2021 from 15.30-16.30pm\nThursday 13th May 2021 from 10.30-11.30pm\n\nIf you have any additional questions not covered in the FAQ document\, if you have technical difficulties or you have any access requirements that we can support you with in the application process\, you can arrange a time to speak with one of our team who is not involved in the recruitment process. Please fill in this form (CLICK HERE) with your name\, email\, phone number\, indicate what you would like to talk about and select a suitable time on the days indicated.
URL:https://www.rednoteensemble.com/event/administration-trainee-easterhouse/
CATEGORIES:Creative Learning
ATTACH;FMTTYPE=image/jpeg:https://www.rednoteensemble.com/wp-content/uploads/2017/10/Were-Hiring.jpg
END:VEVENT
BEGIN:VEVENT
DTSTART;VALUE=DATE:20210524
DTEND;VALUE=DATE:20210529
DTSTAMP:20260423T084518
CREATED:20201026T165240Z
LAST-MODIFIED:20210524T124856Z
UID:3372-1621814400-1622246399@www.rednoteensemble.com
SUMMARY:Leverhulme Conducting Workshops - May 2021
DESCRIPTION:Red Note players will be working with students and Leverhulme Fellows from the Royal Conservatoire of Scotland as part of our work as Contemporary Ensemble-in-Residence.  \nArnold Schönberg\, Pierrot Lunaire\nJohn Adams\, Shaker Loops
URL:https://www.rednoteensemble.com/event/leverhulme-conducting-workshops/
LOCATION:Maryhill Burgh Halls\, 10-24 Gairbraid Avenue\, Glasgow\, G20 8YE
CATEGORIES:Creative Learning
ATTACH;FMTTYPE=image/jpeg:https://www.rednoteensemble.com/wp-content/uploads/2018/11/rcs.jpg
END:VEVENT
BEGIN:VEVENT
DTSTART;VALUE=DATE:20210528
DTEND;VALUE=DATE:20210529
DTSTAMP:20260423T084518
CREATED:20210512T135509Z
LAST-MODIFIED:20210531T144955Z
UID:3544-1622160000-1622246399@www.rednoteensemble.com
SUMMARY:NOW CLOSED: Administration and Communication Coordinator
DESCRIPTION:The Arts Administration and Communication Coordinator role sits at the heart of the organisation and requires a positive attitude towards problem-solving and great attention to detail. Red Note is a small\, hard-working team and we are looking for someone with a warm and supportive personality who has the initiative to work independently\, is well-focused and has the energy to adapt to new situations. \nThe role offers insight into key areas of a cultural organisation and will give the post holder opportunities to learn and develop skills and gain experience in areas they are not yet familiar with. \nIdeally the successful candidate has some experience in one or several of the key responsibilities. Relevant training will be offered alongside the full support and assistance of the Red Note team\, although candidates who show initiative and pro-activity will be preferred. \nHours of work:                                  26 hours a week \nSalary:                                                £15\,000 p.a. (£20\,000 per year full time equivalent) \nPeriod of contract:                           12 months\, starting between 2nd and 16th July 2021 depending on availability \nKey Dates: \n\nDeadline for application: Friday 28th May 2021\, 12 noon\nNotification of interviews: Thursday 10th June 2021\nInterviews: Tuesday 15th and Wednesday 16th June 2021\n\nHow to apply \nDownload the JOB PACK and the FAQ document for full information on how to apply.
URL:https://www.rednoteensemble.com/event/administration-communication-coordinator/
CATEGORIES:Other Events
ATTACH;FMTTYPE=image/jpeg:https://www.rednoteensemble.com/wp-content/uploads/2017/10/Were-Hiring.jpg
END:VEVENT
END:VCALENDAR