BEGIN:VCALENDAR
VERSION:2.0
PRODID:-//Red Note  - ECPv6.15.18//NONSGML v1.0//EN
CALSCALE:GREGORIAN
METHOD:PUBLISH
X-WR-CALNAME:Red Note 
X-ORIGINAL-URL:https://www.rednoteensemble.com
X-WR-CALDESC:Events for Red Note 
REFRESH-INTERVAL;VALUE=DURATION:PT1H
X-Robots-Tag:noindex
X-PUBLISHED-TTL:PT1H
BEGIN:VTIMEZONE
TZID:Europe/London
BEGIN:DAYLIGHT
TZOFFSETFROM:+0000
TZOFFSETTO:+0100
TZNAME:BST
DTSTART:20190331T010000
END:DAYLIGHT
BEGIN:STANDARD
TZOFFSETFROM:+0100
TZOFFSETTO:+0000
TZNAME:GMT
DTSTART:20191027T010000
END:STANDARD
BEGIN:DAYLIGHT
TZOFFSETFROM:+0000
TZOFFSETTO:+0100
TZNAME:BST
DTSTART:20200329T010000
END:DAYLIGHT
BEGIN:STANDARD
TZOFFSETFROM:+0100
TZOFFSETTO:+0000
TZNAME:GMT
DTSTART:20201025T010000
END:STANDARD
BEGIN:DAYLIGHT
TZOFFSETFROM:+0000
TZOFFSETTO:+0100
TZNAME:BST
DTSTART:20210328T010000
END:DAYLIGHT
BEGIN:STANDARD
TZOFFSETFROM:+0100
TZOFFSETTO:+0000
TZNAME:GMT
DTSTART:20211031T010000
END:STANDARD
END:VTIMEZONE
BEGIN:VEVENT
DTSTART;TZID=Europe/London:20201218T180000
DTEND;TZID=Europe/London:20201218T190000
DTSTAMP:20260423T161509
CREATED:20201201T130320Z
LAST-MODIFIED:20210315T170007Z
UID:3393-1608314400-1608318000@www.rednoteensemble.com
SUMMARY:Noisy Nights Hybrid - 2nd Edition
DESCRIPTION:To wrap up the year\, Noisy Nights come back for another hybrid edition with these outstanding musicians: \n\nTom Hunter – Marimba\,\nGreg Lawson – Violin\,\nRobert Irvine – Cello.\n\nIn this second Noisy Nights Hybrid we are showcasing the talent of emerging\, amateur and student composers:\n \nColin Johnson Juxtapositions\n\nYaz Lancaster Firn\nFlorence Anna Maunders Khashab Mahtam\nDan Nolan Unstable Cycles\nGabriel Stenborg Persistensia\n \nTune in to the concert on our YouTube channel on Friday 18th December at 6PM and join us in waving goodbye to 2020 with some of the best new examples of contemporary classical music.\n \nShare and engage on Facebook\, Twitter and Instagram using #NoisyNights\n \nIf you enjoy this and are in a position to do so\, we hope you will consider making a donation to Help Musicians’ Coronavirus Financial Hardship Fund: https://www.helpmusicians.org.uk/support-our-work/make-a-donation Thank you!\n \nRed Note is a PRS Foundation Talent Development Partner.
URL:https://www.rednoteensemble.com/event/noisy-nights-hybrid-2/
CATEGORIES:Noisy Nights
ATTACH;FMTTYPE=image/png:https://www.rednoteensemble.com/wp-content/uploads/2020/12/Noisy-Nights-hybrid-2-web.png
END:VEVENT
BEGIN:VEVENT
DTSTART;TZID=Europe/London:20201221T080000
DTEND;TZID=Europe/London:20201221T170000
DTSTAMP:20260423T161509
CREATED:20201208T151245Z
LAST-MODIFIED:20201208T151718Z
UID:3401-1608537600-1608570000@www.rednoteensemble.com
SUMMARY:Living Wage Gift Guide 2020
DESCRIPTION:Red Note Ensemble is part of the Living Wage movement\, committed to paying our staff a wage that meets the real costs of living. \nThis Christmas you can support Living Wage accredited employers across the UK.  Give your loved ones the gift that keeps on giving this Christmas with the Living Wage Gift Guide! \nRed Note offers you a selection of  the best contemporary music to enjoy at home: \nEddie McGuire Entangled Fortunes \nKuljit Bhamra Reels to Ragas \nJohn McLeod Moments in Time \nThe Cellist of Sarajevo: Chamber Music by David Wilde \nLyell Cresswell Music For String Quartet \nEach CD £10 plus postage costs – email admin@rednoteensemble.com with the subject “Living Wage Gift CD” detailing your order* and the delivery address (UK only)\, we will get back to you with PayPal payment details. \n*Last orders accepted on the 21st December 5pm (GMT).
URL:https://www.rednoteensemble.com/event/living-wage-gift-guide-2020/
CATEGORIES:Other Events
ATTACH;FMTTYPE=image/png:https://www.rednoteensemble.com/wp-content/uploads/2020/12/Living-wage-guide-web.png
END:VEVENT
BEGIN:VEVENT
DTSTART;VALUE=DATE:20201231
DTEND;VALUE=DATE:20210101
DTSTAMP:20260423T161509
CREATED:20200813T121253Z
LAST-MODIFIED:20200813T130010Z
UID:3305-1609372800-1609459199@www.rednoteensemble.com
SUMMARY:Digital Engagement Survey
DESCRIPTION:Since lockdown began we have embarked in an exciting digital journey\, with Digital Noisy Nights and Fridays@3\, which has enabled us to stay connected with our new music community at home and abroad\, and even welcome new members! \nWe’d love to know more about your experience and your engagement with our digital content\, to help us plan our way forward. \nPlease send us your feedback by filling in this very short survey – it only takes 5 minutes. \nThank you very much for your time.
URL:https://www.rednoteensemble.com/event/digital-engagement-survey/
CATEGORIES:Other Events
ATTACH;FMTTYPE=image/png:https://www.rednoteensemble.com/wp-content/uploads/2020/08/Copy-of-Copy-of-Feedback-digital-survey.png
END:VEVENT
END:VCALENDAR