BEGIN:VCALENDAR
VERSION:2.0
PRODID:-//Red Note  - ECPv6.15.18//NONSGML v1.0//EN
CALSCALE:GREGORIAN
METHOD:PUBLISH
X-WR-CALNAME:Red Note 
X-ORIGINAL-URL:https://www.rednoteensemble.com
X-WR-CALDESC:Events for Red Note 
REFRESH-INTERVAL;VALUE=DURATION:PT1H
X-Robots-Tag:noindex
X-PUBLISHED-TTL:PT1H
BEGIN:VTIMEZONE
TZID:Europe/London
BEGIN:DAYLIGHT
TZOFFSETFROM:+0000
TZOFFSETTO:+0100
TZNAME:BST
DTSTART:20190331T010000
END:DAYLIGHT
BEGIN:STANDARD
TZOFFSETFROM:+0100
TZOFFSETTO:+0000
TZNAME:GMT
DTSTART:20191027T010000
END:STANDARD
BEGIN:DAYLIGHT
TZOFFSETFROM:+0000
TZOFFSETTO:+0100
TZNAME:BST
DTSTART:20200329T010000
END:DAYLIGHT
BEGIN:STANDARD
TZOFFSETFROM:+0100
TZOFFSETTO:+0000
TZNAME:GMT
DTSTART:20201025T010000
END:STANDARD
BEGIN:DAYLIGHT
TZOFFSETFROM:+0000
TZOFFSETTO:+0100
TZNAME:BST
DTSTART:20210328T010000
END:DAYLIGHT
BEGIN:STANDARD
TZOFFSETFROM:+0100
TZOFFSETTO:+0000
TZNAME:GMT
DTSTART:20211031T010000
END:STANDARD
END:VTIMEZONE
BEGIN:VEVENT
DTSTART;VALUE=DATE:20200325
DTEND;VALUE=DATE:20200404
DTSTAMP:20260424T042111
CREATED:20191125T134627Z
LAST-MODIFIED:20200313T160654Z
UID:2940-1585094400-1585958399@www.rednoteensemble.com
SUMMARY:Oceans Tour 2020
DESCRIPTION:Announcement: Due to the recent developments related to the Covid-19 (coronavirus) and much to our disappointment\, we have decided to cancel the upcoming Oceans Tour. This decision is in the interest of public health\, thinking of the safety and our responsibility towards our musicians\, employees and audiences.  \n\nCelebrating Scotland’s Year of Coasts and Waters\, Red Note string players Jackie Shave (violin) and Robert Irvine (cello) blend their styles with Eliza Marshall on flutes and whistles and iconic Indian tabla player/composer Kuljit Bhamra to explore the theme of ‘Oceans and Journeys’.\nThe musicians are joined by actor Crawford Logan in a concert integrating poetry and music of great power and beauty\, performing specially written works by members of the ensemble and others.\nThe ensemble will tour the Highlands and Islands in Scotland\, interleaving poetry from local and international poets celebrating and exploring the passions of the Oceans. \nThe programme will include: \nJackie Shave  ‘Sea Fever’\nKuljit Bhamra  ‘Indigo Sunrise’\nEliza Marshall  ‘Fear A’Bhàta\nRobert Irvine  ‘The Fable of the Mermaid and the Drunks’ (Neruda)\nJackie Shave  ‘Machair to Myrrh’\nIrvine/Bhamra  ‘Rhyme of the Ancient Mariner’\nMarshall  ‘Lord Franklin’s Lament’\nBhamra/Marshall  ‘Billy Bhangra’s voyage’ (drowning and reincarnation)\nPoems and text from Mackay-Brown\, Elliot\, Neruda and Scottish writers 
URL:https://www.rednoteensemble.com/event/oceans-tour-2020/
CATEGORIES:Concerts
ATTACH;FMTTYPE=image/png:https://www.rednoteensemble.com/wp-content/uploads/2019/11/Oceans-Tour-Website-cancelled.png
END:VEVENT
BEGIN:VEVENT
DTSTART;VALUE=DATE:20200403
DTEND;VALUE=DATE:20200404
DTSTAMP:20260424T042111
CREATED:20200323T144550Z
LAST-MODIFIED:20200331T104919Z
UID:3075-1585872000-1585958399@www.rednoteensemble.com
SUMMARY:Noisy Nights go Digital - Call for Composers
DESCRIPTION:Due to the coronavirus outbreak\, we have had to cancel the next Noisy Night scheduled for the Sunday 3rdMay in Glasgow. While we hope to resume normal activity after the summer and reschedule in September\, we felt we couldn’t go this long without an outlet to hear emerging new musical ideas and voices. \nSo we are glad to announce that Noisy Nights are going digital! We are planning not just one but four nights of brand new music with Red Note musicians that you can enjoy from your own home. \nHow does it work? \nIf you are a composer and interested in writing a 5min long piece for a solo instrument\, submit your name and contact email to admin [at] rednoteensemble.com by Thursday 26 March. \nOn the morning of Friday 27 March\, we will get back in touch to inform you about the instrument you have been assigned to write for from the options below. Please note this will be a random allocation. On that day\, you will also receive the link to a brief instrument demo filmed by each player outlining capabilities\, techniques\, notation\, etc. \n\nRuth Morley – Flute\,\nSasha Savaloni – Classical guitar\,\nTom Hunter – Percussion\,\nJackie Shave – Violin\,\nand Robert Irvine Cello.\n\nThen the challenge is on! You have 1 week to write your piece for that specific instrument. Please submit in pdf format by 5pm on Friday 3rd April to admin [at] rednoteensemble.com. Please note the scores should not include electronics or any pre-recorded parts. \nThe 20 compositions selected by the players will be recorded and shared on our YouTube channel on 4 separate concerts: 10 April\, 17 April\, 24 April and 1 May. \nChallenge accepted? Please help us spread the word by sharing this call with your network. Looking forward to keeping Noisy Nights alive in these times of social distancing\, connecting new music lovers online.
URL:https://www.rednoteensemble.com/event/digital-noisynights/
CATEGORIES:Noisy Nights
ATTACH;FMTTYPE=image/png:https://www.rednoteensemble.com/wp-content/uploads/2020/03/RN-EnsemblePic-Landscape-PRSFtdplogo-1.png
END:VEVENT
BEGIN:VEVENT
DTSTART;TZID=Europe/London:20200410T150000
DTEND;TZID=Europe/London:20200410T160000
DTSTAMP:20260424T042111
CREATED:20200407T101233Z
LAST-MODIFIED:20210315T171739Z
UID:3096-1586530800-1586534400@www.rednoteensemble.com
SUMMARY:Digital Noisy Nights - 1
DESCRIPTION:Red Note is embracing the digital world and providing an outlet to continue listening to emerging new musical ideas and voices. We are presenting not just one but four nights of brand new music with these exceptional Red Note musicians that you can enjoy from your own home: \n\nRuth Morley – Flute\,\nSasha Savaloni – Classical guitar\,\nTom Hunter – Percussion\,\nJackie Shave – Violin\,\nand Robert Irvine – Cello.\n\nAfter opening a challenge to composers by randomly assigning them an instrument to write a solo piece\, we are performing the 20 compositions selected by the players on our YouTube channel  (click on the link or on BUY TICKETS and you will redirected to YouTube) on four separate concerts. \nNoisy Nights – 10 April\, 3PM (BST)\nRobin Haigh Nasubi\nCharles Gaskell The Moon Reaching Down to Touch The Reflection\nAnna Claydon  Manichean\nPàdruig Morrison  Fragile Distance\nRonnie MacNiven Sentinel \nJoin us from your home to ours and connect with other new music lovers online\, as we hear some of the best examples of brand new music from new\, emerging and established composers. \nRed Note is a PRS Foundation Talent Development Partner.
URL:https://www.rednoteensemble.com/event/digital-noisy-nights-1/
CATEGORIES:Concerts
ATTACH;FMTTYPE=image/png:https://www.rednoteensemble.com/wp-content/uploads/2020/03/RN-EnsemblePic-Landscape-PRSFtdplogo-1.png
END:VEVENT
BEGIN:VEVENT
DTSTART;TZID=Europe/London:20200417T150000
DTEND;TZID=Europe/London:20200417T160000
DTSTAMP:20260424T042111
CREATED:20200407T103126Z
LAST-MODIFIED:20210315T171702Z
UID:3099-1587135600-1587139200@www.rednoteensemble.com
SUMMARY:Digital Noisy Nights - 2
DESCRIPTION:Red Note is embracing the digital world and providing an outlet to continue listening to emerging new musical ideas and voices. We are presenting not just one but four nights of brand new music with these exceptional Red Note musicians that you can enjoy from your own home: \n\nRuth Morley – Flute\,\nSasha Savaloni – Classical guitar\,\nTom Hunter – Percussion\,\nJackie Shave – Violin\,\nand Robert Irvine – Cello.\n\nAfter opening a challenge to composers by randomly assigning them an instrument to write a solo piece\, we are performing the 20 compositions selected by the players on our YouTube channel  (click on the link or on BUY TICKETS and you will redirected to YouTube) on four separate concerts. \nNoisy Nights – 17 April\, 3PM (BST)\nMichael Burslem Cello Idea\nDorian Kelly Way Home\nRylan Gleave  Unpitched Skin\nGeorgina MacDonell Finlayson  This is the River\nJoshua Brown Capriccio Ricercare \nJoin us from your home to ours and connect with other new music lovers online\, as we hear some of the best examples of brand new music from new\, emerging and established composers. \nRed Note is a PRS Foundation Talent Development Partner.
URL:https://www.rednoteensemble.com/event/digital-noisy-nights-2/
CATEGORIES:Concerts
ATTACH;FMTTYPE=image/png:https://www.rednoteensemble.com/wp-content/uploads/2020/03/RN-EnsemblePic-Landscape-PRSFtdplogo-1.png
END:VEVENT
BEGIN:VEVENT
DTSTART;TZID=Europe/London:20200424T150000
DTEND;TZID=Europe/London:20200424T160000
DTSTAMP:20260424T042111
CREATED:20200407T103645Z
LAST-MODIFIED:20210315T171625Z
UID:3103-1587740400-1587744000@www.rednoteensemble.com
SUMMARY:Digital Noisy Nights - 3
DESCRIPTION:Red Note is embracing the digital world and providing an outlet to continue listening to emerging new musical ideas and voices. We are presenting not just one but four nights of brand new music with these exceptional Red Note musicians that you can enjoy from your own home: \n\nRuth Morley – Flute\,\nSasha Savaloni – Classical guitar\,\nTom Hunter – Percussion\,\nJackie Shave – Violin\,\nand Robert Irvine – Cello.\n\nAfter opening a challenge to composers by randomly assigning them an instrument to write a solo piece\, we are performing the 20 compositions selected by the players on our YouTube channel  (click on the link or on BUY TICKETS and you will redirected to YouTube) on four separate concerts. \nNoisy Nights – 24 April\, 3PM (BST)\nCarol J Jones Selkie\nFlorence Anna Maunders Black Ants/Red Ants\nStefano Paparozzi  A Chord Chart\nMauricio Cristales Armas Longing for Hope\nColin Johnson Grimpen Mire \nJoin us from your home to ours and connect with other new music lovers online\, as we hear some of the best examples of brand new music from new\, emerging and established composers. \nRed Note is a PRS Foundation Talent Development Partner.
URL:https://www.rednoteensemble.com/event/digital-noisy-nights-3/
CATEGORIES:Concerts
ATTACH;FMTTYPE=image/png:https://www.rednoteensemble.com/wp-content/uploads/2020/03/RN-EnsemblePic-Landscape-PRSFtdplogo-1.png
END:VEVENT
END:VCALENDAR