BEGIN:VCALENDAR
VERSION:2.0
PRODID:-//Red Note  - ECPv6.15.18//NONSGML v1.0//EN
CALSCALE:GREGORIAN
METHOD:PUBLISH
X-WR-CALNAME:Red Note 
X-ORIGINAL-URL:https://www.rednoteensemble.com
X-WR-CALDESC:Events for Red Note 
REFRESH-INTERVAL;VALUE=DURATION:PT1H
X-Robots-Tag:noindex
X-PUBLISHED-TTL:PT1H
BEGIN:VTIMEZONE
TZID:Europe/London
BEGIN:DAYLIGHT
TZOFFSETFROM:+0000
TZOFFSETTO:+0100
TZNAME:BST
DTSTART:20180325T010000
END:DAYLIGHT
BEGIN:STANDARD
TZOFFSETFROM:+0100
TZOFFSETTO:+0000
TZNAME:GMT
DTSTART:20181028T010000
END:STANDARD
BEGIN:DAYLIGHT
TZOFFSETFROM:+0000
TZOFFSETTO:+0100
TZNAME:BST
DTSTART:20190331T010000
END:DAYLIGHT
BEGIN:STANDARD
TZOFFSETFROM:+0100
TZOFFSETTO:+0000
TZNAME:GMT
DTSTART:20191027T010000
END:STANDARD
BEGIN:DAYLIGHT
TZOFFSETFROM:+0000
TZOFFSETTO:+0100
TZNAME:BST
DTSTART:20200329T010000
END:DAYLIGHT
BEGIN:STANDARD
TZOFFSETFROM:+0100
TZOFFSETTO:+0000
TZNAME:GMT
DTSTART:20201025T010000
END:STANDARD
END:VTIMEZONE
BEGIN:VTIMEZONE
TZID:Europe/Oslo
BEGIN:DAYLIGHT
TZOFFSETFROM:+0100
TZOFFSETTO:+0200
TZNAME:CEST
DTSTART:20180325T010000
END:DAYLIGHT
BEGIN:STANDARD
TZOFFSETFROM:+0200
TZOFFSETTO:+0100
TZNAME:CET
DTSTART:20181028T010000
END:STANDARD
BEGIN:DAYLIGHT
TZOFFSETFROM:+0100
TZOFFSETTO:+0200
TZNAME:CEST
DTSTART:20190331T010000
END:DAYLIGHT
BEGIN:STANDARD
TZOFFSETFROM:+0200
TZOFFSETTO:+0100
TZNAME:CET
DTSTART:20191027T010000
END:STANDARD
BEGIN:DAYLIGHT
TZOFFSETFROM:+0100
TZOFFSETTO:+0200
TZNAME:CEST
DTSTART:20200329T010000
END:DAYLIGHT
BEGIN:STANDARD
TZOFFSETFROM:+0200
TZOFFSETTO:+0100
TZNAME:CET
DTSTART:20201025T010000
END:STANDARD
END:VTIMEZONE
BEGIN:VEVENT
DTSTART;VALUE=DATE:20190906
DTEND;VALUE=DATE:20190908
DTSTAMP:20260424T143229
CREATED:20190717T111953Z
LAST-MODIFIED:20190717T112128Z
UID:2851-1567728000-1567900799@www.rednoteensemble.com
SUMMARY:Residential Weekend with Scottish-based composers
DESCRIPTION:Five composers will have the opportunity to develop works of approximately 5 minutes for oboe and cello over a residential weekend with the support of musicians from Red Note Ensemble and the mentorship of composer Bill Sweeney.\nThe new works will then be performed during the 2019 soundfestival.
URL:https://www.rednoteensemble.com/event/residential-weekend-with-scottish-based-composers/
LOCATION:Phoenix Centre\, Newton Dee Village\, Bieldside\, Aberdeen\, AB15 9DX\, United Kingdom
CATEGORIES:Creative Learning
ATTACH;FMTTYPE=image/jpeg:https://www.rednoteensemble.com/wp-content/uploads/2019/07/41594625_10156610882089868_5200006098853036032_n.jpg
END:VEVENT
BEGIN:VEVENT
DTSTART;TZID=Europe/Oslo:20190914T150000
DTEND;TZID=Europe/Oslo:20190914T170000
DTSTAMP:20260424T143229
CREATED:20190502T105253Z
LAST-MODIFIED:20190502T105253Z
UID:2724-1568473200-1568480400@www.rednoteensemble.com
SUMMARY:Aeolian at Ultima Festival (Oslo)
DESCRIPTION:Once again we join Norwegian composer Maja S. K. Ratkje\, UK installation artist Kathy Hinde and Danish accordionist Andreas Borregaard for Aeolian\, performing at Ultima Festival in Oslo.\nThis collaboration is a deeply-integrated new work\, combining newly-designed air-powered instruments with live musicians to create a new part-performance\, part kinetic-sculptural work. \nThere will be two performances and after each concert the wind instruments can be experienced as an installation. \nCommissioned by Red Note and produced by hcmf// and Red Note Ensemble.
URL:https://www.rednoteensemble.com/event/aeolian-at-ultima-festival-oslo/
LOCATION:Sentralen Oslo\, Øvre Slottsgate\, Oslo\, 0157\, Norway
CATEGORIES:Concerts
ATTACH;FMTTYPE=image/jpeg:https://www.rednoteensemble.com/wp-content/uploads/2018/10/Aeolian_promoshot_edit2-e1539012258155.jpg
END:VEVENT
BEGIN:VEVENT
DTSTART;TZID=Europe/London:20190918T150000
DTEND;TZID=Europe/London:20190918T170000
DTSTAMP:20260424T143229
CREATED:20190605T110836Z
LAST-MODIFIED:20190913T084247Z
UID:2823-1568818800-1568826000@www.rednoteensemble.com
SUMMARY:Red Note at Lammermuir Festival 2019
DESCRIPTION:Red Note are delighted to be part of the Lammermuir programme with the talented young musicians of Red Note Advanced Academy\, playing new commissions from Academy members drawn from major European conservatoires\, plus works by two major British composers. \nOliver Knussen Coursing\nPeter Maxwell Davies Crossing King’s Reach  \nNew works by Red Note Academy composers: \n\nMatei Gheorghiu Nocturne\nRufus Isabel Elliot Strip/ling\nRodrigo G. Bacelar Saturn’s 16th\n\nRed Note Ensemble and Red Note Advanced Academy\nSimon Proust Conductor
URL:https://www.rednoteensemble.com/event/red-note-at-lammermuir-festival-2019/
LOCATION:Ormiston Church\, Ormiston Parish Church\, Ormiston\, EH35 5HT\, United Kingdom
CATEGORIES:Concerts
ATTACH;FMTTYPE=image/jpeg:https://www.rednoteensemble.com/wp-content/uploads/2018/11/WC4-1.jpg
END:VEVENT
BEGIN:VEVENT
DTSTART;TZID=Europe/London:20190922T150000
DTEND;TZID=Europe/London:20190922T180000
DTSTAMP:20260424T143229
CREATED:20190605T113147Z
LAST-MODIFIED:20190605T113147Z
UID:2832-1569164400-1569175200@www.rednoteensemble.com
SUMMARY:Aeolian at Lammermuir Festival
DESCRIPTION:Aeolian\, by Norwegian composer Maja S K Ratkje\, artist Kathy Hinde and Danish accordionist Andreas Borregaard\, combines newly-designed air-powered instruments with live musicians to create a new part performance\, part kinetic-sculptural work. Inspired by the ‘breath’ of the accordion\, Aeolian places Borregaard and his instrument at the centre of the work\, both physically and musically. \nAutonomous air-activated instruments form a sculptural installation whose sound blends with Red Note’s conventional instruments to create an extraordinary sonic experience in an extraordinary building – East Linton’s historic\, beautifully restored\, hexagonal Mart. \nThere will be three performances at 3pm\, 4pm & 5pm
URL:https://www.rednoteensemble.com/event/aeolian-at-lammermuir-festival/
LOCATION:The Mart\, East Linton\, EH40 3DN\, United Kingdom
CATEGORIES:Concerts
ATTACH;FMTTYPE=image/jpeg:https://www.rednoteensemble.com/wp-content/uploads/2019/06/BandontheBuck2.jpg
END:VEVENT
END:VCALENDAR