BEGIN:VCALENDAR
VERSION:2.0
PRODID:-//Red Note  - ECPv6.15.18//NONSGML v1.0//EN
CALSCALE:GREGORIAN
METHOD:PUBLISH
X-ORIGINAL-URL:https://www.rednoteensemble.com
X-WR-CALDESC:Events for Red Note 
REFRESH-INTERVAL;VALUE=DURATION:PT1H
X-Robots-Tag:noindex
X-PUBLISHED-TTL:PT1H
BEGIN:VTIMEZONE
TZID:Europe/London
BEGIN:DAYLIGHT
TZOFFSETFROM:+0000
TZOFFSETTO:+0100
TZNAME:BST
DTSTART:20160327T010000
END:DAYLIGHT
BEGIN:STANDARD
TZOFFSETFROM:+0100
TZOFFSETTO:+0000
TZNAME:GMT
DTSTART:20161030T010000
END:STANDARD
BEGIN:DAYLIGHT
TZOFFSETFROM:+0000
TZOFFSETTO:+0100
TZNAME:BST
DTSTART:20170326T010000
END:DAYLIGHT
BEGIN:STANDARD
TZOFFSETFROM:+0100
TZOFFSETTO:+0000
TZNAME:GMT
DTSTART:20171029T010000
END:STANDARD
BEGIN:DAYLIGHT
TZOFFSETFROM:+0000
TZOFFSETTO:+0100
TZNAME:BST
DTSTART:20180325T010000
END:DAYLIGHT
BEGIN:STANDARD
TZOFFSETFROM:+0100
TZOFFSETTO:+0000
TZNAME:GMT
DTSTART:20181028T010000
END:STANDARD
END:VTIMEZONE
BEGIN:VEVENT
DTSTART;TZID=Europe/London:20171015T110000
DTEND;TZID=Europe/London:20171017T190000
DTSTAMP:20260426T011849
CREATED:20170928T134000Z
LAST-MODIFIED:20170928T134735Z
UID:2135-1508065200-1508266800@www.rednoteensemble.com
SUMMARY:Go Compose! at soundfestival
DESCRIPTION:It’s a unique opportunity to work with professional composers John De Simone and Eleanor Alberga and musicians from Red Note Ensemble: Robert Irvine\, Jackie Shave and Ruth Morley. Students will create their own original piece of music which will be performed and recorded on 17 October.  \nTIMETABLE\nSun 15 Oct 11am-6.30pm (followed by Tasmin Little (violin) concert at The Barn\, 7pm)\nMon 16 Oct 10am-5pm\nTue 17 Oct 10am-5pm with a performance at 6pm
URL:https://www.rednoteensemble.com/event/go-compose-soundfestival/
LOCATION:Woodend Barn\, Burn O’ Bennie\, Banchory\, AB31 5QA\, United Kingdom
CATEGORIES:Creative Learning
ATTACH;FMTTYPE=image/jpeg:https://www.rednoteensemble.com/wp-content/uploads/2017/09/Go-Compose.jpg
END:VEVENT
BEGIN:VEVENT
DTSTART;TZID=Europe/London:20171017T180000
DTEND;TZID=Europe/London:20171017T190000
DTSTAMP:20260426T011849
CREATED:20170928T134659Z
LAST-MODIFIED:20170928T134659Z
UID:2138-1508263200-1508266800@www.rednoteensemble.com
SUMMARY:Go Compose! concert at soundfestival
DESCRIPTION:Following a 3 day workshop with professional composers John De Simone and Eleanor Alberga and musicians from Red Note Ensemble\, students original piece of music is performed and recorded on 17 October at The Woodend Barn\, Banchory.  \nThis is a free concert open to the public. \nGo Compose! is supported by D’Oyly Carte Charitable Trust\, David and June Gordon Memorial Trust and Aberdeen Endowments Trust.
URL:https://www.rednoteensemble.com/event/go-compose-concert-at-soundfestival/
LOCATION:Woodend Barn\, Burn O’ Bennie\, Banchory\, AB31 5QA\, United Kingdom
CATEGORIES:Concerts
ATTACH;FMTTYPE=image/jpeg:https://www.rednoteensemble.com/wp-content/uploads/2014/06/gallery_home1.jpg
END:VEVENT
END:VCALENDAR