BEGIN:VCALENDAR
VERSION:2.0
PRODID:-//Red Note  - ECPv6.15.18//NONSGML v1.0//EN
CALSCALE:GREGORIAN
METHOD:PUBLISH
X-WR-CALNAME:Red Note 
X-ORIGINAL-URL:https://www.rednoteensemble.com
X-WR-CALDESC:Events for Red Note 
REFRESH-INTERVAL;VALUE=DURATION:PT1H
X-Robots-Tag:noindex
X-PUBLISHED-TTL:PT1H
BEGIN:VTIMEZONE
TZID:Europe/London
BEGIN:DAYLIGHT
TZOFFSETFROM:+0000
TZOFFSETTO:+0100
TZNAME:BST
DTSTART:20160327T010000
END:DAYLIGHT
BEGIN:STANDARD
TZOFFSETFROM:+0100
TZOFFSETTO:+0000
TZNAME:GMT
DTSTART:20161030T010000
END:STANDARD
BEGIN:DAYLIGHT
TZOFFSETFROM:+0000
TZOFFSETTO:+0100
TZNAME:BST
DTSTART:20170326T010000
END:DAYLIGHT
BEGIN:STANDARD
TZOFFSETFROM:+0100
TZOFFSETTO:+0000
TZNAME:GMT
DTSTART:20171029T010000
END:STANDARD
BEGIN:DAYLIGHT
TZOFFSETFROM:+0000
TZOFFSETTO:+0100
TZNAME:BST
DTSTART:20180325T010000
END:DAYLIGHT
BEGIN:STANDARD
TZOFFSETFROM:+0100
TZOFFSETTO:+0000
TZNAME:GMT
DTSTART:20181028T010000
END:STANDARD
END:VTIMEZONE
BEGIN:VEVENT
DTSTART;TZID=Europe/London:20170907T090000
DTEND;TZID=Europe/London:20170908T170000
DTSTAMP:20260426T025104
CREATED:20170821T101440Z
LAST-MODIFIED:20170821T101440Z
UID:2118-1504774800-1504890000@www.rednoteensemble.com
SUMMARY:Scottish Association for Music Education
DESCRIPTION:On Thursday 7th and Friday 8th September\, Red Note Director of Access\, Engagement and Participation\, Louise Martin\, presents New Music Makers at Scottish Association for Music Education. \nLaunched in 2013\, New Music Makers (NMM) supports the development of young composers in schools across Scotland. Designed to inspire and assist composing\, NMM demonstrates how a professional ensemble working in partnership with a school can create a genuine practical legacy\, enabling the school to take the work forward independently. NMM is an external opportunity taken up at the discretion of the school\, however supported by the relevant local authority. Both teachers and pupils have given very positive feedback: \nAli Preston (at time of her involvement with NMM was PT Music at Woodfarm High School; she is now PT Performing Arts at King’s Park Secondary School)\n“I just wanted to thank you and the team so much for the delivery of the composing project over the last month at Woodfarm. The pupils have benefited so much from working with Matt and the musicians. Each one of the team had a fantastic approach towards the young people and really encouraged and motivated them in their compositions. Speaking on behalf of the staff\, we all have learnt so much which we are already carrying forwards as we work with younger pupils in the classes too.” \nAnnon. Barrhead High School (pupils submit feedback anonymously)\n“I really enjoyed taking part with Red Note. And although frustrating at times it was quite fun composing my own music. Interesting. Inspiring. Proud of my piece.”
URL:https://www.rednoteensemble.com/event/scottish-association-for-music-education/
CATEGORIES:Other Events
ATTACH;FMTTYPE=image/jpeg:https://www.rednoteensemble.com/wp-content/uploads/2017/03/Lochend-New-Music-Makers.jpg
END:VEVENT
BEGIN:VEVENT
DTSTART;TZID=Europe/London:20170922T120000
DTEND;TZID=Europe/London:20170922T124500
DTSTAMP:20260426T025104
CREATED:20170612T133848Z
LAST-MODIFIED:20170803T065220Z
UID:2048-1506081600-1506084300@www.rednoteensemble.com
SUMMARY:Red Note at Tyninghame part of Lammermuir Festival
DESCRIPTION:Here\, with members of the Red Note Advanced Academy (advanced students from the conservatoires of Paris\, Helsinki\, Oslo and from the Royal Conservatoire of Scotland)\, we present a pair of events in venues new to the festival. \nRed Note at Tyninghame is a lunch-time taster concert of contemporary sounds which acts as an upbeat to the afternoon performances. \nThomas Butler introduces his new commission. \nLunch is available at the end of the concert from Tyninghame Tea Room. \nKindly supported by the French Institute for Scotland. \n 
URL:https://www.rednoteensemble.com/event/red-note-at-tyninghame-part-of-lammermuir-festival/
LOCATION:Tyninghame Village Hall\, Tyninghame\, Dunbar\, EH42 1XL
CATEGORIES:Concerts
ATTACH;FMTTYPE=image/jpeg:https://www.rednoteensemble.com/wp-content/uploads/2017/06/Tyninghame-Village-Hall.jpg
END:VEVENT
BEGIN:VEVENT
DTSTART;TZID=Europe/London:20170922T143000
DTEND;TZID=Europe/London:20170922T171500
DTSTAMP:20260426T025104
CREATED:20170612T135849Z
LAST-MODIFIED:20170803T065744Z
UID:2053-1506090600-1506100500@www.rednoteensemble.com
SUMMARY:Red Note at The Granary part of Lammermuir Festival
DESCRIPTION:Red Note Ensemble and Red Note Advanced Academy inaugurate it with two highly dramatic pieces by one of Britain’s most original composers. \nThe 1928 silent film The Life and Death of 9413 is a pioneering work of avant-garde cinema for which David Sawer has composed a wonderfully atmospheric score. The Lighthouse Keepers is a terrifying story of a keeper and his son trapped in their lighthouse\, portrayed in the manner of a radio play for two actors with highly-coloured and tension-filled music. \nAlso featuring a new work by Thomas Butler (commissioned by Red Note Ensemble). \nPlease note there are two afternoon concerts 2.30pm and 4.15pm lasting approx. 1 hour. \nKindly supported by the French Institute for Scotland.
URL:https://www.rednoteensemble.com/event/red-note-at-the-granary-part-of-lammermuir-festival/
LOCATION:The Granary\, Eastfield Farm\, Whittingehame\, East Lothian
CATEGORIES:Concerts
ATTACH;FMTTYPE=image/jpeg:https://www.rednoteensemble.com/wp-content/uploads/2017/06/2017-16-red-note-the-granary.jpg
END:VEVENT
END:VCALENDAR