BEGIN:VCALENDAR
VERSION:2.0
PRODID:-//Red Note  - ECPv6.15.18//NONSGML v1.0//EN
CALSCALE:GREGORIAN
METHOD:PUBLISH
X-ORIGINAL-URL:https://www.rednoteensemble.com
X-WR-CALDESC:Events for Red Note 
REFRESH-INTERVAL;VALUE=DURATION:PT1H
X-Robots-Tag:noindex
X-PUBLISHED-TTL:PT1H
BEGIN:VTIMEZONE
TZID:Europe/London
BEGIN:DAYLIGHT
TZOFFSETFROM:+0000
TZOFFSETTO:+0100
TZNAME:BST
DTSTART:20250330T010000
END:DAYLIGHT
BEGIN:STANDARD
TZOFFSETFROM:+0100
TZOFFSETTO:+0000
TZNAME:GMT
DTSTART:20251026T010000
END:STANDARD
BEGIN:DAYLIGHT
TZOFFSETFROM:+0000
TZOFFSETTO:+0100
TZNAME:BST
DTSTART:20260329T010000
END:DAYLIGHT
BEGIN:STANDARD
TZOFFSETFROM:+0100
TZOFFSETTO:+0000
TZNAME:GMT
DTSTART:20261025T010000
END:STANDARD
BEGIN:DAYLIGHT
TZOFFSETFROM:+0000
TZOFFSETTO:+0100
TZNAME:BST
DTSTART:20270328T010000
END:DAYLIGHT
BEGIN:STANDARD
TZOFFSETFROM:+0100
TZOFFSETTO:+0000
TZNAME:GMT
DTSTART:20271031T010000
END:STANDARD
END:VTIMEZONE
BEGIN:VEVENT
DTSTART;TZID=Europe/London:20260315T170000
DTEND;TZID=Europe/London:20260315T180000
DTSTAMP:20260421T051656
CREATED:20260211T160745Z
LAST-MODIFIED:20260212T124746Z
UID:6009-1773594000-1773597600@www.rednoteensemble.com
SUMMARY:Red Note Factory (Devising) Weekend Concert
DESCRIPTION:Red Note Factory participants present solos and a new small-ensemble work devised with Laura Bowler and Ruth Morley. \nExpect experiments\, surprises and first-time performance. \nFREE but booking required!\nSunday 15th March 2026\, 5pm\nMcLeod Hall\, Pearce Institute\, Glasgow \nRed Note is a PRS Foundation Talent Development Network Partner supported by PPL. \n 
URL:https://www.rednoteensemble.com/event/red-note-factory-devising-weekend-concert/
LOCATION:The Pearce Institute\, 840-860 Govan Road\, Glasgow\, G51 3UU
CATEGORIES:Concerts
ATTACH;FMTTYPE=image/jpeg:https://www.rednoteensemble.com/wp-content/uploads/2026/02/RN-Factory.jpg
END:VEVENT
BEGIN:VEVENT
DTSTART;TZID=Europe/London:20260317T090000
DTEND;TZID=Europe/London:20260324T170000
DTSTAMP:20260421T051656
CREATED:20260316T125905Z
LAST-MODIFIED:20260316T130922Z
UID:6024-1773738000-1774371600@www.rednoteensemble.com
SUMMARY:The Big Give Match Funding
DESCRIPTION:We believe that new music belongs to everyone. \nAs dementia-informed practice grows\, many performances adapt existing work through training\, environmental adjustments and familiar repertoire. These approaches matter. But they often assume that people living with dementia can only connect with what they already know. We believe creating new work shaped by their own creativity can be just as powerful\, if not more so. \nFLOW asks a different question: what if new music belongs here too? \nOver the course of a year\, we will work with residents in Methil\, Fife and their carers to develop a new\, classical-style performance shaped by their ideas\, memories\, rhythms and responses. Workshops will test and evolve material\, allowing participants to influence the structure\, pacing and atmosphere of the piece. \nFor one week only\, every donation made through the Big Give campaign will be matched pound for pound. \nThat means your support will go twice as far in helping us deliver creative workshops\, artist development time and the creation of this new work. \nDONATE HERE\nInvest in new music that includes everyone.
URL:https://www.rednoteensemble.com/event/the-big-give-donations-now-doubled/
ATTACH;FMTTYPE=image/jpeg:https://www.rednoteensemble.com/wp-content/uploads/2026/03/BG-FLOW-WEb.jpg
END:VEVENT
BEGIN:VEVENT
DTSTART;TZID=Europe/London:20260420T130000
DTEND;TZID=Europe/London:20260420T140000
DTSTAMP:20260421T051656
CREATED:20260324T122856Z
LAST-MODIFIED:20260324T143442Z
UID:6053-1776690000-1776693600@www.rednoteensemble.com
SUMMARY:Five New Works For Classical Guitar Performed By Sasha Savaloni
DESCRIPTION:Royal Conservatoire Of Scotland & Red Note present:\nFive New Works For Classical Guitar Performed By Sasha Savaloni \nContinuing our partnership with RCS Composition\, Red Note presents an informal sharing of five new solo works for classical guitar by student composers from the Royal Conservatoire of Scotland. \nDeveloped over the past few months in collaboration with Sasha Savaloni\, these new pieces explore the creative possibilities of the instrument and will also be recorded as part of the project. \nJoin us on Monday 20 April\, 1pm at the Scottish Music Centre\, Glasgow. \nFree entry. No ticket required. \nRed Note Ensemble\nSasha Savaloni\, classical guitar
URL:https://www.rednoteensemble.com/event/rcs-red-note-present-5-new-works-performed-by-sasha-savaloni/
LOCATION:Scottish Music Centre\, 100 Candleriggs\, Glasgow\, G1 1NQ\, United Kingdom
CATEGORIES:Concerts
ATTACH;FMTTYPE=image/jpeg:https://www.rednoteensemble.com/wp-content/uploads/2026/03/RCS-Lunchtime-1440x1080-1.jpg
END:VEVENT
BEGIN:VEVENT
DTSTART;VALUE=DATE:20260527
DTEND;VALUE=DATE:20260528
DTSTAMP:20260421T051656
CREATED:20260414T094315Z
LAST-MODIFIED:20260415T105754Z
UID:6064-1779840000-1779926399@www.rednoteensemble.com
SUMMARY:Extra Musician Callout (Scottish Freelance Ensembles Network)
DESCRIPTION:Scottish Freelance Ensembles Network is a collective of professional freelance ensembles – Scottish Ensemble\, Red Note Ensemble\, Dunedin Consort\, and Hebrides Ensemble – based in Glasgow and Edinburgh. We have come together to develop a shared approach to recruitment that broadens access to opportunities within our ensembles. By working collectively\, we hope to open up clearer pathways into freelance ensemble work and support a workforce that is more representative of the breadth of musical talent working today. \nThrough our Extra Musician Callout\, we are seeking to widen our network of world-class performers\, reflect and inspire our audiences\, and champion Scottish culture\, locally and internationally. \nParticipating ensembles in this recruitment cycle are: \n\nScottish Ensemble\nRed Note Ensemble\nDunedin Consort\n\nHow to apply: \n\nComplete and submit an application form (available here)\, which asks for necessary personal details\, a link to your audition video\, and responses to the key questions outlined in the Recruitment Pack.\nRecord and submit a single-take\, audio-visual recording of up to 6 minutes for each ensemble\, in accordance with the repertoire list outlined in the application guidance.\nComplete our Equal Opportunities Monitoring Form. All data is gathered anonymously.\n\nApplications are anonymised and assessed through a fair and transparent process. \nOur commitment to access \nWe are committed to removing barriers wherever possible. Adjustments to audition formats\, rehearsal processes or performance requirements can be made to support access needs. \nDeadline for applications: 27th May 2026. All ensembles will endeavour to respond to candidates by the end of June 2026. \n\n\n\n\n\n 
URL:https://www.rednoteensemble.com/event/extra-musician-callout-scottish-freelance-ensembles-network/
CATEGORIES:Creative Learning
ATTACH;FMTTYPE=image/jpeg:https://www.rednoteensemble.com/wp-content/uploads/2026/04/Scottish-Musicians-Job-Pack_pages-to-jpg-0001-e1776250588923.jpg
END:VEVENT
BEGIN:VEVENT
DTSTART;TZID=Europe/London:20260613T125000
DTEND;TZID=Europe/London:20260613T170000
DTSTAMP:20260421T051656
CREATED:20260420T103112Z
LAST-MODIFIED:20260420T103112Z
UID:6081-1781355000-1781370000@www.rednoteensemble.com
SUMMARY:Almanac: Part 1 (Emergence)
DESCRIPTION:Almanac: Part 1 (Emergence) \n\n\n\nBoat of Garten Community Hall\, Saturday 13 June 2026 \nAlmanac is a new large-scale project by composer Thomas Butler\, commissioned by Red Note Ensemble\, using contemporary musical performance to mark events in the natural world. \nAcross four seasonal\, immersive works presented in locations throughout Scotland over 12 months\, the project brings together ensemble\, voice\, electronics and field recording to explore ecological cycles\, seasonal change\, and the disruption of natural rhythms in a time of climate crisis. \nAlmanac: Part 1 (Emergence)\nThe first chapter of Almanac focuses on the emergence of dragonflies and damselflies as they transition from water to air. This new performance combines live music with flute\, clarinet\, viola and percussion\, and field recordings to trace this moment of transformation\, shaped by ecological research and the surrounding landscape. \nEach ticket includes\n• A guided site visit to a nearby bog with an RSPB guide to observe dragonflies and damselflies (transport provided by bus)\n• A live performance of Emergence\n• A Q&A with composer Thomas Butler \n\nImportant information\n• Please note the site visit involves uneven terrain and is unfortunately not suitable for wheelchair users or those with limited mobility*\n• Please arrive at least 10 minutes in advance as transport to the site will leave sharp\n• Sturdy footwear and weather appropriate clothing is recommended\n• Each performance is limited to 20 audience members\n• Please be advised that in the event of severe weather\, the site visit may be cancelled and we will offer an indoor alternative \n*If you are unable to attend the site visit but wish to experience the performance and Q&A\, or if you have any access questions\, please contact us: admin@rednoteensemble.com \nPerformance schedule\nPlease select one of the following timed sessions when booking: \nConcert 1\nSite visit (including transport): 12:50–13:45\nPerformance + Q&A: 14:00–14:45 \nConcert 2\nSite visit (including transport): 14:00–14:55\nPerformance + Q&A: 15:10–15:55 \nConcert 3\nSite visit (including transport): 15:10–16:05\nPerformance + Q&A: 16:15–17:00 \nTickets\n£15 (£10 Concession for those under 26 years of age)\nAdvance booking required \nThe Almanac cycle is kindly supported by the Vaughan Williams Foundation. \nFor more information and tickets click HERE.
URL:https://www.rednoteensemble.com/event/almanac-part-1-emergence/
LOCATION:Boat of Garten Community Hall\, Boat of Garten Community Hall\, Boat of Garten\, PH24 3BL\, United Kingdom
CATEGORIES:Concerts
ATTACH;FMTTYPE=image/png:https://www.rednoteensemble.com/wp-content/uploads/2026/04/Almanac-1-Eventbrite-Header.png
END:VEVENT
END:VCALENDAR