BEGIN:VCALENDAR
VERSION:2.0
PRODID:-//Red Note  - ECPv6.15.18//NONSGML v1.0//EN
CALSCALE:GREGORIAN
METHOD:PUBLISH
X-WR-CALNAME:Red Note 
X-ORIGINAL-URL:https://www.rednoteensemble.com
X-WR-CALDESC:Events for Red Note 
REFRESH-INTERVAL;VALUE=DURATION:PT1H
X-Robots-Tag:noindex
X-PUBLISHED-TTL:PT1H
BEGIN:VTIMEZONE
TZID:Europe/London
BEGIN:DAYLIGHT
TZOFFSETFROM:+0000
TZOFFSETTO:+0100
TZNAME:BST
DTSTART:20100328T010000
END:DAYLIGHT
BEGIN:STANDARD
TZOFFSETFROM:+0100
TZOFFSETTO:+0000
TZNAME:GMT
DTSTART:20101031T010000
END:STANDARD
BEGIN:DAYLIGHT
TZOFFSETFROM:+0000
TZOFFSETTO:+0100
TZNAME:BST
DTSTART:20110327T010000
END:DAYLIGHT
BEGIN:STANDARD
TZOFFSETFROM:+0100
TZOFFSETTO:+0000
TZNAME:GMT
DTSTART:20111030T010000
END:STANDARD
BEGIN:DAYLIGHT
TZOFFSETFROM:+0000
TZOFFSETTO:+0100
TZNAME:BST
DTSTART:20120325T010000
END:DAYLIGHT
BEGIN:STANDARD
TZOFFSETFROM:+0100
TZOFFSETTO:+0000
TZNAME:GMT
DTSTART:20121028T010000
END:STANDARD
END:VTIMEZONE
BEGIN:VEVENT
DTSTART;VALUE=DATE:20111126
DTEND;VALUE=DATE:20111128
DTSTAMP:20260419T170950
CREATED:20140714T110224Z
LAST-MODIFIED:20140714T110224Z
UID:822-1322265600-1322438399@www.rednoteensemble.com
SUMMARY:Noisy Words
DESCRIPTION:If you’re a writer (in any form) and would like to be considered\, please submit up to three pages of your writing as well as a one page biography and/or CV to jennifer.williams@traverse.co.uk.  If you’re a composer (of any tradition) and would like to be considered\, please submit up to ten pages from a recent work as well as a one page biography and/or CV to john@rednoteensemble.com. \n  \nDeadline for all submissions has been extended to 31 October. \n  \nSpace:  Traverse One\nWorkshop dates: Saturday 26 November & Sunday 27 November (10am – 6pm)\n‘Scratch’ Performance date: Sunday 27 November\, (5pm) \nTraverse Theatre\, Edinburgh \nwww.traverse.co.uk
URL:https://www.rednoteensemble.com/event/noisy-words-2011/
LOCATION:Traverse Theatre\, 10 Cambridge Street\, Edinburgh\, EH1 2ED
CATEGORIES:Calls for Scores,Creative Learning,Noisy Nights
ATTACH;FMTTYPE=image/png:https://www.rednoteensemble.com/wp-content/uploads/2014/07/Noisy-Night-3-Mar.png
END:VEVENT
END:VCALENDAR