BEGIN:VCALENDAR
VERSION:2.0
PRODID:-//Red Note  - ECPv6.15.18//NONSGML v1.0//EN
CALSCALE:GREGORIAN
METHOD:PUBLISH
X-ORIGINAL-URL:https://www.rednoteensemble.com
X-WR-CALDESC:Events for Red Note 
REFRESH-INTERVAL;VALUE=DURATION:PT1H
X-Robots-Tag:noindex
X-PUBLISHED-TTL:PT1H
BEGIN:VTIMEZONE
TZID:Europe/London
BEGIN:DAYLIGHT
TZOFFSETFROM:+0000
TZOFFSETTO:+0100
TZNAME:BST
DTSTART:20080330T010000
END:DAYLIGHT
BEGIN:STANDARD
TZOFFSETFROM:+0100
TZOFFSETTO:+0000
TZNAME:GMT
DTSTART:20081026T010000
END:STANDARD
BEGIN:DAYLIGHT
TZOFFSETFROM:+0000
TZOFFSETTO:+0100
TZNAME:BST
DTSTART:20090329T010000
END:DAYLIGHT
BEGIN:STANDARD
TZOFFSETFROM:+0100
TZOFFSETTO:+0000
TZNAME:GMT
DTSTART:20091025T010000
END:STANDARD
BEGIN:DAYLIGHT
TZOFFSETFROM:+0000
TZOFFSETTO:+0100
TZNAME:BST
DTSTART:20100328T010000
END:DAYLIGHT
BEGIN:STANDARD
TZOFFSETFROM:+0100
TZOFFSETTO:+0000
TZNAME:GMT
DTSTART:20101031T010000
END:STANDARD
BEGIN:DAYLIGHT
TZOFFSETFROM:+0000
TZOFFSETTO:+0100
TZNAME:BST
DTSTART:20110327T010000
END:DAYLIGHT
BEGIN:STANDARD
TZOFFSETFROM:+0100
TZOFFSETTO:+0000
TZNAME:GMT
DTSTART:20111030T010000
END:STANDARD
BEGIN:DAYLIGHT
TZOFFSETFROM:+0000
TZOFFSETTO:+0100
TZNAME:BST
DTSTART:20120325T010000
END:DAYLIGHT
BEGIN:STANDARD
TZOFFSETFROM:+0100
TZOFFSETTO:+0000
TZNAME:GMT
DTSTART:20121028T010000
END:STANDARD
END:VTIMEZONE
BEGIN:VEVENT
DTSTART;VALUE=DATE:20111021
DTEND;VALUE=DATE:20111024
DTSTAMP:20260420T121639
CREATED:20140714T102418Z
LAST-MODIFIED:20140714T102752Z
UID:820-1319155200-1319414399@www.rednoteensemble.com
SUMMARY:NEW MUSIC SCOTLAND - Conference and Showcase
DESCRIPTION:“New Music: is anybody listening?” \n  \nNew Music Scotland  is a network that brings together performers\, composers\, promoters of new music in Scotland\, to: \n  \n* Create a context for dialogues between practitioners and new work; \n* Share ideas of best practice; \n* Promote the diversity of new music and sound art; \n* Create and maintain a supportive environment for innovation \n  \nThe Conference/Showcase is aimed at all performers\, creators and promoters of music in Scotland\, the UK and beyond that have an interest in new music. The event will give delegates the opportunity to discuss topics relevant to the promotion of new music and will showcase the best music and sound art that Scotland has to offer\, selected via a competitive submission process. \n  \nThe keynote speech will be given by Jonathan Cross\, Professor of Musicology at the University of Oxford. \nwww.newmusicscotland.org \nFriday 21 – Sunday 23 October \nNew Music Scotland \nAberdeen \nBooking via \nwww.newmusicscotland.org \n  \nRED NOTE PERFORMANCES: \n21 October 2011\, 19:30\nPhilip Glass – 1\,000 Airplanes on the Roof\n \n\nJudith Howarth\, soprano and David McKay\, ‘M’\nin association with the National Theatre of Scotland\nwith James Brining\, director and Jessica Cottis\, conductor \n \nA science fiction music drama in one act\nText by David Henry Hwang \n Woodend Barn\n Banchory\nAB31 5QA \n22 October 2011\, 20:30\nNoisy Nights\nNoisy Nights is a regular Red Note event that gives audiences the chance to listen to (and compose for) some of the best musicians in Scotland. The instruments for this Noisy Night will be flute\, cello and clarinet and the evening will feature new music created by Go Compose workshop participants. \nWoodend Barn\n Banchory\nAB31 5QA \n  \n\n  \n 
URL:https://www.rednoteensemble.com/event/new-music-scotland-conference-and-showcase/
LOCATION:Woodend Barn\, Burn O’ Bennie\, Banchory\, AB31 5QA\, United Kingdom
CATEGORIES:Concerts,Noisy Nights
ATTACH;FMTTYPE=image/jpeg:https://www.rednoteensemble.com/wp-content/uploads/2014/04/Red-Note-Ensemble_-Noisy-Nights.jpg
END:VEVENT
BEGIN:VEVENT
DTSTART;TZID=Europe/London:20110606T200000
DTEND;TZID=Europe/London:20110606T220000
DTSTAMP:20260420T121639
CREATED:20140713T150708Z
LAST-MODIFIED:20140713T150708Z
UID:813-1307390400-1307397600@www.rednoteensemble.com
SUMMARY:Noisy Nights 14
DESCRIPTION:Noisy Nights is fun\, free and your chance to listen to (and compose for!) some of the best musicians in Scotland. Noisy Nights is a place to meet music-lovers\, curious minds\, musicians\, composers and artists in an informal space where you can hear some of the best examples of brand new music while having a beer. All sorts of music are welcomed here – as are all sorts of listeners. \n  \nThe instruments for this Noisy Night will be Electric Guitar\, Electric Violin and Electric ‘Cello. New music submitted by composers from around the world responding to our Call for Scores\, and the winner of the night’s 10-minute Composing Challenge will be performed. \n  \nWhat is the 10 Minute Composing Challenge? It’s your chance to write an “instant piece” and get it played on the night. During the interval we will hand out manuscript paper for you to write your own piece in 10 minutes – and at the end of the interval we’ll select the one we think is best and perform it there and then. Instant music! \n 
URL:https://www.rednoteensemble.com/event/noisy-nights-14/
LOCATION:Traverse Theatre Bar\, 10 Cambridge Street\, Edinburgh\, EH1 2ED\, United Kingdom
CATEGORIES:Noisy Nights
ATTACH;FMTTYPE=image/jpeg:https://www.rednoteensemble.com/wp-content/uploads/2014/07/noisy.jpg
END:VEVENT
BEGIN:VEVENT
DTSTART;TZID=Europe/London:20110321T200000
DTEND;TZID=Europe/London:20110321T220000
DTSTAMP:20260420T121639
CREATED:20140713T145107Z
LAST-MODIFIED:20140713T145108Z
UID:809-1300737600-1300744800@www.rednoteensemble.com
SUMMARY:NOISY NIGHTS 13
DESCRIPTION:Noisy Nights is fun\, free and your chance to listen to (and compose for!) some of the best musicians in Scotland. Noisy Nights is a place to meet music-lovers\, curious minds\, musicians\, composers and artists in an informal space where you can hear some of the best examples of brand new music while having a beer. All sorts of music are welcomed here – as are all sorts of listeners. \nThe instruments for this Noisy Night will be Harpsichord\, Baroque ‘cello and recorder. New music submitted by composers from around the world responding to our Call for Scores\, a couple of very old Scottish premieres\, and the winner of the night’s 10-minute Composing Challenge will be performed. \nWhat is the 10 Minute Composing Challenge? It’s your chance to write an “instant piece” and get it played on the night. During the interval we will hand out manuscript paper for you to write your own piece in 10 minutes – and at the end of the interval we’ll select the one we think is best and perform it there and then. Instant music!
URL:https://www.rednoteensemble.com/event/noisy-nights-13/
LOCATION:Traverse Theatre Bar\, 10 Cambridge Street\, Edinburgh\, EH1 2ED\, United Kingdom
CATEGORIES:Noisy Nights
ATTACH;FMTTYPE=image/jpeg:https://www.rednoteensemble.com/wp-content/uploads/2014/07/noisy.jpg
END:VEVENT
BEGIN:VEVENT
DTSTART;TZID=Europe/London:20110207T200000
DTEND;TZID=Europe/London:20110207T220000
DTSTAMP:20260420T121639
CREATED:20140713T150503Z
LAST-MODIFIED:20140713T150504Z
UID:812-1297108800-1297116000@www.rednoteensemble.com
SUMMARY:Noisy Nights 12
DESCRIPTION:Noisy Nights is fun\, free and your chance to listen to (and compose for!) some of the best musicians in Scotland. Noisy Nights is a place to meet music-lovers\, curious minds\, musicians\, composers and artists in an informal space where you can hear some of the best examples of brand new music while having a beer. All sorts of music are welcomed here – as are all sorts of listeners. \n  \nThe instruments for Monday’s Noisy Night will be 3 ‘cellos\, played by Robert Irvine\, Eilidh Martin and Sonia Cromarty – and new music by James Bryce\, Jesse Raccio\, Elisabeth Cowe\, Atzi Muramatsu\, Sandy Stanage\, Michael Szpakowski\, Gareth Brady\, Patrick Smyth\, Ronnie McNiven and Amble Skuse and the winner of the 10 Minute Composing Challenge will be heard for the first time. \n  \nWhat is the 10 Minute Composing Challenge? It’s your chance to write an “instant piece” and get it played on the night. During the interval we will hand out manuscript paper for you to write your own piece in 10 minutes – and at the end of the interval we’ll select the one we think is best and perform it there and then. Instant music! \n  \nAlso … bring your camera phones and video cameras. Video-maker Laurie Irvine will be recording the night for posterity\, and feel free to come and take your own footage so we can add it to our “best of Noisy Nights 12” compilation. \n 
URL:https://www.rednoteensemble.com/event/noisy-nights-12/
LOCATION:Traverse Theatre Bar\, 10 Cambridge Street\, Edinburgh\, EH1 2ED\, United Kingdom
CATEGORIES:Noisy Nights
ATTACH;FMTTYPE=image/jpeg:https://www.rednoteensemble.com/wp-content/uploads/2014/07/noisy.jpg
END:VEVENT
BEGIN:VEVENT
DTSTART;TZID=Europe/London:20101118T191500
DTEND;TZID=Europe/London:20101118T220000
DTSTAMP:20260420T121639
CREATED:20140714T121402Z
LAST-MODIFIED:20140714T121402Z
UID:835-1290107700-1290117600@www.rednoteensemble.com
SUMMARY:Noisy Words
DESCRIPTION:Writers and composers of all stripes are invited to submit proposals for the chance to become involved in this one-off mélange of creative expression; please email john@rednoteensemble.com or Jennifer.williams@traverse.co.uk for full details and the proposal guidelines. \n  \nProposal submission deadline: Monday 27th September \n  \nCome along on the night to hear the dramatic results of the collaborations; will our musical and wordy matchmaking result in harmonious marriages?  You decide! \n  \nwww.traverse.co.uk
URL:https://www.rednoteensemble.com/event/noisy-words-2010/
LOCATION:Traverse Theatre\, 10 Cambridge Street\, Edinburgh\, EH1 2ED
CATEGORIES:Calls for Scores,Creative Learning,Noisy Nights
ATTACH;FMTTYPE=image/png:https://www.rednoteensemble.com/wp-content/uploads/2014/07/Noisy-Night-3-Mar.png
END:VEVENT
BEGIN:VEVENT
DTSTART;TZID=Europe/London:20101011T200000
DTEND;TZID=Europe/London:20101011T220000
DTSTAMP:20260420T121639
CREATED:20140714T120752Z
LAST-MODIFIED:20140714T120911Z
UID:833-1286827200-1286834400@www.rednoteensemble.com
SUMMARY:Noisy Nights 11
DESCRIPTION:Noisy Nights is fun\, free and your chance to listen to (and compose for!) some of the best musicians in Scotland. Noisy Nights is a place to meet music-lovers\, curious minds\, musicians\, composers and artists in an informal space where you can hear some of the best examples of brand new music while having a beer. All sorts of music are welcomed here – as are all sorts of listeners. \n  \nSomeone in between? Noisy Nights is for you; a place to meet music-lovers\, curious minds\, musicians\, composers and artists in an informal space where you can hear some of the best examples of new music while having a beer. All sorts of music are welcomed – as are all sorts of listeners! \n  \nThe instrumentation for Monday 11th October will be: \nOboe (doubling Cor Anglais)\, Accordian\, Small Drumkit and Marimba \nTo submit a score\, please visit the Calls for Scores page
URL:https://www.rednoteensemble.com/event/noisy-nights-11/
LOCATION:Traverse Theatre Bar\, 10 Cambridge Street\, Edinburgh\, EH1 2ED\, United Kingdom
CATEGORIES:Calls for Scores,Noisy Nights
ATTACH;FMTTYPE=image/jpeg:https://www.rednoteensemble.com/wp-content/uploads/2014/07/noisy.jpg
END:VEVENT
BEGIN:VEVENT
DTSTART;TZID=Europe/London:20100524T200000
DTEND;TZID=Europe/London:20100524T220000
DTSTAMP:20260420T121639
CREATED:20140714T113815Z
LAST-MODIFIED:20140714T113815Z
UID:829-1274731200-1274738400@www.rednoteensemble.com
SUMMARY:NOISY NIGHTS 10
DESCRIPTION:Are you a composer? Visit our Calls for Scores page to see how to submit works for Noisy Nights. \n 
URL:https://www.rednoteensemble.com/event/noisy-nights-10/
LOCATION:Traverse Theatre Bar\, 10 Cambridge Street\, Edinburgh\, EH1 2ED\, United Kingdom
CATEGORIES:Calls for Scores,Noisy Nights
ATTACH;FMTTYPE=image/jpeg:https://www.rednoteensemble.com/wp-content/uploads/2014/07/noisy.jpg
END:VEVENT
BEGIN:VEVENT
DTSTART;TZID=Europe/London:20100426T200000
DTEND;TZID=Europe/London:20100426T220000
DTSTAMP:20260420T121639
CREATED:20140714T113049Z
LAST-MODIFIED:20140714T113049Z
UID:826-1272312000-1272319200@www.rednoteensemble.com
SUMMARY:Noisy Nights 9
DESCRIPTION:New music written for an ensemble of saxophone\, ‘cello and acoustic guitar. Free. \n 
URL:https://www.rednoteensemble.com/event/noisy-nights-9/
LOCATION:Traverse Theatre Bar\, 10 Cambridge Street\, Edinburgh\, EH1 2ED\, United Kingdom
CATEGORIES:Calls for Scores,Noisy Nights
ATTACH;FMTTYPE=image/jpeg:https://www.rednoteensemble.com/wp-content/uploads/2014/07/noisy.jpg
END:VEVENT
BEGIN:VEVENT
DTSTART;TZID=Europe/London:20100222T200000
DTEND;TZID=Europe/London:20100222T220000
DTSTAMP:20260420T121639
CREATED:20140714T112834Z
LAST-MODIFIED:20140714T112834Z
UID:825-1266868800-1266876000@www.rednoteensemble.com
SUMMARY:Noisy Nights 8
DESCRIPTION:The first Noisy Night of 2010 kicks off with new music written for an ensemble of Violin\, Trombone and Bassoon.
URL:https://www.rednoteensemble.com/event/noisy-nights-8/
LOCATION:Traverse Theatre Bar\, 10 Cambridge Street\, Edinburgh\, EH1 2ED\, United Kingdom
CATEGORIES:Noisy Nights
ATTACH;FMTTYPE=image/jpeg:https://www.rednoteensemble.com/wp-content/uploads/2014/07/noisy.jpg
END:VEVENT
BEGIN:VEVENT
DTSTART;TZID=Europe/London:20091207T200000
DTEND;TZID=Europe/London:20091207T220000
DTSTAMP:20260420T121639
CREATED:20140714T125407Z
LAST-MODIFIED:20140714T125407Z
UID:843-1260216000-1260223200@www.rednoteensemble.com
SUMMARY:NOISY NIGHTS 7
DESCRIPTION:  \n 
URL:https://www.rednoteensemble.com/event/noisy-nights-7/
LOCATION:Traverse Theatre Bar\, 10 Cambridge Street\, Edinburgh\, EH1 2ED\, United Kingdom
CATEGORIES:Calls for Scores,Noisy Nights
ATTACH;FMTTYPE=image/jpeg:https://www.rednoteensemble.com/wp-content/uploads/2014/07/noisy.jpg
END:VEVENT
BEGIN:VEVENT
DTSTART;TZID=Europe/London:20091102T200000
DTEND;TZID=Europe/London:20091102T220000
DTSTAMP:20260420T121639
CREATED:20140714T124224Z
LAST-MODIFIED:20140714T124224Z
UID:841-1257192000-1257199200@www.rednoteensemble.com
SUMMARY:Noisy Nights 6
DESCRIPTION:
URL:https://www.rednoteensemble.com/event/noisy-nights-6/
LOCATION:Traverse Theatre Bar\, 10 Cambridge Street\, Edinburgh\, EH1 2ED\, United Kingdom
CATEGORIES:Calls for Scores,Noisy Nights
ATTACH;FMTTYPE=image/jpeg:https://www.rednoteensemble.com/wp-content/uploads/2014/07/noisy.jpg
END:VEVENT
BEGIN:VEVENT
DTSTART;TZID=Europe/London:20091030T223000
DTEND;TZID=Europe/London:20091031T000000
DTSTAMP:20260420T121639
CREATED:20140714T123632Z
LAST-MODIFIED:20140714T123632Z
UID:838-1256941800-1256947200@www.rednoteensemble.com
SUMMARY:Noisy Nights 6 @ ARTMUSFAIR
DESCRIPTION:Part of ArtMusFair 2009. Free.
URL:https://www.rednoteensemble.com/event/noisy-nights-6-artmusfair/
LOCATION:Georgics Bar\, Millenium Hotel\, George Sq.\, Glasgow\, G2 1DS\, United Kingdom
CATEGORIES:Calls for Scores,Noisy Nights
ATTACH;FMTTYPE=image/jpeg:https://www.rednoteensemble.com/wp-content/uploads/2014/07/noisy.jpg
END:VEVENT
BEGIN:VEVENT
DTSTART;TZID=Europe/London:20091012T200000
DTEND;TZID=Europe/London:20091012T220000
DTSTAMP:20260420T121639
CREATED:20140714T123137Z
LAST-MODIFIED:20140714T123137Z
UID:837-1255377600-1255384800@www.rednoteensemble.com
SUMMARY:Noisy Nights 5
DESCRIPTION:No. 5 in Red Note’s regular informal series of Noisy Nights chamber concerts showcasing fresh-off-the-page music by new\, emerging and established composers (see Calls for Scores)\, this time for an ensemble of trumpet\, viola and french horn. Free.
URL:https://www.rednoteensemble.com/event/noisy-nights-5/
LOCATION:Traverse Theatre Bar\, 10 Cambridge Street\, Edinburgh\, EH1 2ED\, United Kingdom
CATEGORIES:Calls for Scores,Noisy Nights
ATTACH;FMTTYPE=image/jpeg:https://www.rednoteensemble.com/wp-content/uploads/2014/07/noisy.jpg
END:VEVENT
END:VCALENDAR