BEGIN:VCALENDAR
VERSION:2.0
PRODID:-//Red Note  - ECPv6.15.18//NONSGML v1.0//EN
CALSCALE:GREGORIAN
METHOD:PUBLISH
X-WR-CALNAME:Red Note 
X-ORIGINAL-URL:https://www.rednoteensemble.com
X-WR-CALDESC:Events for Red Note 
REFRESH-INTERVAL;VALUE=DURATION:PT1H
X-Robots-Tag:noindex
X-PUBLISHED-TTL:PT1H
BEGIN:VTIMEZONE
TZID:Europe/London
BEGIN:DAYLIGHT
TZOFFSETFROM:+0000
TZOFFSETTO:+0100
TZNAME:BST
DTSTART:20150329T010000
END:DAYLIGHT
BEGIN:STANDARD
TZOFFSETFROM:+0100
TZOFFSETTO:+0000
TZNAME:GMT
DTSTART:20151025T010000
END:STANDARD
BEGIN:DAYLIGHT
TZOFFSETFROM:+0000
TZOFFSETTO:+0100
TZNAME:BST
DTSTART:20160327T010000
END:DAYLIGHT
BEGIN:STANDARD
TZOFFSETFROM:+0100
TZOFFSETTO:+0000
TZNAME:GMT
DTSTART:20161030T010000
END:STANDARD
BEGIN:DAYLIGHT
TZOFFSETFROM:+0000
TZOFFSETTO:+0100
TZNAME:BST
DTSTART:20170326T010000
END:DAYLIGHT
BEGIN:STANDARD
TZOFFSETFROM:+0100
TZOFFSETTO:+0000
TZNAME:GMT
DTSTART:20171029T010000
END:STANDARD
END:VTIMEZONE
BEGIN:VEVENT
DTSTART;TZID=Europe/London:20160623T213000
DTEND;TZID=Europe/London:20160623T223000
DTSTAMP:20260424T204057
CREATED:20160511T071501Z
LAST-MODIFIED:20160616T143832Z
UID:1528-1466717400-1466721000@www.rednoteensemble.com
SUMMARY:The Cottier Chamber Project Noisy Nights
DESCRIPTION:Noisy Nights are a place to meet music-lovers\, curious minds\, musicians\, composers and artists in an informal space and hear some of the best examples of brand new music while having a beer. They’re fun\, free and your chance to listen to\, and compose for\, the musicians of Red Note Ensemble. \nThe programme for this year’s Cottier Chamber Project looks at the subject of migration and refugee movement. This Noisy Night takes place on a crucial day for Britain…will we be In or Out the next morning? \nIf you’re a composer\, visit our CALLS FOR SCORES page to find out how to get your own musical voice heard at Noisy Nights. \nRed Note Performers: \nViola Jessica Beeston\nCello Robert Irvine\nHorn Andy Saunders
URL:https://www.rednoteensemble.com/event/the-cottier-chamber-project-noisy-nights-2/
LOCATION:Cottier’s Theatre\, 93-95 Hyndland St\, Glasgow\, G11 5PU
CATEGORIES:Noisy Nights
ATTACH;FMTTYPE=image/png:https://www.rednoteensemble.com/wp-content/uploads/2014/07/Noisy-Night-3-Mar.png
END:VEVENT
END:VCALENDAR