BEGIN:VCALENDAR
VERSION:2.0
PRODID:-//Red Note  - ECPv6.15.18//NONSGML v1.0//EN
CALSCALE:GREGORIAN
METHOD:PUBLISH
X-ORIGINAL-URL:https://www.rednoteensemble.com
X-WR-CALDESC:Events for Red Note 
REFRESH-INTERVAL;VALUE=DURATION:PT1H
X-Robots-Tag:noindex
X-PUBLISHED-TTL:PT1H
BEGIN:VTIMEZONE
TZID:Europe/London
BEGIN:DAYLIGHT
TZOFFSETFROM:+0000
TZOFFSETTO:+0100
TZNAME:BST
DTSTART:20250330T010000
END:DAYLIGHT
BEGIN:STANDARD
TZOFFSETFROM:+0100
TZOFFSETTO:+0000
TZNAME:GMT
DTSTART:20251026T010000
END:STANDARD
BEGIN:DAYLIGHT
TZOFFSETFROM:+0000
TZOFFSETTO:+0100
TZNAME:BST
DTSTART:20260329T010000
END:DAYLIGHT
BEGIN:STANDARD
TZOFFSETFROM:+0100
TZOFFSETTO:+0000
TZNAME:GMT
DTSTART:20261025T010000
END:STANDARD
BEGIN:DAYLIGHT
TZOFFSETFROM:+0000
TZOFFSETTO:+0100
TZNAME:BST
DTSTART:20270328T010000
END:DAYLIGHT
BEGIN:STANDARD
TZOFFSETFROM:+0100
TZOFFSETTO:+0000
TZNAME:GMT
DTSTART:20271031T010000
END:STANDARD
END:VTIMEZONE
BEGIN:VEVENT
DTSTART;TZID=Europe/London:20260315T170000
DTEND;TZID=Europe/London:20260315T180000
DTSTAMP:20260426T002753
CREATED:20260211T160745Z
LAST-MODIFIED:20260212T124746Z
UID:6009-1773594000-1773597600@www.rednoteensemble.com
SUMMARY:Red Note Factory (Devising) Weekend Concert
DESCRIPTION:Red Note Factory participants present solos and a new small-ensemble work devised with Laura Bowler and Ruth Morley. \nExpect experiments\, surprises and first-time performance. \nFREE but booking required!\nSunday 15th March 2026\, 5pm\nMcLeod Hall\, Pearce Institute\, Glasgow \nRed Note is a PRS Foundation Talent Development Network Partner supported by PPL. \n 
URL:https://www.rednoteensemble.com/event/red-note-factory-devising-weekend-concert/
LOCATION:The Pearce Institute\, 840-860 Govan Road\, Glasgow\, G51 3UU
CATEGORIES:Concerts
ATTACH;FMTTYPE=image/jpeg:https://www.rednoteensemble.com/wp-content/uploads/2026/02/RN-Factory.jpg
END:VEVENT
END:VCALENDAR