BEGIN:VCALENDAR
VERSION:2.0
PRODID:-//Red Note  - ECPv6.15.18//NONSGML v1.0//EN
CALSCALE:GREGORIAN
METHOD:PUBLISH
X-WR-CALNAME:Red Note 
X-ORIGINAL-URL:https://www.rednoteensemble.com
X-WR-CALDESC:Events for Red Note 
REFRESH-INTERVAL;VALUE=DURATION:PT1H
X-Robots-Tag:noindex
X-PUBLISHED-TTL:PT1H
BEGIN:VTIMEZONE
TZID:Europe/London
BEGIN:DAYLIGHT
TZOFFSETFROM:+0000
TZOFFSETTO:+0100
TZNAME:BST
DTSTART:20150329T010000
END:DAYLIGHT
BEGIN:STANDARD
TZOFFSETFROM:+0100
TZOFFSETTO:+0000
TZNAME:GMT
DTSTART:20151025T010000
END:STANDARD
BEGIN:DAYLIGHT
TZOFFSETFROM:+0000
TZOFFSETTO:+0100
TZNAME:BST
DTSTART:20160327T010000
END:DAYLIGHT
BEGIN:STANDARD
TZOFFSETFROM:+0100
TZOFFSETTO:+0000
TZNAME:GMT
DTSTART:20161030T010000
END:STANDARD
BEGIN:DAYLIGHT
TZOFFSETFROM:+0000
TZOFFSETTO:+0100
TZNAME:BST
DTSTART:20170326T010000
END:DAYLIGHT
BEGIN:STANDARD
TZOFFSETFROM:+0100
TZOFFSETTO:+0000
TZNAME:GMT
DTSTART:20171029T010000
END:STANDARD
END:VTIMEZONE
BEGIN:VEVENT
DTSTART;TZID=Europe/London:20160212T080000
DTEND;TZID=Europe/London:20160212T170000
DTSTAMP:20260420T183140
CREATED:20160118T124604Z
LAST-MODIFIED:20160118T134130Z
UID:1413-1455264000-1455296400@www.rednoteensemble.com
SUMMARY:Noisy Nights Calls for Scores St Andrews
DESCRIPTION:A general call for scores is made\, maximum length 5 minutes for our St Andrews Noisy Nights on 26th February at the Byre Bar. Maximum instrumentation Vl / Vc / Cl –  Violin (tbc)\, Cello (Robert Irvine) and Clarinet (Marie Lloyd). \nFull score and parts in pdf format to be submitted to John Harris (john@rednoteensemble.com) by close of business on Friday 12th February. \nLate submissions will not be accepted.
URL:https://www.rednoteensemble.com/event/noisy-nights-calls-for-scores-st-andrews/
CATEGORIES:Calls for Scores
ATTACH;FMTTYPE=image/png:https://www.rednoteensemble.com/wp-content/uploads/2014/07/Noisy-Night-3-Mar.png
END:VEVENT
END:VCALENDAR