BEGIN:VCALENDAR
VERSION:2.0
PRODID:-//Red Note  - ECPv6.15.18//NONSGML v1.0//EN
CALSCALE:GREGORIAN
METHOD:PUBLISH
X-ORIGINAL-URL:https://www.rednoteensemble.com
X-WR-CALDESC:Events for Red Note 
REFRESH-INTERVAL;VALUE=DURATION:PT1H
X-Robots-Tag:noindex
X-PUBLISHED-TTL:PT1H
BEGIN:VTIMEZONE
TZID:Europe/London
BEGIN:DAYLIGHT
TZOFFSETFROM:+0000
TZOFFSETTO:+0100
TZNAME:BST
DTSTART:20140330T010000
END:DAYLIGHT
BEGIN:STANDARD
TZOFFSETFROM:+0100
TZOFFSETTO:+0000
TZNAME:GMT
DTSTART:20141026T010000
END:STANDARD
BEGIN:DAYLIGHT
TZOFFSETFROM:+0000
TZOFFSETTO:+0100
TZNAME:BST
DTSTART:20150329T010000
END:DAYLIGHT
BEGIN:STANDARD
TZOFFSETFROM:+0100
TZOFFSETTO:+0000
TZNAME:GMT
DTSTART:20151025T010000
END:STANDARD
BEGIN:DAYLIGHT
TZOFFSETFROM:+0000
TZOFFSETTO:+0100
TZNAME:BST
DTSTART:20160327T010000
END:DAYLIGHT
BEGIN:STANDARD
TZOFFSETFROM:+0100
TZOFFSETTO:+0000
TZNAME:GMT
DTSTART:20161030T010000
END:STANDARD
END:VTIMEZONE
BEGIN:VEVENT
DTSTART;VALUE=DATE:20151116
DTEND;VALUE=DATE:20151117
DTSTAMP:20260420T230021
CREATED:20150918T105331Z
LAST-MODIFIED:20200304T100825Z
UID:1387-1447632000-1447718399@www.rednoteensemble.com
SUMMARY:Noisy Nights Edinburgh - Call for Scores
DESCRIPTION:A general call for scores is made\, maximum length 5 minutes. Maximum instrumentation Accordion (James Crabb)\, Vc (Robert Irvine)\, Tpt (Mark O Keefe) (no tape). Full score and parts in pdf format to be submitted to John Harris (john@rednoteensemble.com) by close of business on Monday 16th November. Late submissions will not be accepted.  \nA composer’s handbook (written by James Crabb) on writing for the accordion is attached HERE: HANDBOOK FOR CL.ACC-English
URL:https://www.rednoteensemble.com/event/noisy-nights-summerhall-call-for-scores/
LOCATION:Summerhall\, Summerhall Pl.\, Edinburgh\, EH9 1QH\, United Kingdom
CATEGORIES:Calls for Scores
ATTACH;FMTTYPE=image/jpeg:https://www.rednoteensemble.com/wp-content/uploads/2014/07/noisy.jpg
END:VEVENT
END:VCALENDAR