BEGIN:VCALENDAR
VERSION:2.0
PRODID:-//Red Note  - ECPv6.15.18//NONSGML v1.0//EN
CALSCALE:GREGORIAN
METHOD:PUBLISH
X-WR-CALNAME:Red Note 
X-ORIGINAL-URL:https://www.rednoteensemble.com
X-WR-CALDESC:Events for Red Note 
REFRESH-INTERVAL;VALUE=DURATION:PT1H
X-Robots-Tag:noindex
X-PUBLISHED-TTL:PT1H
BEGIN:VTIMEZONE
TZID:Europe/London
BEGIN:DAYLIGHT
TZOFFSETFROM:+0000
TZOFFSETTO:+0100
TZNAME:BST
DTSTART:20130331T010000
END:DAYLIGHT
BEGIN:STANDARD
TZOFFSETFROM:+0100
TZOFFSETTO:+0000
TZNAME:GMT
DTSTART:20131027T010000
END:STANDARD
BEGIN:DAYLIGHT
TZOFFSETFROM:+0000
TZOFFSETTO:+0100
TZNAME:BST
DTSTART:20140330T010000
END:DAYLIGHT
BEGIN:STANDARD
TZOFFSETFROM:+0100
TZOFFSETTO:+0000
TZNAME:GMT
DTSTART:20141026T010000
END:STANDARD
BEGIN:DAYLIGHT
TZOFFSETFROM:+0000
TZOFFSETTO:+0100
TZNAME:BST
DTSTART:20150329T010000
END:DAYLIGHT
BEGIN:STANDARD
TZOFFSETFROM:+0100
TZOFFSETTO:+0000
TZNAME:GMT
DTSTART:20151025T010000
END:STANDARD
END:VTIMEZONE
BEGIN:VEVENT
DTSTART;TZID=Europe/London:20141006T170000
DTEND;TZID=Europe/London:20141006T170000
DTSTAMP:20260421T185438
CREATED:20140915T193726Z
LAST-MODIFIED:20140915T193726Z
UID:924-1412614800-1412614800@www.rednoteensemble.com
SUMMARY:Noisy Nights - Call for Scores
DESCRIPTION:5 selected participants will be required to bring to the course a new work (8 – 10 minutes in duration) for string quartet (2Vn\, Va\, Vc) which will be workshopped\, rehearsed and revised with the players over the period 14th – 16th November. \nParticipants will be selected from an open call. Please apply by email to john (at) rednoteensemble.com with: \n* 2 examples of recent work (pdf only\, no sound files)\n* a short (1/2 page) biography\n* a short (100 word) statement explaining why you want to write a new 10 minute work for string quartet \nby 5pm on 6th October at the latest. Participants will be notified by 15th October and will then be expected to write the first draft of the new work over the following month. \nThis opportunity is particularly offered to participants who wish to develop their practice as composers\, and priority will be given to those applicants who demonstrate that they will make use of the course in this way. We expect the work to be written to be a new one\, not a re-presentation of a previous piece. \nPlease note that\, whilst the course is free to participants\, Red Note cannot offer financial assistance with travel\, accommodation or other attendance costs\, and participants must be available for the whole time of the course. Participants will also be expected to revise their works during the course as necessary; office facilities on-site including a printer will be provided for this.
URL:https://www.rednoteensemble.com/event/noisy-nights-call-for-scores/
LOCATION:Summerhall\, Summerhall Pl.\, Edinburgh\, EH9 1QH\, United Kingdom
CATEGORIES:Calls for Scores
ATTACH;FMTTYPE=image/jpeg:https://www.rednoteensemble.com/wp-content/uploads/2014/04/Red-Note-Ensemble_-Noisy-Nights.jpg
END:VEVENT
END:VCALENDAR