BEGIN:VCALENDAR
VERSION:2.0
PRODID:-//Red Note  - ECPv6.15.18//NONSGML v1.0//EN
CALSCALE:GREGORIAN
METHOD:PUBLISH
X-ORIGINAL-URL:https://www.rednoteensemble.com
X-WR-CALDESC:Events for Red Note 
REFRESH-INTERVAL;VALUE=DURATION:PT1H
X-Robots-Tag:noindex
X-PUBLISHED-TTL:PT1H
BEGIN:VTIMEZONE
TZID:Europe/London
BEGIN:DAYLIGHT
TZOFFSETFROM:+0000
TZOFFSETTO:+0100
TZNAME:BST
DTSTART:20240331T010000
END:DAYLIGHT
BEGIN:STANDARD
TZOFFSETFROM:+0100
TZOFFSETTO:+0000
TZNAME:GMT
DTSTART:20241027T010000
END:STANDARD
BEGIN:DAYLIGHT
TZOFFSETFROM:+0000
TZOFFSETTO:+0100
TZNAME:BST
DTSTART:20250330T010000
END:DAYLIGHT
BEGIN:STANDARD
TZOFFSETFROM:+0100
TZOFFSETTO:+0000
TZNAME:GMT
DTSTART:20251026T010000
END:STANDARD
BEGIN:DAYLIGHT
TZOFFSETFROM:+0000
TZOFFSETTO:+0100
TZNAME:BST
DTSTART:20260329T010000
END:DAYLIGHT
BEGIN:STANDARD
TZOFFSETFROM:+0100
TZOFFSETTO:+0000
TZNAME:GMT
DTSTART:20261025T010000
END:STANDARD
END:VTIMEZONE
BEGIN:VEVENT
DTSTART;TZID=Europe/London:20250425T130000
DTEND;TZID=Europe/London:20250425T140000
DTSTAMP:20260420T094339
CREATED:20250310T171601Z
LAST-MODIFIED:20250310T171601Z
UID:5602-1745586000-1745589600@www.rednoteensemble.com
SUMMARY:RCS & Red Note present 5 new works performed by Cerys Ambrose Evans
DESCRIPTION:Continuing our partnership with RCS Composition\,  we’re combining a performance and recording of new works for solo bassoon created by 5 RCS students composers. \nThis project is a collaboration between Red Note and composers from the RCS\, who have been working with Cerys Ambrose Evans over the last few months\, to develop new pieces for solo bassoon. These new works will also be recorded as part of the project\, allowing the composers to reflect on this creative process\, as they develop their skills in writing for the instrument. \nJoin us on Friday 25th April at 1pm at the Scottish Music Centre in Glasgow for an informal sharing of these new works.  \nThe concert is FREE and not ticketed. \nRed Note Ensemble\nCerys Ambrose Evans\, Bassoon \n 
URL:https://www.rednoteensemble.com/event/rcs-red-note-present-5-new-works-performed-by-cerys-ambrose-evans/
LOCATION:Scottish Music Centre\, 100 Candleriggs\, Glasgow\, G1 1NQ\, United Kingdom
CATEGORIES:Concerts
ATTACH;FMTTYPE=image/png:https://www.rednoteensemble.com/wp-content/uploads/2025/03/7.png
END:VEVENT
END:VCALENDAR