BEGIN:VCALENDAR
VERSION:2.0
PRODID:-//Red Note  - ECPv6.15.18//NONSGML v1.0//EN
CALSCALE:GREGORIAN
METHOD:PUBLISH
X-WR-CALNAME:Red Note 
X-ORIGINAL-URL:https://www.rednoteensemble.com
X-WR-CALDESC:Events for Red Note 
REFRESH-INTERVAL;VALUE=DURATION:PT1H
X-Robots-Tag:noindex
X-PUBLISHED-TTL:PT1H
BEGIN:VTIMEZONE
TZID:Europe/London
BEGIN:DAYLIGHT
TZOFFSETFROM:+0000
TZOFFSETTO:+0100
TZNAME:BST
DTSTART:20240331T010000
END:DAYLIGHT
BEGIN:STANDARD
TZOFFSETFROM:+0100
TZOFFSETTO:+0000
TZNAME:GMT
DTSTART:20241027T010000
END:STANDARD
BEGIN:DAYLIGHT
TZOFFSETFROM:+0000
TZOFFSETTO:+0100
TZNAME:BST
DTSTART:20250330T010000
END:DAYLIGHT
BEGIN:STANDARD
TZOFFSETFROM:+0100
TZOFFSETTO:+0000
TZNAME:GMT
DTSTART:20251026T010000
END:STANDARD
BEGIN:DAYLIGHT
TZOFFSETFROM:+0000
TZOFFSETTO:+0100
TZNAME:BST
DTSTART:20260329T010000
END:DAYLIGHT
BEGIN:STANDARD
TZOFFSETFROM:+0100
TZOFFSETTO:+0000
TZNAME:GMT
DTSTART:20261025T010000
END:STANDARD
END:VTIMEZONE
BEGIN:VEVENT
DTSTART;VALUE=DATE:20250331
DTEND;VALUE=DATE:20250401
DTSTAMP:20260420T094038
CREATED:20241216T133850Z
LAST-MODIFIED:20250304T091944Z
UID:5485-1743379200-1743465599@www.rednoteensemble.com
SUMMARY:New research on challenges for Scottish emerging composers
DESCRIPTION:Entitled “Career challenges: an exploration into potential barriers faced by Scottish emerging composers“\, the article explores the potential barriers for emerging composers to constructing and maintaining a career in the field of composition in Scotland\, as viewed through the lens of both those early in their careers and the experience of others who have worked professionally for many years.\n\n \n\nThirty-nine composers responded to a survey that highlighted the role of educational mentoring\, the need for monetary stability and the challenges faced by female and older emerging composers.\n \nThis research was funded by Red Note Ensemble and New Music Scotland\, explore\, inform and provide suggestions for future consideration. You can read a copy of Dr Morgan’s article here.\n 
URL:https://www.rednoteensemble.com/event/new-research-on-challenges-for-scottish-emerging-composers/
CATEGORIES:Other Events
ATTACH;FMTTYPE=image/png:https://www.rednoteensemble.com/wp-content/uploads/2024/12/Dr-Jill-Morgan.png
END:VEVENT
END:VCALENDAR