BEGIN:VCALENDAR
VERSION:2.0
PRODID:-//Red Note  - ECPv6.15.18//NONSGML v1.0//EN
CALSCALE:GREGORIAN
METHOD:PUBLISH
X-ORIGINAL-URL:https://www.rednoteensemble.com
X-WR-CALDESC:Events for Red Note 
REFRESH-INTERVAL;VALUE=DURATION:PT1H
X-Robots-Tag:noindex
X-PUBLISHED-TTL:PT1H
BEGIN:VTIMEZONE
TZID:Europe/London
BEGIN:DAYLIGHT
TZOFFSETFROM:+0000
TZOFFSETTO:+0100
TZNAME:BST
DTSTART:20230326T010000
END:DAYLIGHT
BEGIN:STANDARD
TZOFFSETFROM:+0100
TZOFFSETTO:+0000
TZNAME:GMT
DTSTART:20231029T010000
END:STANDARD
BEGIN:DAYLIGHT
TZOFFSETFROM:+0000
TZOFFSETTO:+0100
TZNAME:BST
DTSTART:20240331T010000
END:DAYLIGHT
BEGIN:STANDARD
TZOFFSETFROM:+0100
TZOFFSETTO:+0000
TZNAME:GMT
DTSTART:20241027T010000
END:STANDARD
BEGIN:DAYLIGHT
TZOFFSETFROM:+0000
TZOFFSETTO:+0100
TZNAME:BST
DTSTART:20250330T010000
END:DAYLIGHT
BEGIN:STANDARD
TZOFFSETFROM:+0100
TZOFFSETTO:+0000
TZNAME:GMT
DTSTART:20251026T010000
END:STANDARD
END:VTIMEZONE
BEGIN:VEVENT
DTSTART;VALUE=DATE:20241030
DTEND;VALUE=DATE:20241103
DTSTAMP:20260420T164345
CREATED:20240926T145313Z
LAST-MODIFIED:20240926T145313Z
UID:5283-1730246400-1730591999@www.rednoteensemble.com
SUMMARY:NORDIC MUSIC DAYS: AN EASTERHOUSE CHILDREN'S MANIFESTO INSTALLATION
DESCRIPTION:Inspired by the 1931 publication ‘La Anarquia Explicada a Los Niños’ – an instructional manual for children published during the Spanish Civil War explaining the ideas and practises of anarchy – composer Brian Irvine and director John McIlduff worked with the children of Oakwood Primary School in Glasgow and Red Note Ensemble. The result was An Easterhouse Children’s Manifesto\, a collection of seven musical animated video posters that explore key elements of “anarchical” thinking such as autonomy\, kindness and human connectivity from a child’s perspective. \nBorn from Red Note’s 5 Places programme\, which targets five locations across central Scotland\, this Easterhouse collaboration is based on the ideas and voices of Oakwood Primary School’s pupils and their partnered groups from the wider community. \nWe’re thrilled to have these video posters  on public display as an installation in the Glasgow CCA Courtyard from Wednesday 30 October until Saturday 2 November\, as part of Nordic Music Days 2024. \nNordic Music Days 2024 is a Council of Nordic Composers project\, managed on their behalf by the Danish Composers Society in partnership with the Royal Scottish National Orchestra.
URL:https://www.rednoteensemble.com/event/nordic-music-days-ecm-installation/
LOCATION:Centre for Contemporary Arts\, 350 Sauchiehall Street\, Glasgow\, G2 3JD\, United Kingdom
CATEGORIES:Exhibition
ATTACH;FMTTYPE=image/png:https://www.rednoteensemble.com/wp-content/uploads/2024/09/NMD-ECM-installation.png
END:VEVENT
BEGIN:VEVENT
DTSTART;VALUE=DATE:20241031
DTEND;VALUE=DATE:20241101
DTSTAMP:20260420T164345
CREATED:20240712T112257Z
LAST-MODIFIED:20240712T112603Z
UID:5141-1730332800-1730419199@www.rednoteensemble.com
SUMMARY:International travel survey for musicians
DESCRIPTION:International touring is a key part of the music industry. It’s great at creating cultural exchange. But it’s also one of the industry’s biggest sources of carbon emissions.  \nHow do we balance these things? We want to hear from musicians directly – how often you travel internationally\, what works for you\, and what doesn’t. What do you want international touring to look like in future? It’ll only take 10 minutes. \nThe Scottish Classical Sustainability Group is made up of 30+ classical music organisations\, but we’re also interested in the experiences of musicians working in other fields – i.e. folk\, jazz\, pop and more. \nThis survey will help us gauge current attitudes to international travel and better understand the challenges preventing the sector from lowering its international travel emissions.  \nTell us your thoughts here: https://forms.gle/EFjSdQ38pBG4WRBRA \nUsing the responses\, the Scottish Classical Sustainability Group will publish a report reflecting the current state of international touring. This will be shared across the industry and with funders. We want to inform how we can maintain international cultural exchange whilst taking better care of the planet.
URL:https://www.rednoteensemble.com/event/international-travel-survey-for-musicians/
CATEGORIES:Other Events
ATTACH;FMTTYPE=image/png:https://www.rednoteensemble.com/wp-content/uploads/2024/07/SCSG-Survey-Graphic-socials.png
END:VEVENT
END:VCALENDAR