BEGIN:VCALENDAR
VERSION:2.0
PRODID:-//Red Note  - ECPv6.15.18//NONSGML v1.0//EN
CALSCALE:GREGORIAN
METHOD:PUBLISH
X-ORIGINAL-URL:https://www.rednoteensemble.com
X-WR-CALDESC:Events for Red Note 
REFRESH-INTERVAL;VALUE=DURATION:PT1H
X-Robots-Tag:noindex
X-PUBLISHED-TTL:PT1H
BEGIN:VTIMEZONE
TZID:Europe/London
BEGIN:DAYLIGHT
TZOFFSETFROM:+0000
TZOFFSETTO:+0100
TZNAME:BST
DTSTART:20230326T010000
END:DAYLIGHT
BEGIN:STANDARD
TZOFFSETFROM:+0100
TZOFFSETTO:+0000
TZNAME:GMT
DTSTART:20231029T010000
END:STANDARD
BEGIN:DAYLIGHT
TZOFFSETFROM:+0000
TZOFFSETTO:+0100
TZNAME:BST
DTSTART:20240331T010000
END:DAYLIGHT
BEGIN:STANDARD
TZOFFSETFROM:+0100
TZOFFSETTO:+0000
TZNAME:GMT
DTSTART:20241027T010000
END:STANDARD
BEGIN:DAYLIGHT
TZOFFSETFROM:+0000
TZOFFSETTO:+0100
TZNAME:BST
DTSTART:20250330T010000
END:DAYLIGHT
BEGIN:STANDARD
TZOFFSETFROM:+0100
TZOFFSETTO:+0000
TZNAME:GMT
DTSTART:20251026T010000
END:STANDARD
END:VTIMEZONE
BEGIN:VEVENT
DTSTART;TZID=Europe/London:20241029T133000
DTEND;TZID=Europe/London:20241029T150000
DTSTAMP:20260420T164220
CREATED:20240926T145028Z
LAST-MODIFIED:20240926T145028Z
UID:5267-1730208600-1730214000@www.rednoteensemble.com
SUMMARY:Nordic Music Days Conference 2024
DESCRIPTION:Presented in collaboration between Nordic Music Days Festival and the Music subject area within the College of Arts & Humanities University of Glasgow\, the Nordic Music Days Conference will be two days of exchange and discussion on current musical practices across the Nordic region and Scotland. \nThe conference will focus on three main areas:   \n\nmusic education and community practice  \ninstruments\, sounds and technologies  \nimpacts of innovation and experimentation \n\nAs part of the Tuesday session on community\, education\, and co-creation\, Red Note’s Director of Working with Communities Louise Martin and Dr Jill Morgan (Royal Conservatoire of Scotland) will be talking about the success and impact of An Easterhouse Children’s Manifesto – or Listen to your dog! What 200 primary school collaborators taught us about artistic honesty\, joy\, and what the world should look like. \nAs well as Louise’s presentation\, there will an Easterhouse Children’s Manifesto installation at the Centre for Contemporary Arts Courtyard from Wednesday 30 September to Saturday 2 November.  \nTickets for the Nordic Music Days Conference are free and available now via Eventbrite. \nNordic Music Days 2024 is a Nordic Composers Council project\, managed on their behalf by the Danish Composers Society in collaboration with the Royal Scottish National Orchestra.
URL:https://www.rednoteensemble.com/event/nordic-music-days-conference-2024/
LOCATION:University of Glasgow Advanced Research Centre\, 11 Chapel Lane Glasgow\, Glasgow\, G11 6EW
CATEGORIES:Other Events
ATTACH;FMTTYPE=image/png:https://www.rednoteensemble.com/wp-content/uploads/2024/09/NMD-Conference.png
END:VEVENT
END:VCALENDAR