BEGIN:VCALENDAR
VERSION:2.0
PRODID:-//Red Note  - ECPv6.15.18//NONSGML v1.0//EN
CALSCALE:GREGORIAN
METHOD:PUBLISH
X-ORIGINAL-URL:https://www.rednoteensemble.com
X-WR-CALDESC:Events for Red Note 
REFRESH-INTERVAL;VALUE=DURATION:PT1H
X-Robots-Tag:noindex
X-PUBLISHED-TTL:PT1H
BEGIN:VTIMEZONE
TZID:Europe/London
BEGIN:DAYLIGHT
TZOFFSETFROM:+0000
TZOFFSETTO:+0100
TZNAME:BST
DTSTART:20230326T010000
END:DAYLIGHT
BEGIN:STANDARD
TZOFFSETFROM:+0100
TZOFFSETTO:+0000
TZNAME:GMT
DTSTART:20231029T010000
END:STANDARD
BEGIN:DAYLIGHT
TZOFFSETFROM:+0000
TZOFFSETTO:+0100
TZNAME:BST
DTSTART:20240331T010000
END:DAYLIGHT
BEGIN:STANDARD
TZOFFSETFROM:+0100
TZOFFSETTO:+0000
TZNAME:GMT
DTSTART:20241027T010000
END:STANDARD
BEGIN:DAYLIGHT
TZOFFSETFROM:+0000
TZOFFSETTO:+0100
TZNAME:BST
DTSTART:20250330T010000
END:DAYLIGHT
BEGIN:STANDARD
TZOFFSETFROM:+0100
TZOFFSETTO:+0000
TZNAME:GMT
DTSTART:20251026T010000
END:STANDARD
END:VTIMEZONE
BEGIN:VEVENT
DTSTART;TZID=Europe/London:20241026T120000
DTEND;TZID=Europe/London:20241026T124500
DTSTAMP:20260420T180925
CREATED:20240905T083205Z
LAST-MODIFIED:20240905T083205Z
UID:5199-1729944000-1729946700@www.rednoteensemble.com
SUMMARY:SOUNDFESTIVAL 2024 - SPOTLIGHT GIG
DESCRIPTION:Join us for the world premiere of new works by Scottish-based composers Lucy Callen\, Kristain Rasmussen\, Craig Morrison\, Naomi McGillivray and Vishak Ramaprasad\, resulting from a three-month composer development opportunity supported by composer Deirdre McKay. \nRed Note Ensemble\nFiona Winning\, Viola\nTom Hunter\, Percussion \n  \nThis development opportunity is part of the soundcreators programme which focuses on nurturing creative talent\, and is organised in partnership with sound and Red Note.
URL:https://www.rednoteensemble.com/event/soundfestival-2024-spotlight-gig/
LOCATION:St Andrew’s Cathedral\, Aberdeen\, 28 King Street\, Aberdeen\, AB24 5AX\, United Kingdom
CATEGORIES:Concerts
ATTACH;FMTTYPE=image/png:https://www.rednoteensemble.com/wp-content/uploads/2024/09/Composer-Development-2024.png
END:VEVENT
BEGIN:VEVENT
DTSTART;TZID=Europe/London:20241026T180000
DTEND;TZID=Europe/London:20241026T190000
DTSTAMP:20260420T180925
CREATED:20240905T083028Z
LAST-MODIFIED:20241025T152628Z
UID:5201-1729965600-1729969200@www.rednoteensemble.com
SUMMARY:SOUNDFESTIVAL 2024 - NORTHERN CONNECTION
DESCRIPTION:We are delighted to perform Tine Surel Lange’s Flaskepost again at soundfestival after premiering it in 2023. \nFlaskepost – meaning message in a bottle – is inspired by the ocean connecting Scotland and Norway. Based on field recordings made in the Lofoten archipelago in Northern Norway (where Tine is based)\, the piece is diving into the depths of the ocean\, exploring the musical potential of the ocean itself as well as imagining the creatures and other things you can encounter in the depths. The piece also reflects on the ocean as pathway\, both for human travel throughout the times but also for enormous amounts of plastic waste that with the Gulf Stream end up in Lofoten from all over the world. \nWe will be joined by defunensemble\, Finland and Ensemble Temporum\, Norway who will perform Lauri Supponen North and Lisa Robertson am fàsach. \nTine Surel Lange Flaskepost\nLauri Supponen North (UK Premiere)*\nLisa Robertson am fàsach (UK Premiere)*\n \nRed Note Ensemble\nRuth Morley\, Flute\nTim Lines\, Clarinet\nSiwan Rhys\, Piano\nRobert Irvine\, Cello \nMatthew Swan\, Electronics \n  \nNorthern Connection is a partnership project between Music Finland\, Musica nova Helsinki and defunensemble (Finland)\, Music Norway\, Ultima Festival and Ensemble Temporum (Norway)\, Scottish Music Centre\, soundfestival and Red Note Ensemble (Scotland).
URL:https://www.rednoteensemble.com/event/soundfestival-2024-northern-connection/
LOCATION:The Lemon Tree\, Aberdeen\, AB24 5AT
CATEGORIES:Concerts
ATTACH;FMTTYPE=image/png:https://www.rednoteensemble.com/wp-content/uploads/2024/09/Flaskepost.png
END:VEVENT
END:VCALENDAR