BEGIN:VCALENDAR
VERSION:2.0
PRODID:-//Red Note  - ECPv6.15.18//NONSGML v1.0//EN
CALSCALE:GREGORIAN
METHOD:PUBLISH
X-ORIGINAL-URL:https://www.rednoteensemble.com
X-WR-CALDESC:Events for Red Note 
REFRESH-INTERVAL;VALUE=DURATION:PT1H
X-Robots-Tag:noindex
X-PUBLISHED-TTL:PT1H
BEGIN:VTIMEZONE
TZID:Europe/London
BEGIN:DAYLIGHT
TZOFFSETFROM:+0000
TZOFFSETTO:+0100
TZNAME:BST
DTSTART:20230326T010000
END:DAYLIGHT
BEGIN:STANDARD
TZOFFSETFROM:+0100
TZOFFSETTO:+0000
TZNAME:GMT
DTSTART:20231029T010000
END:STANDARD
BEGIN:DAYLIGHT
TZOFFSETFROM:+0000
TZOFFSETTO:+0100
TZNAME:BST
DTSTART:20240331T010000
END:DAYLIGHT
BEGIN:STANDARD
TZOFFSETFROM:+0100
TZOFFSETTO:+0000
TZNAME:GMT
DTSTART:20241027T010000
END:STANDARD
BEGIN:DAYLIGHT
TZOFFSETFROM:+0000
TZOFFSETTO:+0100
TZNAME:BST
DTSTART:20250330T010000
END:DAYLIGHT
BEGIN:STANDARD
TZOFFSETFROM:+0100
TZOFFSETTO:+0000
TZNAME:GMT
DTSTART:20251026T010000
END:STANDARD
END:VTIMEZONE
BEGIN:VEVENT
DTSTART;TZID=Europe/London:20241025T180000
DTEND;TZID=Europe/London:20241025T190000
DTSTAMP:20260420T180926
CREATED:20240905T082251Z
LAST-MODIFIED:20241025T152514Z
UID:5194-1729879200-1729882800@www.rednoteensemble.com
SUMMARY:SOUNDFESTIVAL 2024 - DECONSTRUCTING PIERROT (WORLD PREMIERE)
DESCRIPTION:A musical demolition and a dramaturgical interrogation\, Laura Bowler’s Deconstructing Pierrot takes Schoenberg’s Pierrot Lunaire and looks at the work through a contemporary queer lens. A new interpretation of Albert Giraud’s poems that repurposes musical material from Schoenberg’s work in a subversive act of defiance of the great master. \nLaura Bowler Deconstructing Pierrot (World Premiere)* \nRed Note Ensemble\nRuth Morley\, Flute\nTim Lines\, Clarinet\nJackie Shave\, Violin\nRobert Irvine\, Cello\nSiwan Rhys\, Piano\nTom Hunter\, Percussion \nLaura Bowler\, Voice \nMatthew Swan\, Electronics \n  \nDeconstructing Pierrot is co-commissioned by Red Note Ensemble\, Music on Main\nand Ensemble Offspring. \n 
URL:https://www.rednoteensemble.com/event/soundfestival-2024-deconstructing-pierrot/
LOCATION:The Lemon Tree\, Aberdeen\, AB24 5AT
CATEGORIES:Concerts
ATTACH;FMTTYPE=image/png:https://www.rednoteensemble.com/wp-content/uploads/2024/09/Laura-Bowler.png
END:VEVENT
END:VCALENDAR