BEGIN:VCALENDAR
VERSION:2.0
PRODID:-//Red Note  - ECPv6.15.18//NONSGML v1.0//EN
CALSCALE:GREGORIAN
METHOD:PUBLISH
X-ORIGINAL-URL:https://www.rednoteensemble.com
X-WR-CALDESC:Events for Red Note 
REFRESH-INTERVAL;VALUE=DURATION:PT1H
X-Robots-Tag:noindex
X-PUBLISHED-TTL:PT1H
BEGIN:VTIMEZONE
TZID:Europe/London
BEGIN:DAYLIGHT
TZOFFSETFROM:+0000
TZOFFSETTO:+0100
TZNAME:BST
DTSTART:20230326T010000
END:DAYLIGHT
BEGIN:STANDARD
TZOFFSETFROM:+0100
TZOFFSETTO:+0000
TZNAME:GMT
DTSTART:20231029T010000
END:STANDARD
BEGIN:DAYLIGHT
TZOFFSETFROM:+0000
TZOFFSETTO:+0100
TZNAME:BST
DTSTART:20240331T010000
END:DAYLIGHT
BEGIN:STANDARD
TZOFFSETFROM:+0100
TZOFFSETTO:+0000
TZNAME:GMT
DTSTART:20241027T010000
END:STANDARD
BEGIN:DAYLIGHT
TZOFFSETFROM:+0000
TZOFFSETTO:+0100
TZNAME:BST
DTSTART:20250330T010000
END:DAYLIGHT
BEGIN:STANDARD
TZOFFSETFROM:+0100
TZOFFSETTO:+0000
TZNAME:GMT
DTSTART:20251026T010000
END:STANDARD
END:VTIMEZONE
BEGIN:VEVENT
DTSTART;VALUE=DATE:20241013
DTEND;VALUE=DATE:20241014
DTSTAMP:20260420T180927
CREATED:20240917T105824Z
LAST-MODIFIED:20240917T105824Z
UID:5261-1728777600-1728863999@www.rednoteensemble.com
SUMMARY:Join the Red Note Ensemble Board
DESCRIPTION:Red Note Ensemble is on the look out for a chartered accountant and a lawyer with experience in contract and IP law to join its Board. \nAs one of the UK’s most exciting and innovative makers and commissioners of new music\, the role of trustee means you will become part of a vanguard developing new works for the national and international stage\, supporting and developing young composers and musicians and working closely with communities. \nYou don’t have to love contemporary music to be part of the story\, but you do need to believe that music makes a real difference to the world. \nYou don’t have to have experience of being on a Board\, one of our core areas of focus is developing talent\, and that applies to our trustees too. \nYou don’t need to be based in Scotland (or the UK)\, we value expertise and insight from anywhere. \nWhat you do need\, is enthusiasm\, affinity with Red Note’s ethos and some time to dedicate to quarterly meetings on Zoom\, with some work in between. \nIn return\, you’ll learn new things\, stretch your thinking\, and meet some genuinely lovely folk. \nIf you’ve never considered being on a Board but you would like to discuss the opportunity with any of us – get in touch. We’d love to hear from you. If you’ve got oodles of experience and have time to spare\, we’d love to hear from you too. \nTo find out more about why Red Note Ensemble is so exciting\, and to discover more about what it means to be a Director and Trustee please check out Red Note’s website\, and the Board Director handbook. \nIf you are interested in finding out more\, please contact Ian Smith\, Chair of the Board at ian65smith@icloud.com. \nAlternatively\, please write to us explaining why you are interested in joining the Board of Red Note Ensemble (no more than an A4 page\, single sided) and attach your CV. Please send this to Red Note’s Acting General Manager\, Flore Ducasse\, on flore@rednoteensemble.com. \nThe deadline to submit interest is Sunday 13th October. \n 
URL:https://www.rednoteensemble.com/event/join-the-red-note-ensemble-board/
CATEGORIES:Other Events
ATTACH;FMTTYPE=image/png:https://www.rednoteensemble.com/wp-content/uploads/2024/09/Board-Recruitment_Website.png
END:VEVENT
END:VCALENDAR