BEGIN:VCALENDAR
VERSION:2.0
PRODID:-//Red Note  - ECPv6.15.18//NONSGML v1.0//EN
CALSCALE:GREGORIAN
METHOD:PUBLISH
X-ORIGINAL-URL:https://www.rednoteensemble.com
X-WR-CALDESC:Events for Red Note 
REFRESH-INTERVAL;VALUE=DURATION:PT1H
X-Robots-Tag:noindex
X-PUBLISHED-TTL:PT1H
BEGIN:VTIMEZONE
TZID:Europe/London
BEGIN:DAYLIGHT
TZOFFSETFROM:+0000
TZOFFSETTO:+0100
TZNAME:BST
DTSTART:20230326T010000
END:DAYLIGHT
BEGIN:STANDARD
TZOFFSETFROM:+0100
TZOFFSETTO:+0000
TZNAME:GMT
DTSTART:20231029T010000
END:STANDARD
BEGIN:DAYLIGHT
TZOFFSETFROM:+0000
TZOFFSETTO:+0100
TZNAME:BST
DTSTART:20240331T010000
END:DAYLIGHT
BEGIN:STANDARD
TZOFFSETFROM:+0100
TZOFFSETTO:+0000
TZNAME:GMT
DTSTART:20241027T010000
END:STANDARD
BEGIN:DAYLIGHT
TZOFFSETFROM:+0000
TZOFFSETTO:+0100
TZNAME:BST
DTSTART:20250330T010000
END:DAYLIGHT
BEGIN:STANDARD
TZOFFSETFROM:+0100
TZOFFSETTO:+0000
TZNAME:GMT
DTSTART:20251026T010000
END:STANDARD
END:VTIMEZONE
BEGIN:VEVENT
DTSTART;VALUE=DATE:20240923
DTEND;VALUE=DATE:20240924
DTSTAMP:20260420T194015
CREATED:20240829T093512Z
LAST-MODIFIED:20240902T104731Z
UID:5176-1727049600-1727135999@www.rednoteensemble.com
SUMMARY:Go Compose! 2024
DESCRIPTION:Go Compose! is a composition course for young composers aged 13-18 and in full time education.  \nIt’s a unique opportunity to work with professional composers and our musicians during a 3-day course ran in partnership with sound.   \nOver three days you will create your own\, original piece of music which will be performed at the end of the course. \nWe are looking for young people with creative potential and commitment to the course. If you are enthusiastic about writing your own\, original music and keen to try out new musical ideas then this is the course for you! \n \nThe course in 2024 will take place at the Phoenix Centre\, Newton Dee\, Bieldside from Monday 14 October – Wednesday 16 October. Go Compose! will be led by professional contemporary composers Aileen Sweeney and Kevin Leomo. Aileen and Kevin will be joined by our musicians Ruth Morley (flute)\, Jackie Shave (violin) and Luis Eisen (bassoon). They are very creative and open about the kinds of music they play! \nTimetable \n\nMonday 14 October 2-8pm\nTuesday 15 October 10am-5pm\nWednesday 16 October 10am-6pm with performance of final pieces @ 5pm\n\nApply \nTo apply for a place on Go Compose! please complete the online registration form here: https://neartail.com/sm/ZYxOdfGiz  \nThe deadline for applying is Monday 23rd September.  \nGo Compose! costs £60 for the whole course. You will also need money for lunches and evening meals. If this is too expensive for you\, please contact us to discuss this as some grants are available. You can attend the performance free of charge. You can also invite your family and friends to attend the final performance. Tickets for this cost £5. \nIf you will be travelling from a distance and would like the option to stay overnight\, we are able to organise supervised accommodation for you at an additional cost of £40 per night including breakfast. Please contact us directly for more information. \nWe will let everyone know if they have been selected to participate by 3rd October. You will then be asked to confirm attendance and to pay the course fee of £60. \nTo find out more information/ask any questions please contact: anna@sound-scotland.co.uk \n  \nFeedback from previous years: \n“Hearing my piece was like a dream come true.” \n“One of the best experiences I have ever had.” \n“A very interesting and informative course that I strongly recommend to others. I would love to come back again next year.” \n  \nGo Compose! is part of Get Creative\, which is generously supported by Aberdeen City Council\, UK Government\, Creative Scotland\, Aberdeen Endowments Trust\, Hugh Fraser Foundation\, Educational Institute of Scotland and David and June Gordon Memorial Trust and The William Syson Foundation. \n 
URL:https://www.rednoteensemble.com/event/go-compose-2024/
CATEGORIES:Creative Learning
ATTACH;FMTTYPE=image/png:https://www.rednoteensemble.com/wp-content/uploads/2024/08/Go-compose-flyer-screenshot-final.png
END:VEVENT
END:VCALENDAR