BEGIN:VCALENDAR
VERSION:2.0
PRODID:-//Red Note  - ECPv6.15.18//NONSGML v1.0//EN
CALSCALE:GREGORIAN
METHOD:PUBLISH
X-ORIGINAL-URL:https://www.rednoteensemble.com
X-WR-CALDESC:Events for Red Note 
REFRESH-INTERVAL;VALUE=DURATION:PT1H
X-Robots-Tag:noindex
X-PUBLISHED-TTL:PT1H
BEGIN:VTIMEZONE
TZID:Europe/London
BEGIN:DAYLIGHT
TZOFFSETFROM:+0000
TZOFFSETTO:+0100
TZNAME:BST
DTSTART:20230326T010000
END:DAYLIGHT
BEGIN:STANDARD
TZOFFSETFROM:+0100
TZOFFSETTO:+0000
TZNAME:GMT
DTSTART:20231029T010000
END:STANDARD
BEGIN:DAYLIGHT
TZOFFSETFROM:+0000
TZOFFSETTO:+0100
TZNAME:BST
DTSTART:20240331T010000
END:DAYLIGHT
BEGIN:STANDARD
TZOFFSETFROM:+0100
TZOFFSETTO:+0000
TZNAME:GMT
DTSTART:20241027T010000
END:STANDARD
BEGIN:DAYLIGHT
TZOFFSETFROM:+0000
TZOFFSETTO:+0100
TZNAME:BST
DTSTART:20250330T010000
END:DAYLIGHT
BEGIN:STANDARD
TZOFFSETFROM:+0100
TZOFFSETTO:+0000
TZNAME:GMT
DTSTART:20251026T010000
END:STANDARD
END:VTIMEZONE
BEGIN:VEVENT
DTSTART;TZID=Europe/London:20240326T100000
DTEND;TZID=Europe/London:20240413T170000
DTSTAMP:20260421T033036
CREATED:20240305T153641Z
LAST-MODIFIED:20240409T141124Z
UID:5008-1711447200-1713027600@www.rednoteensemble.com
SUMMARY:An Easterhouse Children's Manifesto at the Library at The Bridge
DESCRIPTION:Developed over a year long process of co-creation involving composer Brian Irvine and director John McIlduff (Dumbworld) in collaboration with the children of Oakwood Primary School in Easterhouse and Red Note Ensemble – An Easterhouse Children’s Manifesto is a collection of 7 musical animated video posters that explore ideas of personal autonomy\, kindness and human connectivity from a child’s perspective. \nThe work was developed in a year long process of co-creation involving pupils\, teachers\, artists and musicians. \nThe animated posters will be displayed at the Library at The Bridge in Easterhouse from Tuesday 26th March to Saturday 13th April (closed during the Easter weekend).  \nJoin us Tuesday 26th March at 11am for the exhibition launch! Tea and coffee will be provided. \nOpening times:\nMonday to Saturday: 10am – 5pm\nClosed on Sunday \nThe exhibition is free and not ticketed.  \nWatch the trailer: 
URL:https://www.rednoteensemble.com/event/ecm-platform/
LOCATION:Library at The Bridge\, 1000 Westerhouse Rd\, Easterhouse\, G34 9JW\, United Kingdom
CATEGORIES:Exhibition
ATTACH;FMTTYPE=image/png:https://www.rednoteensemble.com/wp-content/uploads/2024/03/ECM-Web-visual.png
END:VEVENT
END:VCALENDAR