BEGIN:VCALENDAR
VERSION:2.0
PRODID:-//Red Note  - ECPv6.15.18//NONSGML v1.0//EN
CALSCALE:GREGORIAN
METHOD:PUBLISH
X-ORIGINAL-URL:https://www.rednoteensemble.com
X-WR-CALDESC:Events for Red Note 
REFRESH-INTERVAL;VALUE=DURATION:PT1H
X-Robots-Tag:noindex
X-PUBLISHED-TTL:PT1H
BEGIN:VTIMEZONE
TZID:Europe/London
BEGIN:DAYLIGHT
TZOFFSETFROM:+0000
TZOFFSETTO:+0100
TZNAME:BST
DTSTART:20230326T010000
END:DAYLIGHT
BEGIN:STANDARD
TZOFFSETFROM:+0100
TZOFFSETTO:+0000
TZNAME:GMT
DTSTART:20231029T010000
END:STANDARD
BEGIN:DAYLIGHT
TZOFFSETFROM:+0000
TZOFFSETTO:+0100
TZNAME:BST
DTSTART:20240331T010000
END:DAYLIGHT
BEGIN:STANDARD
TZOFFSETFROM:+0100
TZOFFSETTO:+0000
TZNAME:GMT
DTSTART:20241027T010000
END:STANDARD
BEGIN:DAYLIGHT
TZOFFSETFROM:+0000
TZOFFSETTO:+0100
TZNAME:BST
DTSTART:20250330T010000
END:DAYLIGHT
BEGIN:STANDARD
TZOFFSETFROM:+0100
TZOFFSETTO:+0000
TZNAME:GMT
DTSTART:20251026T010000
END:STANDARD
END:VTIMEZONE
BEGIN:VEVENT
DTSTART;VALUE=DATE:20240308
DTEND;VALUE=DATE:20240317
DTSTAMP:20260421T064607
CREATED:20240206T135210Z
LAST-MODIFIED:20240228T160153Z
UID:4952-1709856000-1710633599@www.rednoteensemble.com
SUMMARY:An Easterhouse Children's Manifesto at the Belfast Children's Festival
DESCRIPTION:Developed over a year long process of co-creation involving composer Brian Irvine and director John McIlduff (Dumbworld) in collaboration with the children of Oakwood Primary School in Glasgow and Red Note Ensemble – An Easterhouse Children’s Manifesto is a collection of 7 musical animated video posters that explore ideas of personal autonomy\, kindness and human connectivity from a child’s perspective. \nThe work was developed in a year long process of co-creation involving pupils\, teachers\, artists and musicians. \nThe animated posters will be displayed at The Atrium\, BC Building\, Level 3\, Ulster University in Belfast from Friday 8th to Saturday 16th March.  \nThe exhibition is free and not ticketed.  \nWatch the trailer: 
URL:https://www.rednoteensemble.com/event/an-easterhouse-childrens-manifesto-at-the-belfast-childrens-festival/
LOCATION:Ulster University – The Atrium\, BC Building\, Level 3\, Belfast\, BT151ED\, United Kingdom
CATEGORIES:Other Events
ATTACH;FMTTYPE=image/png:https://www.rednoteensemble.com/wp-content/uploads/2024/02/easterhouse-blank-e1709034673819.png
END:VEVENT
END:VCALENDAR