BEGIN:VCALENDAR
VERSION:2.0
PRODID:-//Red Note  - ECPv6.15.18//NONSGML v1.0//EN
CALSCALE:GREGORIAN
METHOD:PUBLISH
X-ORIGINAL-URL:https://www.rednoteensemble.com
X-WR-CALDESC:Events for Red Note 
REFRESH-INTERVAL;VALUE=DURATION:PT1H
X-Robots-Tag:noindex
X-PUBLISHED-TTL:PT1H
BEGIN:VTIMEZONE
TZID:Europe/London
BEGIN:DAYLIGHT
TZOFFSETFROM:+0000
TZOFFSETTO:+0100
TZNAME:BST
DTSTART:20230326T010000
END:DAYLIGHT
BEGIN:STANDARD
TZOFFSETFROM:+0100
TZOFFSETTO:+0000
TZNAME:GMT
DTSTART:20231029T010000
END:STANDARD
BEGIN:DAYLIGHT
TZOFFSETFROM:+0000
TZOFFSETTO:+0100
TZNAME:BST
DTSTART:20240331T010000
END:DAYLIGHT
BEGIN:STANDARD
TZOFFSETFROM:+0100
TZOFFSETTO:+0000
TZNAME:GMT
DTSTART:20241027T010000
END:STANDARD
BEGIN:DAYLIGHT
TZOFFSETFROM:+0000
TZOFFSETTO:+0100
TZNAME:BST
DTSTART:20250330T010000
END:DAYLIGHT
BEGIN:STANDARD
TZOFFSETFROM:+0100
TZOFFSETTO:+0000
TZNAME:GMT
DTSTART:20251026T010000
END:STANDARD
END:VTIMEZONE
BEGIN:VEVENT
DTSTART;TZID=Europe/London:20240126T130000
DTEND;TZID=Europe/London:20240126T140000
DTSTAMP:20260421T094802
CREATED:20231113T102105Z
LAST-MODIFIED:20240122T113529Z
UID:4869-1706274000-1706277600@www.rednoteensemble.com
SUMMARY:Red Note at RCS: Ligeti Piano Concerto
DESCRIPTION:Following Ligeti’s centenary year in 2023\, we will perform the composer’s extraordinary Piano Concerto with RCS Doctor of Performing Arts student\, Marianna Abrahamyan. This performance will be the culmination of Marianna’s studies\, exploring the work of one of the most innovative\, influential\, and distinctive composers of the 20th century. \nGyörgy Ligeti\, Piano Concerto \nStudents new works: \nKassia Bailey\, Twice Upon\nKate Sagovsky\, On G\nKaiwen Liu\, Wind is tonight’s answer \nRed Note Ensemble\nEliza Marshall\, flute\nKatherine Bryer\, oboe\nTim Lines\, clarinet\nCerys Ambrose\, bassoon\nAndy Saunders\, horn\nSimon Bird\, trumpet\nSimon Johnson\, trombone\nTom Hunter\, percussion 1\nPatrick Nolan\, percussion 2 \nJackie Shave\, violin 1\nTom Hankey\, violin 2\nFiona Winning\, viola\nLionel Handy\, cello\nIain Crawford\, double bass \nRyan McAdams\, Conductor\nMarianna Abrahamyan\, Piano \n 
URL:https://www.rednoteensemble.com/event/red-note-at-rcs-ligeti-piano-concerto/
LOCATION:Stevenson Hall\, Royal Conservatoire of Scotland\, 100 Renfrew Street\, Glasgow\, G2 3DB\, United Kingdom
CATEGORIES:Concerts
ATTACH;FMTTYPE=image/png:https://www.rednoteensemble.com/wp-content/uploads/2023/11/RCSLigeti-Piano-Concerto.png
END:VEVENT
END:VCALENDAR