BEGIN:VCALENDAR
VERSION:2.0
PRODID:-//Red Note  - ECPv6.15.18//NONSGML v1.0//EN
CALSCALE:GREGORIAN
METHOD:PUBLISH
X-WR-CALNAME:Red Note 
X-ORIGINAL-URL:https://www.rednoteensemble.com
X-WR-CALDESC:Events for Red Note 
REFRESH-INTERVAL;VALUE=DURATION:PT1H
X-Robots-Tag:noindex
X-PUBLISHED-TTL:PT1H
BEGIN:VTIMEZONE
TZID:Europe/London
BEGIN:DAYLIGHT
TZOFFSETFROM:+0000
TZOFFSETTO:+0100
TZNAME:BST
DTSTART:20220327T010000
END:DAYLIGHT
BEGIN:STANDARD
TZOFFSETFROM:+0100
TZOFFSETTO:+0000
TZNAME:GMT
DTSTART:20221030T010000
END:STANDARD
BEGIN:DAYLIGHT
TZOFFSETFROM:+0000
TZOFFSETTO:+0100
TZNAME:BST
DTSTART:20230326T010000
END:DAYLIGHT
BEGIN:STANDARD
TZOFFSETFROM:+0100
TZOFFSETTO:+0000
TZNAME:GMT
DTSTART:20231029T010000
END:STANDARD
BEGIN:DAYLIGHT
TZOFFSETFROM:+0000
TZOFFSETTO:+0100
TZNAME:BST
DTSTART:20240331T010000
END:DAYLIGHT
BEGIN:STANDARD
TZOFFSETFROM:+0100
TZOFFSETTO:+0000
TZNAME:GMT
DTSTART:20241027T010000
END:STANDARD
END:VTIMEZONE
BEGIN:VEVENT
DTSTART;TZID=Europe/London:20231027T100000
DTEND;TZID=Europe/London:20231028T121500
DTSTAMP:20260421T141612
CREATED:20230912T155854Z
LAST-MODIFIED:20231012T102550Z
UID:4782-1698400800-1698495300@www.rednoteensemble.com
SUMMARY:Soundfestival 2023 - FLOCK
DESCRIPTION:We’re delighted to premiere FLOCK\, a show for children aged 4 to 8\, that we co-commissioned along sound.  \n\n\n\n\n\nFLOCK is a show created for children aged 4 to 8.Opening with a sonically and visually captivating performance by the musicians\, the children are then gently encouraged to become part of the piece until\, through their collective efforts\, a chirruping\, chattering musical flock comes into being.\n\n\nRecommended for children aged 4-8.\n\nThere will be 4 performances: \n   – Fri 27 Oct\, 1o:00-10:45\n   – Fri 27 Oct\, 11:30-12:15\n   – Sat 28 Oct\, 1o:00-10:45\n   – Sat 28 Oct\, 11:30-12:15  \n\nKathy Hinde\, Artist \n\n\nMatt Addicott\, Dramaturg\n\n\nRed Note Ensemble\nRuth Morley\, Flute\nDuncan Strachan\, Cello \nTom Hunter\, Percussion\n\n\nElle Taylor\, Production Manager\n\nFLOCK is co-commissioned by sound and Red Note Ensemble
URL:https://www.rednoteensemble.com/event/soundfestival-2023-flock/
LOCATION:Anatomy Rooms\, Shoe Lane\, Aberdeen\, AB10 1AL
CATEGORIES:Concerts
ATTACH;FMTTYPE=image/png:https://www.rednoteensemble.com/wp-content/uploads/2023/09/4.png
END:VEVENT
BEGIN:VEVENT
DTSTART;TZID=Europe/London:20231027T153000
DTEND;TZID=Europe/London:20231027T160000
DTSTAMP:20260421T141612
CREATED:20230912T161357Z
LAST-MODIFIED:20231019T085002Z
UID:4786-1698420600-1698422400@www.rednoteensemble.com
SUMMARY:Soundfestival 2023 - Go Compose!
DESCRIPTION:Our players\, Ruth\, Fiona and Tom perform new works developed for them by young composers from North-East secondary schools as part of the Go Compose! course earlier in October.  \nThe event is free but ticketed.  \nGo Compose! is a composition course for young composers aged 13-18 and in full time education and is a unique opportunity to work with professional composers and our musicians during a 3-day course ran in partnership with sound.   \n\n\nOver 3 days you the participants create their own\, original piece of music with the help of professional contemporary composers Bekah Simms and Elise Haller-Shannon.  \n\n\nRia Parmar Downfall Fury\nFinn Moan à travers le brouillard\nDfa Aldaioub A Gardenia’s Lullaby\nSolomon McMillan Brain Itch\nJonathan Turner Meander in Four\n\nRuby Kidd Emotions of the Sky\nViolet Harus Enigma – Rondo Revolution\nMurray Nicholl Fallen Leaves\nThomas Ramsay Allegro for Flute\, Viola & Vibraphone\n \n\n\n\n\nRed Note Ensemble\nRuth Morley\, flute\nFiona Winning\, viola\nTom Hunter\, percussion\n\n\n 
URL:https://www.rednoteensemble.com/event/soundfestival-2023-go-compose/
LOCATION:The Big Sky Studio\, Music Hall\, Union Street\, Aberdeen\, Aberdeenshire\, AB10 1QS\, United Kingdom
CATEGORIES:Concerts
ATTACH;FMTTYPE=image/png:https://www.rednoteensemble.com/wp-content/uploads/2023/09/2.png
END:VEVENT
END:VCALENDAR