BEGIN:VCALENDAR
VERSION:2.0
PRODID:-//Red Note  - ECPv6.15.18//NONSGML v1.0//EN
CALSCALE:GREGORIAN
METHOD:PUBLISH
X-WR-CALNAME:Red Note 
X-ORIGINAL-URL:https://www.rednoteensemble.com
X-WR-CALDESC:Events for Red Note 
REFRESH-INTERVAL;VALUE=DURATION:PT1H
X-Robots-Tag:noindex
X-PUBLISHED-TTL:PT1H
BEGIN:VTIMEZONE
TZID:Europe/London
BEGIN:DAYLIGHT
TZOFFSETFROM:+0000
TZOFFSETTO:+0100
TZNAME:BST
DTSTART:20220327T010000
END:DAYLIGHT
BEGIN:STANDARD
TZOFFSETFROM:+0100
TZOFFSETTO:+0000
TZNAME:GMT
DTSTART:20221030T010000
END:STANDARD
BEGIN:DAYLIGHT
TZOFFSETFROM:+0000
TZOFFSETTO:+0100
TZNAME:BST
DTSTART:20230326T010000
END:DAYLIGHT
BEGIN:STANDARD
TZOFFSETFROM:+0100
TZOFFSETTO:+0000
TZNAME:GMT
DTSTART:20231029T010000
END:STANDARD
BEGIN:DAYLIGHT
TZOFFSETFROM:+0000
TZOFFSETTO:+0100
TZNAME:BST
DTSTART:20240331T010000
END:DAYLIGHT
BEGIN:STANDARD
TZOFFSETFROM:+0100
TZOFFSETTO:+0000
TZNAME:GMT
DTSTART:20241027T010000
END:STANDARD
END:VTIMEZONE
BEGIN:VEVENT
DTSTART;VALUE=DATE:20230907
DTEND;VALUE=DATE:20230909
DTSTAMP:20260421T155440
CREATED:20230816T165235Z
LAST-MODIFIED:20230902T112107Z
UID:4736-1694044800-1694217599@www.rednoteensemble.com
SUMMARY:Northern Connection Workshop
DESCRIPTION:Northern Connection is a new and innovative project that aims to connect Nordic countries and Scotland by establishing and strengthening liaisons between composers\, ensembles and festivals in contemporary music. \nOn 7th and 8th of September\, our players will meet with Norwegian composer Tine Surel Lange for a development workshop in preparation of the premiere of a new commissioned work ‘Flaskepost’ at soundfestival in October 2023. \nMore on this soon! \n  \nNorthern Connection fully started in the beginning of 2023. Other countries will join the project in the coming years. The project is initiated and led by Music Finland. \nEach country’s selected commission will be performed by one of the ensembles at a festival in at least one of the partner countries\, and possibly more\, during 2023 and the following years. \n\n\nNorthern Connection is built on the principles of sustainable development and ecological awareness\, and it enables the creation of long-term cooperative relationships between contemporary music professionals in northern countries. The commissioned works will get more than one performance and the ensembles will tour in the partner festivals in an environmentally sustainable way.​ \nIn this programme\, composers will get new commissions\, ensembles will get new material for their repertoire and festivals will get new programme from the neighbouring countries – which is sustainable and financially wise. New contacts\, ideas and networks will strengthen co-operation and bring additional value to the contemporary art field in the northern area. \n\n“It’s been a pleasure to plan a new type of cooperation with our northern partners. It’s especially gratifying to have Scotland with us in the project. Everyone is excited to join in and inquiries have already come in about when the project will expand and whether we can add more partners to the Northern Connection network\,” says Heli Lampi\, Music Finland’s Head of Communications and Promotion. \n\n\n\nMore information about the project at www.northernconnection.net \nPhoto credit: Tine Surel Lange
URL:https://www.rednoteensemble.com/event/northern-connection-workshop/
CATEGORIES:Other Events
ATTACH;FMTTYPE=image/jpeg:https://www.rednoteensemble.com/wp-content/uploads/2023/08/Tine-Surel-Lange_Lofoten-March-2021-Ib-square_Photo-by-Tine-Surel-Lange-e1693653613757.jpeg
END:VEVENT
END:VCALENDAR