BEGIN:VCALENDAR
VERSION:2.0
PRODID:-//Red Note  - ECPv6.15.18//NONSGML v1.0//EN
CALSCALE:GREGORIAN
METHOD:PUBLISH
X-WR-CALNAME:Red Note 
X-ORIGINAL-URL:https://www.rednoteensemble.com
X-WR-CALDESC:Events for Red Note 
REFRESH-INTERVAL;VALUE=DURATION:PT1H
X-Robots-Tag:noindex
X-PUBLISHED-TTL:PT1H
BEGIN:VTIMEZONE
TZID:Europe/London
BEGIN:DAYLIGHT
TZOFFSETFROM:+0000
TZOFFSETTO:+0100
TZNAME:BST
DTSTART:20220327T010000
END:DAYLIGHT
BEGIN:STANDARD
TZOFFSETFROM:+0100
TZOFFSETTO:+0000
TZNAME:GMT
DTSTART:20221030T010000
END:STANDARD
BEGIN:DAYLIGHT
TZOFFSETFROM:+0000
TZOFFSETTO:+0100
TZNAME:BST
DTSTART:20230326T010000
END:DAYLIGHT
BEGIN:STANDARD
TZOFFSETFROM:+0100
TZOFFSETTO:+0000
TZNAME:GMT
DTSTART:20231029T010000
END:STANDARD
BEGIN:DAYLIGHT
TZOFFSETFROM:+0000
TZOFFSETTO:+0100
TZNAME:BST
DTSTART:20240331T010000
END:DAYLIGHT
BEGIN:STANDARD
TZOFFSETFROM:+0100
TZOFFSETTO:+0000
TZNAME:GMT
DTSTART:20241027T010000
END:STANDARD
END:VTIMEZONE
BEGIN:VEVENT
DTSTART;VALUE=DATE:20230731
DTEND;VALUE=DATE:20230801
DTSTAMP:20260421T172601
CREATED:20230301T151804Z
LAST-MODIFIED:20230329T092428Z
UID:4442-1690761600-1690847999@www.rednoteensemble.com
SUMMARY:CD Release - James Dillon: Tanz/Haus & Emblemata - Carnival
DESCRIPTION:Coming almost a decade and a half after the last CDs devoted to James Dillon’s music\, this twinned pair of digital releases in collaboration with Delphian Records presents two major works written for and premiered by our ensemble in the last six years. \nTanz/haus: triptych 2017 is one of Dillon’s richest recent conceptions: a 45-minute meditation on dance as a form of ‘trembling’\, featuring electric guitar and – as in so much of Dillon’s recent music – a prerecorded electronic track of immense mystery and power.The work secured for Dillon his fifth Royal Philharmonic Society award – an astonishing tally\, unequalled by any living composer.\nListen to the album here: https://orcd.co/james-dillon-tanzhaus \nCarnival\, the first in a projected series of ‘emblem books’\, is a compellingly sustained whole built up from a series of character pieces tailored to the imaginative as well as technical capacities of the Red Note musicians.\nListen to the album here: https://orcd.co/emblemata \n 
URL:https://www.rednoteensemble.com/event/cd-release-james-dillon-tanz-haus-emblemata-carnival/
CATEGORIES:Other Events
ATTACH;FMTTYPE=image/png:https://www.rednoteensemble.com/wp-content/uploads/2023/03/Untitled-design-3.png
END:VEVENT
END:VCALENDAR