BEGIN:VCALENDAR
VERSION:2.0
PRODID:-//Red Note  - ECPv6.15.18//NONSGML v1.0//EN
CALSCALE:GREGORIAN
METHOD:PUBLISH
X-WR-CALNAME:Red Note 
X-ORIGINAL-URL:https://www.rednoteensemble.com
X-WR-CALDESC:Events for Red Note 
REFRESH-INTERVAL;VALUE=DURATION:PT1H
X-Robots-Tag:noindex
X-PUBLISHED-TTL:PT1H
BEGIN:VTIMEZONE
TZID:Europe/London
BEGIN:DAYLIGHT
TZOFFSETFROM:+0000
TZOFFSETTO:+0100
TZNAME:BST
DTSTART:20220327T010000
END:DAYLIGHT
BEGIN:STANDARD
TZOFFSETFROM:+0100
TZOFFSETTO:+0000
TZNAME:GMT
DTSTART:20221030T010000
END:STANDARD
BEGIN:DAYLIGHT
TZOFFSETFROM:+0000
TZOFFSETTO:+0100
TZNAME:BST
DTSTART:20230326T010000
END:DAYLIGHT
BEGIN:STANDARD
TZOFFSETFROM:+0100
TZOFFSETTO:+0000
TZNAME:GMT
DTSTART:20231029T010000
END:STANDARD
BEGIN:DAYLIGHT
TZOFFSETFROM:+0000
TZOFFSETTO:+0100
TZNAME:BST
DTSTART:20240331T010000
END:DAYLIGHT
BEGIN:STANDARD
TZOFFSETFROM:+0100
TZOFFSETTO:+0000
TZNAME:GMT
DTSTART:20241027T010000
END:STANDARD
END:VTIMEZONE
BEGIN:VEVENT
DTSTART;TZID=Europe/London:20230206T180000
DTEND;TZID=Europe/London:20230206T190000
DTSTAMP:20260422T023046
CREATED:20230126T095921Z
LAST-MODIFIED:20230126T095921Z
UID:4408-1675706400-1675710000@www.rednoteensemble.com
SUMMARY:Methil Makes Music
DESCRIPTION:“Methil Makes Music” is a community sharing jointly organised by Levenmouth Academy\, Methilhill Primary School and Red Note Ensemble\, which will be held on Monday 6th February at 6pm at Levenmouth Academy School Hall. \n \nThe performance will feature new compositions from Levenmouth Academy pupils created as part of Red Note’s New Music Makers programme. Over the course of five sessions\, three Red Note musicians and composer Oli Searle have worked with pupils at Levenmouth Academy to explore and create new music. The sharing will showcase the compositions from those pupils. \n \nThe performance will also feature three songs performed by Methilhill Primary Schools P1 and P4 and Red Note Ensemble. Those songs are the result of a long term involvement of Red Note Ensemble with Methilhill Primary School. Composer Oli Searle has been working for the past months with the school and pupils on the songs that will be performed during the evening. \n \nWe are very proud to be able to share the work of all the pupils and communities involved in those projects!  \n \n\nRed Note Ensemble\nRuth Morley\, Flute\nAlex South\, Clarinet\nRobert Irvine\, Cello \n*Please note: this performance is not on sale to the general public. 
URL:https://www.rednoteensemble.com/event/methil-makes-music/
CATEGORIES:Concerts
ATTACH;FMTTYPE=image/png:https://www.rednoteensemble.com/wp-content/uploads/2023/01/Untitled-1440-×-1080px-2.png
END:VEVENT
END:VCALENDAR