BEGIN:VCALENDAR
VERSION:2.0
PRODID:-//Red Note  - ECPv6.15.18//NONSGML v1.0//EN
CALSCALE:GREGORIAN
METHOD:PUBLISH
X-ORIGINAL-URL:https://www.rednoteensemble.com
X-WR-CALDESC:Events for Red Note 
REFRESH-INTERVAL;VALUE=DURATION:PT1H
X-Robots-Tag:noindex
X-PUBLISHED-TTL:PT1H
BEGIN:VTIMEZONE
TZID:Europe/London
BEGIN:DAYLIGHT
TZOFFSETFROM:+0000
TZOFFSETTO:+0100
TZNAME:BST
DTSTART:20210328T010000
END:DAYLIGHT
BEGIN:STANDARD
TZOFFSETFROM:+0100
TZOFFSETTO:+0000
TZNAME:GMT
DTSTART:20211031T010000
END:STANDARD
BEGIN:DAYLIGHT
TZOFFSETFROM:+0000
TZOFFSETTO:+0100
TZNAME:BST
DTSTART:20220327T010000
END:DAYLIGHT
BEGIN:STANDARD
TZOFFSETFROM:+0100
TZOFFSETTO:+0000
TZNAME:GMT
DTSTART:20221030T010000
END:STANDARD
BEGIN:DAYLIGHT
TZOFFSETFROM:+0000
TZOFFSETTO:+0100
TZNAME:BST
DTSTART:20230326T010000
END:DAYLIGHT
BEGIN:STANDARD
TZOFFSETFROM:+0100
TZOFFSETTO:+0000
TZNAME:GMT
DTSTART:20231029T010000
END:STANDARD
END:VTIMEZONE
BEGIN:VEVENT
DTSTART;TZID=Europe/London:20221120T120000
DTEND;TZID=Europe/London:20221120T130000
DTSTAMP:20260422T070953
CREATED:20220906T153927Z
LAST-MODIFIED:20221025T150136Z
UID:4268-1668945600-1668949200@www.rednoteensemble.com
SUMMARY:Red Note at hcmf// 2022
DESCRIPTION:Úna Monaghan is a harper\, composer\, researcher and sound artist from Belfast\, working with experimental and improvised sound\, and with live electronics\, from a traditional Irish music background. Her recent work has combined traditional music with bronze sculpture\, sound art and movement sensors. She has been commissioned by hcmf// and Red Note Ensemble to create a new piece\, Notwithstanding\, that will be premiered at hcmf// 2022. It is for solo harp\, electronics and ensemble. \nIn Ann Cleare’s Dysmorphia II\, the three instruments adopt warped versions of each other as if they are different sides of the same brain\, looking at and interpreting the same world but unable to form a consensus on their vision of it. This is an obsessive\, distorted world in which every compositional parameter is saturated in the idea of dysmorphia – timbral\, harmonic\, formal\, rhythmic\, and dynamic dysmorphia with each parameter frantically searching for the difference between reality and perception. \nNick Roth’s Flocking III\, meanwhile\, explores the mechanisms of an emergent system in which individual components can be perceived to express themselves as a group. Nature offers many spectacular examples of this type of behaviour\, of which perhaps the most beautiful is the flocking of birds in flight. \n  \nÚna Monaghan Notwithstanding (World Premiere)*\nAnn Cleare Dysmorphia II (World Premiere of trio edition)\nNick Roth Flocking III (UK Premiere) \nRed Note Ensemble\nRuth Morley\, flute / piccolo\nWill White\, clarinet / bass clarinet\nJackie Shave\, violin\nTom Hankey\, viola\nRobert Irvine\, cello\nIain Crawford\, double bass\nTom Hunter\, percussion \nÚna Monaghan harp \nNick Roth soprano / tenor saxophones \nGeoffrey Paterson conductor \n*co-commissioned by hcmf// & Red Note Ensemble \n 
URL:https://www.rednoteensemble.com/event/red-note-at-hcmf-2022/
LOCATION:Phipps Hall\, University of Huddersfield\, Queensgate\, Huddersfield\, HD1 3DH
CATEGORIES:Concerts
ATTACH;FMTTYPE=image/jpeg:https://www.rednoteensemble.com/wp-content/uploads/2022/09/Untitled-design.jpg
END:VEVENT
END:VCALENDAR