BEGIN:VCALENDAR
VERSION:2.0
PRODID:-//Red Note  - ECPv6.15.18//NONSGML v1.0//EN
CALSCALE:GREGORIAN
METHOD:PUBLISH
X-ORIGINAL-URL:https://www.rednoteensemble.com
X-WR-CALDESC:Events for Red Note 
REFRESH-INTERVAL;VALUE=DURATION:PT1H
X-Robots-Tag:noindex
X-PUBLISHED-TTL:PT1H
BEGIN:VTIMEZONE
TZID:Europe/London
BEGIN:DAYLIGHT
TZOFFSETFROM:+0000
TZOFFSETTO:+0100
TZNAME:BST
DTSTART:20210328T010000
END:DAYLIGHT
BEGIN:STANDARD
TZOFFSETFROM:+0100
TZOFFSETTO:+0000
TZNAME:GMT
DTSTART:20211031T010000
END:STANDARD
BEGIN:DAYLIGHT
TZOFFSETFROM:+0000
TZOFFSETTO:+0100
TZNAME:BST
DTSTART:20220327T010000
END:DAYLIGHT
BEGIN:STANDARD
TZOFFSETFROM:+0100
TZOFFSETTO:+0000
TZNAME:GMT
DTSTART:20221030T010000
END:STANDARD
BEGIN:DAYLIGHT
TZOFFSETFROM:+0000
TZOFFSETTO:+0100
TZNAME:BST
DTSTART:20230326T010000
END:DAYLIGHT
BEGIN:STANDARD
TZOFFSETFROM:+0100
TZOFFSETTO:+0000
TZNAME:GMT
DTSTART:20231029T010000
END:STANDARD
END:VTIMEZONE
BEGIN:VEVENT
DTSTART;TZID=Europe/London:20221107T190000
DTEND;TZID=Europe/London:20221107T210000
DTSTAMP:20260422T070912
CREATED:20220928T153949Z
LAST-MODIFIED:20221025T140353Z
UID:4298-1667847600-1667854800@www.rednoteensemble.com
SUMMARY:Noisy Nights at Glad Café Glasgow
DESCRIPTION:Noisy Nights provide an outlet to hear emerging new musical ideas and voices. Join us at the Glad Café for an informal night of new music. Three Red Note musicians will perform 10 short new works selected from an open call (details to apply here: https://www.rednoteensemble.com/event/noisy-nights-2022-in-glasgow-call-for-scores/)..  \n\n\n\n\nThere is even a chance to take part in the gig with our 10 minutes composer challenge\, where you’ll be able to create a quick sketch on the spot and have it played by our musicians. \nThe concert will be held at the Glad Café in Glasgow\, on Monday 7th November\, 7pm. Tickets are free but booking is required.  \nBarry Paul Horrell  La Folia\nDavid Roche The Church\nJacquelyn Hazle Hours\nLuke ‘Luca’ Cockayne Optimistic Timekeeping\nRebecca Frances Stale Connections\nTaner Kemirtlek Glad Cafe\nThomas Djønne Triplex\nTom Hawkins Chromatic Explosions\nTsz To Lo Hexagonal Buzzing\n \n\n\n\n\nRed Note Ensemble \nPaul Bosworth\, trumpet\nFiona Winning\, viola\nRobert Irvine\, cello\n \nJohn Harris Conductor \n 
URL:https://www.rednoteensemble.com/event/noisy-nights-at-glad-cafe-glasgow/
LOCATION:Glad Café\, 1006A Pollokshaws Rd\, Glasgow\, G41 2HG\, United Kingdom
CATEGORIES:Concerts
ATTACH;FMTTYPE=image/png:https://www.rednoteensemble.com/wp-content/uploads/2022/09/NN-Glasgow-Concert.png
END:VEVENT
END:VCALENDAR