BEGIN:VCALENDAR
VERSION:2.0
PRODID:-//Red Note  - ECPv6.15.18//NONSGML v1.0//EN
CALSCALE:GREGORIAN
METHOD:PUBLISH
X-ORIGINAL-URL:https://www.rednoteensemble.com
X-WR-CALDESC:Events for Red Note 
REFRESH-INTERVAL;VALUE=DURATION:PT1H
X-Robots-Tag:noindex
X-PUBLISHED-TTL:PT1H
BEGIN:VTIMEZONE
TZID:Europe/London
BEGIN:DAYLIGHT
TZOFFSETFROM:+0000
TZOFFSETTO:+0100
TZNAME:BST
DTSTART:20210328T010000
END:DAYLIGHT
BEGIN:STANDARD
TZOFFSETFROM:+0100
TZOFFSETTO:+0000
TZNAME:GMT
DTSTART:20211031T010000
END:STANDARD
BEGIN:DAYLIGHT
TZOFFSETFROM:+0000
TZOFFSETTO:+0100
TZNAME:BST
DTSTART:20220327T010000
END:DAYLIGHT
BEGIN:STANDARD
TZOFFSETFROM:+0100
TZOFFSETTO:+0000
TZNAME:GMT
DTSTART:20221030T010000
END:STANDARD
BEGIN:DAYLIGHT
TZOFFSETFROM:+0000
TZOFFSETTO:+0100
TZNAME:BST
DTSTART:20230326T010000
END:DAYLIGHT
BEGIN:STANDARD
TZOFFSETFROM:+0100
TZOFFSETTO:+0000
TZNAME:GMT
DTSTART:20231029T010000
END:STANDARD
END:VTIMEZONE
BEGIN:VEVENT
DTSTART;TZID=Europe/London:20221030T110000
DTEND;TZID=Europe/London:20221030T120000
DTSTAMP:20260422T084144
CREATED:20221007T130047Z
LAST-MODIFIED:20230112T145852Z
UID:4316-1667127600-1667131200@www.rednoteensemble.com
SUMMARY:Composer Development Concert - sound festival 2022
DESCRIPTION:We are delighted to announce that five Scotland-based composers have been selected to participate in a development opportunity where they will work alongside Fiona Winning (viola) and Stephanie Lamprea (voice) and a composer mentor to develop new works to be performed at this year’s soundfestival!The composers are Jessica MacIsaac\, Thomas Metcalf and Semay Wu.\n\n\n\n\n \n\n\n\n\n\nThey will showcase their work during a concert on Sunday 30th October at 11am at the Anatomy Rooms in Aberdeen (no advance booking required). \n\n\n\n\n\nRed Note Ensemble \nFiona Winning\, viola\nStephanie Lamprea Voice \n\n\n\nThis development opportunity is part of the soundcreators programme which focuses on nurturing creative talent\, and is organised in partnership with sound and Red Note.\n 
URL:https://www.rednoteensemble.com/event/composer-development-concert-sound-festival-2022/
LOCATION:Anatomy Rooms\, Shoe Lane\, Aberdeen\, AB10 1AL
CATEGORIES:Concerts
ATTACH;FMTTYPE=image/jpeg:https://www.rednoteensemble.com/wp-content/uploads/2022/10/My-project-1-1.jpeg
END:VEVENT
END:VCALENDAR