BEGIN:VCALENDAR
VERSION:2.0
PRODID:-//Red Note  - ECPv6.15.18//NONSGML v1.0//EN
CALSCALE:GREGORIAN
METHOD:PUBLISH
X-ORIGINAL-URL:https://www.rednoteensemble.com
X-WR-CALDESC:Events for Red Note 
REFRESH-INTERVAL;VALUE=DURATION:PT1H
X-Robots-Tag:noindex
X-PUBLISHED-TTL:PT1H
BEGIN:VTIMEZONE
TZID:Europe/London
BEGIN:DAYLIGHT
TZOFFSETFROM:+0000
TZOFFSETTO:+0100
TZNAME:BST
DTSTART:20210328T010000
END:DAYLIGHT
BEGIN:STANDARD
TZOFFSETFROM:+0100
TZOFFSETTO:+0000
TZNAME:GMT
DTSTART:20211031T010000
END:STANDARD
BEGIN:DAYLIGHT
TZOFFSETFROM:+0000
TZOFFSETTO:+0100
TZNAME:BST
DTSTART:20220327T010000
END:DAYLIGHT
BEGIN:STANDARD
TZOFFSETFROM:+0100
TZOFFSETTO:+0000
TZNAME:GMT
DTSTART:20221030T010000
END:STANDARD
BEGIN:DAYLIGHT
TZOFFSETFROM:+0000
TZOFFSETTO:+0100
TZNAME:BST
DTSTART:20230326T010000
END:DAYLIGHT
BEGIN:STANDARD
TZOFFSETFROM:+0100
TZOFFSETTO:+0000
TZNAME:GMT
DTSTART:20231029T010000
END:STANDARD
END:VTIMEZONE
BEGIN:VEVENT
DTSTART;TZID=Europe/London:20221026T190000
DTEND;TZID=Europe/London:20221026T200000
DTSTAMP:20260422T084141
CREATED:20220906T125342Z
LAST-MODIFIED:20220921T083320Z
UID:4262-1666810800-1666814400@www.rednoteensemble.com
SUMMARY:Red Note at sound festival 2022 - Aber Dîn by Zad Moultaka
DESCRIPTION:Written for and performed by the combined forces of Red Note and France’s Percussions Claviers de Lyon\, Franco-Lebanese composer and visual artist Zad Moultaka’s new work\, Aber Dîn\, takes audiences on a delirious audio-visual journey inspired by Jules Verne’s novel Backwards to Britain.\n \nPercussions Claviers de Lyon\n \nRed Note Ensemble \nRuth Morley\, flute\nTim Lines\, clarinet\nMark O’Keeffe\, trumpet\nJackie Shave\, violin\nRobert Irvine\, cello\n \nZad Moultaka Conductor\n \n\n\nCo-commissioned by sound\, Red Note Ensemble and Percussions Claviers de Lyon.\nSupported by Diaphonique\, Franco-British fund for classical contemporary music. 
URL:https://www.rednoteensemble.com/event/red-note-at-sound-festival-2022-aber-din-by-zad-moultaka/
LOCATION:Cowdray Hall – Aberdeen Art Gallery\, Schoolhill\, Aberdeen\, AB10 1FQ\, United Kingdom
CATEGORIES:Concerts
ATTACH;FMTTYPE=image/jpeg:https://www.rednoteensemble.com/wp-content/uploads/2022/09/Aber-Din-photo.jpeg
END:VEVENT
BEGIN:VEVENT
DTSTART;TZID=Europe/London:20221026T210000
DTEND;TZID=Europe/London:20221026T223000
DTSTAMP:20260422T084141
CREATED:20220928T161829Z
LAST-MODIFIED:20221018T150732Z
UID:4292-1666818000-1666823400@www.rednoteensemble.com
SUMMARY:Noisy Nights at Sound
DESCRIPTION:After two years doing it online\, we are finally back live and for our first event we have partnered with sound to perform at the 2022 sound festival. Three Red Note musicians will perform 8 short new 5-minute works selected from the open call. \nThe concert will be held at the Anatomy Rooms in Aberdeen\, on Wednesday 26th October\, 9pm.  \nFollowing our call for scores\, we are looking forward to presenting 8 new compositions: \nNaomi McGillivray We Grow Accustomed to the Dark\nCandra Bangun Setyawan Uni-SOno\nKristain Rasmussen Polarisation\nMáté Szigeti Her Absence will not Alter me: An Air Upon a Ground\nErin Thomson Flux\nHarrison Reeves-Smith Reindeer Panel\nAndrew Fowler along a brittle edge\nOliver Frost I arrived at the shore of a winding river \nRed Note Ensemble \nFiona Winning\, viola\nIain Crawford\, double bass\nTom Hunter\, vibraphone \nJohn Harris Conductor \nRed Note and sound are PRS Foundation Talent Development Partners.
URL:https://www.rednoteensemble.com/event/noisy-nights-at-sound/
LOCATION:Anatomy Rooms\, Shoe Lane\, Aberdeen\, AB10 1AL
CATEGORIES:Concerts
ATTACH;FMTTYPE=image/png:https://www.rednoteensemble.com/wp-content/uploads/2022/09/NN-Aberdeen-Concert.png
END:VEVENT
END:VCALENDAR