BEGIN:VCALENDAR
VERSION:2.0
PRODID:-//Red Note  - ECPv6.15.18//NONSGML v1.0//EN
CALSCALE:GREGORIAN
METHOD:PUBLISH
X-WR-CALNAME:Red Note 
X-ORIGINAL-URL:https://www.rednoteensemble.com
X-WR-CALDESC:Events for Red Note 
REFRESH-INTERVAL;VALUE=DURATION:PT1H
X-Robots-Tag:noindex
X-PUBLISHED-TTL:PT1H
BEGIN:VTIMEZONE
TZID:Europe/London
BEGIN:DAYLIGHT
TZOFFSETFROM:+0000
TZOFFSETTO:+0100
TZNAME:BST
DTSTART:20210328T010000
END:DAYLIGHT
BEGIN:STANDARD
TZOFFSETFROM:+0100
TZOFFSETTO:+0000
TZNAME:GMT
DTSTART:20211031T010000
END:STANDARD
BEGIN:DAYLIGHT
TZOFFSETFROM:+0000
TZOFFSETTO:+0100
TZNAME:BST
DTSTART:20220327T010000
END:DAYLIGHT
BEGIN:STANDARD
TZOFFSETFROM:+0100
TZOFFSETTO:+0000
TZNAME:GMT
DTSTART:20221030T010000
END:STANDARD
BEGIN:DAYLIGHT
TZOFFSETFROM:+0000
TZOFFSETTO:+0100
TZNAME:BST
DTSTART:20230326T010000
END:DAYLIGHT
BEGIN:STANDARD
TZOFFSETFROM:+0100
TZOFFSETTO:+0000
TZNAME:GMT
DTSTART:20231029T010000
END:STANDARD
END:VTIMEZONE
BEGIN:VEVENT
DTSTART;TZID=Europe/London:20220629T193000
DTEND;TZID=Europe/London:20220629T210000
DTSTAMP:20260422T130659
CREATED:20220511T142317Z
LAST-MODIFIED:20220627T111818Z
UID:4017-1656531000-1656536400@www.rednoteensemble.com
SUMMARY:The Good Company Tour - Aberdeen CANCELLED
DESCRIPTION:Announcement: Due to unforeseen circumstances\, it’s with deep regret that we have to announce the cancellation or the rest of our Good Company tour. We were very excited to meet you all and come to you with an amazing programme of music and we are all very upset by this turn of events. \n\nWe are very sorry that we won’t be able to continue the tour but rest assured that we will be back in the future!\n\n\nIf you have booked a ticket for this concert we will get in touch with you soon. We thank you for your understanding.\n\n\n \n—\n\n \nCome and join us as we perform some of our favourite music\, from Aileen Sweeney to Philip Glass\, from John Tavener to Shostakovich. A varied programme for all tastes\, from the well-known to the very new\, brought to you in warm and sparkling style on a summer’s day by Red Note’s very fine musicians.\n\n \nThe ensemble will tour the Highlands and Islands in Scotland from Wednesday 22nd to Wednesday 29th June 2022. \n\n \n\n\n\n\n\n\n\n\n\n\n\n\n\n\n\n\nWitold Lutoslawski String Quartet\n\n\n\n\n\n\n\n\n\n\nThomas Adès ‘O Albion’ from ArcadianaDmitri Shostakovich String Quartet No 7 Philip Glass String Quartet No 2 ‘Company’\n\n\n\n\n\n\n\n\n\n\nAileen Sweeney CeilidhTraditional Sønderho Bridal Trilogy \nJohn Tavener The Lamb\n\n\n\n\n\n\n \nRed Note Ensemble\nJackie Shave\, Violin 1\nTom Hankey\, Violin 2\nFiona Winning\, Viola\nRobert Irvine\, Cello\n 
URL:https://www.rednoteensemble.com/event/the-good-company-tour-aberdeen/
LOCATION:Cowdray Hall – Aberdeen Art Gallery\, Schoolhill\, Aberdeen\, AB10 1FQ\, United Kingdom
CATEGORIES:Concerts
ATTACH;FMTTYPE=image/jpeg:https://www.rednoteensemble.com/wp-content/uploads/2022/05/Cancelled-Aberdeen.jpg
END:VEVENT
BEGIN:VEVENT
DTSTART;TZID=Europe/London:20220629T193000
DTEND;TZID=Europe/London:20220629T210000
DTSTAMP:20260422T130659
CREATED:20220531T141601Z
LAST-MODIFIED:20220627T112417Z
UID:4078-1656531000-1656536400@www.rednoteensemble.com
SUMMARY:CALL FOR PARTICIPANTS - Good Company Tour\, Aberdeen concert
DESCRIPTION:Announcement: Due to unforeseen circumstances\, it’s with deep regret that we have to announce the cancellation or the rest of our Good Company tour. We were very excited to meet you all and come to you with an amazing programme of music and we are all very upset by this turn of events. \n\nWe are very sorry that we won’t be able to continue the tour but rest assured that we will be back in the future!\n\n\nWe thank you for your understanding.\n\n\n \n—\nJoin us for our concert at Cowdray Hall (Aberdeen Art Gallery) on Wednesday 29th June 2022 at 7.30pm. \nIf you are interested to take part in this event\, please contact Flore at admin@rednoteensemble.com. \nAs well as the concert\, participants will be needed for a focus group 45 minutes before the concert and 30 minutes after the concert. \nDeadline to submit interest: 27th June 2022\, 12pm.  \nShould you have any further questions\, please contact Sarah at sarah@rednoteensemble.com \nMore details about the event:  \nRed Note return in June to the highlands and isles of Scotland to celebrate the simple pleasures of making and listening to music with you\, on their Good Company Tour. \nCome and join us as we perform some of our favourite music\, from Aileen Sweeney to Philip Glass\, from John Taverner to Shostakovich. A varied programme for all tastes\, from the well-known to the very new\, brought to you in warm and sparkling style on a summer’s day by Red Note’s very fine musicians. \nThe ensemble will tour the Highlands and Islands in Scotland from Wednesday 22nd to Wednesday 29th June 2022. Find out more about the Aberdeen concert here.  \nWitold Lutoslawski String Quartet\nThomas Adès ‘O Albion’ from Arcadiana\nDmitri Shostakovich String Quartet No 7 \nPhilip Glass String Quartet No 2 ‘Company’\nAileen Sweeney Ceilidh\nTraditional Sønderho Bridal Trilogy \nJohn Tavener The Lamb \nRed Note Ensemble\nJackie Shave\, Violin 1\nTom Hankey\, Violin 2\nFiona Winning\, Viola\nRobert Irvine\, Cello
URL:https://www.rednoteensemble.com/event/call-for-participants-good-company-tour-aberdeen-concert/
CATEGORIES:Other Events
ATTACH;FMTTYPE=image/jpeg:https://www.rednoteensemble.com/wp-content/uploads/2022/05/Cancelled-Summer-Tour-CALL-FOR-PARTICIPANT.jpg
END:VEVENT
END:VCALENDAR