BEGIN:VCALENDAR
VERSION:2.0
PRODID:-//Red Note  - ECPv6.15.18//NONSGML v1.0//EN
CALSCALE:GREGORIAN
METHOD:PUBLISH
X-WR-CALNAME:Red Note 
X-ORIGINAL-URL:https://www.rednoteensemble.com
X-WR-CALDESC:Events for Red Note 
REFRESH-INTERVAL;VALUE=DURATION:PT1H
X-Robots-Tag:noindex
X-PUBLISHED-TTL:PT1H
BEGIN:VTIMEZONE
TZID:Europe/London
BEGIN:DAYLIGHT
TZOFFSETFROM:+0000
TZOFFSETTO:+0100
TZNAME:BST
DTSTART:20210328T010000
END:DAYLIGHT
BEGIN:STANDARD
TZOFFSETFROM:+0100
TZOFFSETTO:+0000
TZNAME:GMT
DTSTART:20211031T010000
END:STANDARD
BEGIN:DAYLIGHT
TZOFFSETFROM:+0000
TZOFFSETTO:+0100
TZNAME:BST
DTSTART:20220327T010000
END:DAYLIGHT
BEGIN:STANDARD
TZOFFSETFROM:+0100
TZOFFSETTO:+0000
TZNAME:GMT
DTSTART:20221030T010000
END:STANDARD
BEGIN:DAYLIGHT
TZOFFSETFROM:+0000
TZOFFSETTO:+0100
TZNAME:BST
DTSTART:20230326T010000
END:DAYLIGHT
BEGIN:STANDARD
TZOFFSETFROM:+0100
TZOFFSETTO:+0000
TZNAME:GMT
DTSTART:20231029T010000
END:STANDARD
END:VTIMEZONE
BEGIN:VEVENT
DTSTART;TZID=Europe/London:20220322T160000
DTEND;TZID=Europe/London:20220322T160000
DTSTAMP:20260422T185059
CREATED:20220304T125057Z
LAST-MODIFIED:20220309T092712Z
UID:3911-1647964800-1647964800@www.rednoteensemble.com
SUMMARY:CALL FOR PARTICIPANTS - The Night With... Concerts
DESCRIPTION:Take part in a research project by attending one of our concerts on the 23rd and 24th March 2022. The 10 participants will receive a complimentary ticket to see one of our concerts organised by The Night With… in Edinburgh and Glasgow. There will be a limit of 5 participants per concert.  \nIf you are interested to take part in this event\, please contact Flore at admin@rednoteensemble.com with the concert you would like to attend and we will get in touch with you: \n   – 23rd March 8pm – Summerhall\, Edinburgh\n   – 24th March 8pm – Stereo\, Glasgow \nAs well as the concert\, participants will be needed for a focus group 45 minutes before the concert and 30 minutes after the concert. \nDeadline to submit interest: 22nd March 2022\, 4pm  \nShould you have any further questions\, please contact Sarah at sarah@rednoteensemble.com \nMore details about the event:  \nDr Charlotte Gilmore\, an Athenaeum Leadership Fellow at the Royal Conservatoire of Scotland\, is leading a research project to identify and analyse the audience attending arts events. She will lead her project during two concerts with Red Note Ensemble as part of The Night With… 2022.  \nThe Night With… is a charity based in Glasgow presenting salon style concerts of interesting music in intimate\, informal venues across Scotland and further afield. Run by Matthew Whiteside\, it provides development and commissioning opportunities for young and emerging composers. \nRed Note returns to The Night With… with concerts in Edinburgh\, Glasgow\, Belfast and Aberdeen. Please refer to each individual event page for tickets at each location. Find out more here.  \nRufus Isabel Elliot The way we cupped our hands (and how the water ran through our fingers and down to the sea)* (World Premiere)\nWitold Lutoslawski String Quartet\nGeorge Crumb Black Angels\nCaroline Shaw Valencia \nRed Note Ensemble\nJackie Shave\, Violin 1\nTom Hankey\, Violin 2\nFiona Winning\, Viola\nRobert Irvine\, Cello \n 
URL:https://www.rednoteensemble.com/event/call-for-participants-the-night-with-concerts/
CATEGORIES:Other Events
ATTACH;FMTTYPE=image/png:https://www.rednoteensemble.com/wp-content/uploads/2022/03/CALL-FOR-PARTICIPANT-1.png
END:VEVENT
END:VCALENDAR