BEGIN:VCALENDAR
VERSION:2.0
PRODID:-//Red Note  - ECPv6.15.18//NONSGML v1.0//EN
CALSCALE:GREGORIAN
METHOD:PUBLISH
X-ORIGINAL-URL:https://www.rednoteensemble.com
X-WR-CALDESC:Events for Red Note 
REFRESH-INTERVAL;VALUE=DURATION:PT1H
X-Robots-Tag:noindex
X-PUBLISHED-TTL:PT1H
BEGIN:VTIMEZONE
TZID:Europe/London
BEGIN:DAYLIGHT
TZOFFSETFROM:+0000
TZOFFSETTO:+0100
TZNAME:BST
DTSTART:20210328T010000
END:DAYLIGHT
BEGIN:STANDARD
TZOFFSETFROM:+0100
TZOFFSETTO:+0000
TZNAME:GMT
DTSTART:20211031T010000
END:STANDARD
BEGIN:DAYLIGHT
TZOFFSETFROM:+0000
TZOFFSETTO:+0100
TZNAME:BST
DTSTART:20220327T010000
END:DAYLIGHT
BEGIN:STANDARD
TZOFFSETFROM:+0100
TZOFFSETTO:+0000
TZNAME:GMT
DTSTART:20221030T010000
END:STANDARD
BEGIN:DAYLIGHT
TZOFFSETFROM:+0000
TZOFFSETTO:+0100
TZNAME:BST
DTSTART:20230326T010000
END:DAYLIGHT
BEGIN:STANDARD
TZOFFSETFROM:+0100
TZOFFSETTO:+0000
TZNAME:GMT
DTSTART:20231029T010000
END:STANDARD
END:VTIMEZONE
BEGIN:VEVENT
DTSTART;TZID=Europe/London:20220127T170000
DTEND;TZID=Europe/London:20220127T170000
DTSTAMP:20260422T214124
CREATED:20220113T163823Z
LAST-MODIFIED:20220222T135330Z
UID:3857-1643302800-1643302800@www.rednoteensemble.com
SUMMARY:NOW CLOSED - Arts Administration and Communications Assistant
DESCRIPTION:The Arts Administration and Communication Assistant role sits at the heart of the organisation and requires a positive attitude towards problem-solving and acute attention to detail. Red Note’s administration is a small\, hard-working team and we are looking for someone who is supportive\, well-focused and has the initiative and energy to adapt to new situations. \nThe role offers insight into key areas of a cultural organisation and will give the post holder\nopportunities to learn and develop skills and gain experience in areas they are not yet familiar with. \nThe successful candidate will have experience in one or several of the key responsibilities. Relevant training will be offered alongside the full support and assistance of the Red Note team\, although candidates who show initiative and pro-activity will be preferred. \nHours of work:                        20 hours a week \nSalary:                                      £9.90 per hour (we are a living wage employer) \nPeriod of contract:                 From 11th February 2022 depending on availability. Contract to 31st July 2022 in the first instance\, to be reviewed June 2022. \nKey Dates:\nDeadline for application: Thursday 27th January 2022\, 5pm\nNotification of interviews: Monday 31st January 2022\nInterviews: Friday 4th February 2022 via zoom\nStart date: from 11th February 2022 depending on availability \nHow to Apply \nDownload the JOB PACK for full information on how to apply. \nEqual Opportunities Monitoring Form \nAll applicants must also complete an anonymous Equal Opportunities Monitoring form. This\nwill help Red Note Ensemble to better understand the reach and fairness of our recruitment\nprocess. \nPlease CLICK HERE to download the monitoring form. Once completed please send it by\nemail to admin@rednoteensemble.com
URL:https://www.rednoteensemble.com/event/hiring-arts-administration-and-communications-assistant/
CATEGORIES:Other Events
ATTACH;FMTTYPE=image/jpeg:https://www.rednoteensemble.com/wp-content/uploads/2017/10/Were-Hiring.jpg
END:VEVENT
END:VCALENDAR