BEGIN:VCALENDAR
VERSION:2.0
PRODID:-//Red Note  - ECPv6.15.18//NONSGML v1.0//EN
CALSCALE:GREGORIAN
METHOD:PUBLISH
X-WR-CALNAME:Red Note 
X-ORIGINAL-URL:https://www.rednoteensemble.com
X-WR-CALDESC:Events for Red Note 
REFRESH-INTERVAL;VALUE=DURATION:PT1H
X-Robots-Tag:noindex
X-PUBLISHED-TTL:PT1H
BEGIN:VTIMEZONE
TZID:Europe/London
BEGIN:DAYLIGHT
TZOFFSETFROM:+0000
TZOFFSETTO:+0100
TZNAME:BST
DTSTART:20200329T010000
END:DAYLIGHT
BEGIN:STANDARD
TZOFFSETFROM:+0100
TZOFFSETTO:+0000
TZNAME:GMT
DTSTART:20201025T010000
END:STANDARD
BEGIN:DAYLIGHT
TZOFFSETFROM:+0000
TZOFFSETTO:+0100
TZNAME:BST
DTSTART:20210328T010000
END:DAYLIGHT
BEGIN:STANDARD
TZOFFSETFROM:+0100
TZOFFSETTO:+0000
TZNAME:GMT
DTSTART:20211031T010000
END:STANDARD
BEGIN:DAYLIGHT
TZOFFSETFROM:+0000
TZOFFSETTO:+0100
TZNAME:BST
DTSTART:20220327T010000
END:DAYLIGHT
BEGIN:STANDARD
TZOFFSETFROM:+0100
TZOFFSETTO:+0000
TZNAME:GMT
DTSTART:20221030T010000
END:STANDARD
END:VTIMEZONE
BEGIN:VEVENT
DTSTART;VALUE=DATE:20211103
DTEND;VALUE=DATE:20211112
DTSTAMP:20260423T002442
CREATED:20211020T155255Z
LAST-MODIFIED:20211020T160745Z
UID:3701-1635897600-1636675199@www.rednoteensemble.com
SUMMARY:'New Normal' Workshops with Soundstreams
DESCRIPTION:Set to premiere in 2022\, New Normal is a collaboration between Soundstreams and Red Note Ensemble. A composer from each organization\, Northern Irish composer Brian Irvine and Ukrainian-Canadian composer Anna Pidgorna\, will work with the other’s ensemble\, creating interleaved works which loosely interact with one another through a series of episodes weaved together through shared\, but misinterpreted\, objects and ideas. It will be a whimsical exploration of social isolation and strange world events which have occurred during the time of global pandemic. \nThis November\, Pidgorna joins Red Note Ensemble in workshops to develop material for New Normal. This work-in-progress imagines a group of highly interdependent and immensely curious aliens exploring the English language and the empty streets of a suburban town under lockdown. Wer hoomun? \nPlease note\, these workshops are not a public performance. \nAnna Pidgorna is a Ukrainian-Canadian composer\, vocalist and multi-media artist who combines sound\, visual arts\, writing and carpentry to create works that are dramatic and picturesque. She works extensively with Ukrainian folk singing\, draws inspiration from the natural soundscape\, and incorporates visual elements into some of her manuscripts. Her work has been commissioned\, performed and recorded by soloists and ensembles in Canada\, USA\, Uruguay\, Ireland\, France\, Germany\, Austria\, Italy\, Greece\, Poland\, Ukraine and South Korea. She holds a PhD from Princeton University\, an MMus from the University of Calgary\, and a BA from Mount Allison University. She lives on the traditional and unceded territory of the Qayqayt First Nation in New Westminster\, BC. \nSoundstreams is one of the world’s leading contemporary music companies\, and the largest global presenter of new Canadian music. Founder and Artistic Director Lawrence Cherney is committed to showcasing the work of Canadian and international composers\, and has commissioned over 170 new works\, and programmed hundreds of unique and compelling concerts including chamber music events\, multi-choir spectaculars\, operas\, music-theatre works\, and seven highly successful international festivals. \nRed Note Ensemble\nRuth Morley\, flute\nWilliam White\, clarinet\nColin Scobie\, violin\nRobert Irvine\, cello\nTom Hunter\, percussion \nJessica Leary Soprano\nEmma Morwood Soprano\nLaura Margaret Smith Mezzo Soprano\nIan Shaw Répétiteur \nNew Normal is a co-production with Soundstreams.
URL:https://www.rednoteensemble.com/event/new-normal-workshops-with-soundstreams/
CATEGORIES:Other Events
ATTACH;FMTTYPE=image/jpeg:https://www.rednoteensemble.com/wp-content/uploads/2021/10/Anna-Pidgorna_brick-wall_photo-Maria-Reva.jpg
END:VEVENT
BEGIN:VEVENT
DTSTART;TZID=Europe/London:20211104T200000
DTEND;TZID=Europe/London:20211104T210000
DTSTAMP:20260423T002442
CREATED:20210929T130141Z
LAST-MODIFIED:20211104T132048Z
UID:3705-1636056000-1636059600@www.rednoteensemble.com
SUMMARY:sub mari.
DESCRIPTION:As the COP26 summit takes place in Glasgow\, Red Note’s latest commission brings together a collaborative multi-media commission by Chilean composer / double-bassist Manuel Figueroa-Bolvarán and Red Note’s Weston-Jerwood Creative Fellow\, Scottish-based Martina Corsini\, that highlights the contrasting scarcity and abundance of water in Chile and Scotland. \nChile has a very severe water scarcity\, exacerbated by land-management practices due to the production of food (including avocados) for export. This\, contrasting with a potentially dangerous water abundance here in Scotland\, allows the composers to explore the character of water in both places in relation to the environmental crisis\, and has inspired them to create a new multi-media artistic work that is both powerful and direct\, with a clear message for us all. \nManuel Figueroa-Bolvarán has developed an extensive and multifaceted career focused on performance\, composing and arts education. He has been recognized as a cultural ambassador in Chile and abroad\, traveling across the Americas and over 20 countries. As composer\, Manuel had written music for radio dramas\, stage plays\, short films and cinema adaptations. He has also premiered music for orchestra\, including solo concertos\, ballet and opera. Manuel is constantly working across many fields\, from digital design to orchestral conducting; from classical to rock music. As a crossover artist\, Manuel has performed across the Americas and Europe\, recorded for several artists in Latin America and Europe\, including Latin Grammys awarded albums and in collaboration with performing arts from different fields. \nMartina Corsini joined the team as Creative Music Maker for a year-long Fellowship thanks to the Weston Jerwood Creative Bursaries. From a young age Martina developed her passion for music\, studying piano\, singing\, playing the guitar and the cajon. In her teenage years\, she formed an acoustic duo with the guitarist Joshua De Loa and played in multiple venues such as Auditorium Parco della Musica for the community project ‘Play Music Stop Violence’. In Scotland\, Martina studied at UWS\, completing a Degree in Commercial Music and Masters in Songwriting. During this time she developed her knowledge in the music industry\, working as tour manager for the Eurogig and as director\, project manager and tour manager for Keep Music aLive – an experience for young bands across Europe. \nPlease note\, this event is for our Perth concert ONLY. For our Glasgow concert\, click here.  \nMartina Corsini and Manuel Figueroa-Bolvaran sub mari.   \nRed Note Ensemble\nRuth Morley\, flute\nJoanna Nicholson\, clarinet\nTom Hunter\, percussion\nMalcolm MacFarlane\, electric guitar\nEmil Chakalov\, violin 1\nTom Hankey\, violin 2\nFiona Winning\, viola\nRobert Irvine\, cello\nIain Crawford\, double bass \nHerminda Quintraleo Voice\nCoro Allegro (directed by Francisco Espinoza)  Chilean Choir\nLevenmouth Academy Choir (directed by Alison Fleming) Scottish Youth Choir \nCristian Andres Tapia Aracena Film Producer
URL:https://www.rednoteensemble.com/event/the-red-note-sessions-sub-mari/
LOCATION:Perth Concert Hall\, Mill Street\, Perth\, Scotland\, PH1 5HZ\, United Kingdom
CATEGORIES:Concerts
ATTACH;FMTTYPE=image/png:https://www.rednoteensemble.com/wp-content/uploads/2021/09/Sub-Mari.png
END:VEVENT
END:VCALENDAR