BEGIN:VCALENDAR
VERSION:2.0
PRODID:-//Red Note  - ECPv6.15.18//NONSGML v1.0//EN
CALSCALE:GREGORIAN
METHOD:PUBLISH
X-WR-CALNAME:Red Note 
X-ORIGINAL-URL:https://www.rednoteensemble.com
X-WR-CALDESC:Events for Red Note 
REFRESH-INTERVAL;VALUE=DURATION:PT1H
X-Robots-Tag:noindex
X-PUBLISHED-TTL:PT1H
BEGIN:VTIMEZONE
TZID:Europe/London
BEGIN:DAYLIGHT
TZOFFSETFROM:+0000
TZOFFSETTO:+0100
TZNAME:BST
DTSTART:20200329T010000
END:DAYLIGHT
BEGIN:STANDARD
TZOFFSETFROM:+0100
TZOFFSETTO:+0000
TZNAME:GMT
DTSTART:20201025T010000
END:STANDARD
BEGIN:DAYLIGHT
TZOFFSETFROM:+0000
TZOFFSETTO:+0100
TZNAME:BST
DTSTART:20210328T010000
END:DAYLIGHT
BEGIN:STANDARD
TZOFFSETFROM:+0100
TZOFFSETTO:+0000
TZNAME:GMT
DTSTART:20211031T010000
END:STANDARD
BEGIN:DAYLIGHT
TZOFFSETFROM:+0000
TZOFFSETTO:+0100
TZNAME:BST
DTSTART:20220327T010000
END:DAYLIGHT
BEGIN:STANDARD
TZOFFSETFROM:+0100
TZOFFSETTO:+0000
TZNAME:GMT
DTSTART:20221030T010000
END:STANDARD
END:VTIMEZONE
BEGIN:VEVENT
DTSTART;TZID=Europe/London:20211022T180000
DTEND;TZID=Europe/London:20211022T190000
DTSTAMP:20260423T015332
CREATED:20210922T113332Z
LAST-MODIFIED:20210929T133647Z
UID:3698-1634925600-1634929200@www.rednoteensemble.com
SUMMARY:Red Note at soundfestival 2021
DESCRIPTION:In partnership with sound\, Red Note perform 3 premiers at soundfestival 2021.  \nAilie Robertson’s Unfurl forms a continuation of her PhD studies into microtonality and the harp\, taking inspiration from Erv Wilson’s 1965 organisation of the overtone series as a logarithmic spiral. The piece is anti-narrative and anti-developmental in form\, simply housing the tonal material\, which consists of the first 80 partials of the overtone series. Expressivity comes from the simple aligning of tones\, one to another\, as the harmonic space progressively expands towards the fundamental. \nIn addition to this is Edwin Hillier’s new work 37 Otago Street. The ‘ghost sign’ at 37 Otago Street became a familiar sight on Hillier’s daily lockdown walk through Glasgow. Revisiting this image with routine\, almost ritual\, he became fascinated by its complexity and changeability: its disparate elements enhanced\, recoloured\, embroidered by the light\, affected by the time of day and year. When captured on camera\, zoomed in and examined – a method famously employed on the streets of Chicago by ‘abstract expressionist photographer’ Aaron Siskind in the 1950s – the sign betrays an intricate and heavily textured inner world. Inspired by Hillier’s daily encounters with the street mural\, 37 Otago Street offers several perspectives on what becomes a familiar\, even nostalgic\, timbral palette. Glimpses of ghostly lettering and flecks of crimson-hued paint emerge in the fragile ensemble textures and concrete sonorities of the auxiliary instruments. Shifting from foreground to background\, fractured musical images are interwoven and drawn into focus as we pass them by. \nFinally\, Luke Styles presents his trio Five Phase Sphere. The trio presents 5 phases of music for this specific combination of instruments. The resonance of these 3 instruments together\, their low frequencies and their combined musical potentials are all stimuli for each phase. Across each phase are musical links\, but together\, as five points of music they form a sphere of material\, in the composer’s imagination \nAilie Robertson Unfurl (World Premiere)*\nEdwin Hillier 37 Otago Street (World Premiere)**\nLuke Styles Five Phase Sphere (World Premiere)*** \nRed Note Ensemble \nRuth Morley\, flute\nWill White\, clarinet\nDaniel Pioro\, violin\nTom Hankey\, viola\nRobert Irvine\, cello\nIain Crawford\, double bass \nAilie Robertson Harp  \nWilliam Cole Conductor  \n* Co-commissioned by sound\, Red Note Ensemble and hcmf//\n** Co-commissioned by sound and Red Note Ensemble\n*** Co-commissioned by sound\, hcmf//\, Red Note Ensemble and Ask Duets
URL:https://www.rednoteensemble.com/event/red-note-at-soundfestival-2021/
LOCATION:Queen’s Cross Church\, Albyn Pl\, Aberdeen\, AB10 1YN\, United Kingdom
CATEGORIES:Concerts
ATTACH;FMTTYPE=image/png:https://www.rednoteensemble.com/wp-content/uploads/2021/08/Untitled-design.png
END:VEVENT
END:VCALENDAR