BEGIN:VCALENDAR
VERSION:2.0
PRODID:-//Red Note  - ECPv6.15.18//NONSGML v1.0//EN
CALSCALE:GREGORIAN
METHOD:PUBLISH
X-ORIGINAL-URL:https://www.rednoteensemble.com
X-WR-CALDESC:Events for Red Note 
REFRESH-INTERVAL;VALUE=DURATION:PT1H
X-Robots-Tag:noindex
X-PUBLISHED-TTL:PT1H
BEGIN:VTIMEZONE
TZID:Europe/London
BEGIN:DAYLIGHT
TZOFFSETFROM:+0000
TZOFFSETTO:+0100
TZNAME:BST
DTSTART:20200329T010000
END:DAYLIGHT
BEGIN:STANDARD
TZOFFSETFROM:+0100
TZOFFSETTO:+0000
TZNAME:GMT
DTSTART:20201025T010000
END:STANDARD
BEGIN:DAYLIGHT
TZOFFSETFROM:+0000
TZOFFSETTO:+0100
TZNAME:BST
DTSTART:20210328T010000
END:DAYLIGHT
BEGIN:STANDARD
TZOFFSETFROM:+0100
TZOFFSETTO:+0000
TZNAME:GMT
DTSTART:20211031T010000
END:STANDARD
BEGIN:DAYLIGHT
TZOFFSETFROM:+0000
TZOFFSETTO:+0100
TZNAME:BST
DTSTART:20220327T010000
END:DAYLIGHT
BEGIN:STANDARD
TZOFFSETFROM:+0100
TZOFFSETTO:+0000
TZNAME:GMT
DTSTART:20221030T010000
END:STANDARD
END:VTIMEZONE
BEGIN:VEVENT
DTSTART;TZID=Europe/London:20210613T160000
DTEND;TZID=Europe/London:20210613T170000
DTSTAMP:20260423T084553
CREATED:20210524T125512Z
LAST-MODIFIED:20210602T133616Z
UID:3546-1623600000-1623603600@www.rednoteensemble.com
SUMMARY:Noisy Nights at Sound
DESCRIPTION:Noisy Nights is back! We are excited to play together again with these outstanding musicians: \n\nMaximiliano Martin – Clarinet\,\nTony Moffat – Violin\,\nJessica Beeston – Viola\,\nRobert Irvine – Cello.\n\nOn this occasion we have partnered with sound\, following the success and learnings from the Neurotribes conference\, to showcase the talent of neurodiverse composers\, supporting greater inclusion in contemporary classical music. \nClick here to book your tickets now! Tickets are limited and must be purchased in advance. \nFollowing our call for scores\, we are looking forward to presenting 5 new compositions alongside Hason Hodgson: \nJason Hodgson Dimensional Shift (Rubic Cubes) \nJoe Stollery Seely Circles \nSiôn Parkinson Phantosmia  \nSera Wright Sunflowers \nZoe Cutler ✨🌟 👉The👈 ⚠️Contemporary⚠️ 🐝Music🐝 🍋Lick🍋 🌟✨ \nRylan Gleave cold with him \n  \nRed Note Ensemble \nJohn Harris Conductor \nRed Note and sound are PRS Foundation Talent Development Partners.
URL:https://www.rednoteensemble.com/event/noisy-nights-sound/
LOCATION:Queen’s Cross Church\, Albyn Pl\, Aberdeen\, AB10 1YN\, United Kingdom
CATEGORIES:Noisy Nights
ATTACH;FMTTYPE=image/png:https://www.rednoteensemble.com/wp-content/uploads/2021/05/NN-June2021-Concert-Web2.png
END:VEVENT
END:VCALENDAR