BEGIN:VCALENDAR
VERSION:2.0
PRODID:-//Red Note  - ECPv6.15.18//NONSGML v1.0//EN
CALSCALE:GREGORIAN
METHOD:PUBLISH
X-ORIGINAL-URL:https://www.rednoteensemble.com
X-WR-CALDESC:Events for Red Note 
REFRESH-INTERVAL;VALUE=DURATION:PT1H
X-Robots-Tag:noindex
X-PUBLISHED-TTL:PT1H
BEGIN:VTIMEZONE
TZID:Europe/London
BEGIN:DAYLIGHT
TZOFFSETFROM:+0000
TZOFFSETTO:+0100
TZNAME:BST
DTSTART:20200329T010000
END:DAYLIGHT
BEGIN:STANDARD
TZOFFSETFROM:+0100
TZOFFSETTO:+0000
TZNAME:GMT
DTSTART:20201025T010000
END:STANDARD
BEGIN:DAYLIGHT
TZOFFSETFROM:+0000
TZOFFSETTO:+0100
TZNAME:BST
DTSTART:20210328T010000
END:DAYLIGHT
BEGIN:STANDARD
TZOFFSETFROM:+0100
TZOFFSETTO:+0000
TZNAME:GMT
DTSTART:20211031T010000
END:STANDARD
BEGIN:DAYLIGHT
TZOFFSETFROM:+0000
TZOFFSETTO:+0100
TZNAME:BST
DTSTART:20220327T010000
END:DAYLIGHT
BEGIN:STANDARD
TZOFFSETFROM:+0100
TZOFFSETTO:+0000
TZNAME:GMT
DTSTART:20221030T010000
END:STANDARD
END:VTIMEZONE
BEGIN:VEVENT
DTSTART;VALUE=DATE:20210208
DTEND;VALUE=DATE:20210209
DTSTAMP:20260423T144912
CREATED:20210115T091218Z
LAST-MODIFIED:20210322T105744Z
UID:3431-1612742400-1612828799@www.rednoteensemble.com
SUMMARY:We Are Hiring: Creative Music Maker - NOW CLOSED
DESCRIPTION:Red Note Ensemble is looking for a musician at an early stage of their career to join us for a fixed-term one-year\, mentored role. We’re seeking someone who is a little bit obsessed about creating new music themselves\, and making music with other people\, to work with us on a variety of performance and community projects. \nWe recognise that many people haven’t been able to take up opportunities to pursue a career in creating music due to financial pressures of coming from a lower socio-economic background. For this reason\, this post is designed to support the career progression of someone who has faced barriers because of their socio-economic background. \nWe are looking for someone who has: \n\n2-5 years’ experience since leaving school. This may have been on e.g. an education/training course\, a job\, a caring or voluntary role. It doesn’t matter whether this was or wasn’t directly connected to music\nShown sustained commitment to generating their own new music \nSome experience of working with music with community groups\, but may have had no formal training\n\nContract type:         Fixed term contract\, 12 month contract \nHours:                       Part time\, 21 hours per week. flexible working \nHolidays:                  12 days plus 5 days public holidays per annum (this equals 20 days plus 8 holidays per annum full time equivalent) \nSalary:                       £12\,600 (£21\,000 per annum full time equivalent) plus 5% pension \nStart Date:                Monday\, 29th March 2021 \nLocation:                  Office based in Summerhall\, Edinburgh (remote working possible) and in Methil and Easterhouse (Glasgow)\, travel paid \nRelocation:              A contribution towards relocation up to £250 is available if required \nKey Dates: \nDeadline for application:     Monday 8th February 2021\, 12 noon \nNotification of interviews:    Friday 19th February 2021 \nInterviews:                             Thursday 25th February 2021 \nSelection workshops:          Between the 8th and 19th March 2021 \nStart date:                             Monday 29th March 2021 \nHow to apply \nDownload the job pack and the FAQ document for full information on how to apply. \nThe closing date for applications is Monday 8th February 2021\, 12 noon. \nContact Us \nBefore you make an application there is an opportunity to attend a webinar to learn more about the position\, what we are looking for from the successful applicant\, and discuss any questions you may have. To sign up please click on the date that suits you best: \n\nThursday 21st January at 10:30am\nWednesday 27th January at 3pm\n\nIf you have any additional questions not covered in the FAQ document\, if you have technical difficulties or you have any access requirements that we can support you with in the application process\, you can also arrange a time to speak with one of our team – Please fill in this form (CLICK HERE). \n  \nThis Fellowship is supported by the Weston Jerwood Creative Bursaries 2020-22.
URL:https://www.rednoteensemble.com/event/creative-music-maker/
CATEGORIES:Other Events
ATTACH;FMTTYPE=image/png:https://www.rednoteensemble.com/wp-content/uploads/2021/01/WJCB-Recruitment-Web2.png
END:VEVENT
END:VCALENDAR