BEGIN:VCALENDAR
VERSION:2.0
PRODID:-//Red Note  - ECPv6.15.18//NONSGML v1.0//EN
CALSCALE:GREGORIAN
METHOD:PUBLISH
X-WR-CALNAME:Red Note 
X-ORIGINAL-URL:https://www.rednoteensemble.com
X-WR-CALDESC:Events for Red Note 
REFRESH-INTERVAL;VALUE=DURATION:PT1H
X-Robots-Tag:noindex
X-PUBLISHED-TTL:PT1H
BEGIN:VTIMEZONE
TZID:Europe/London
BEGIN:DAYLIGHT
TZOFFSETFROM:+0000
TZOFFSETTO:+0100
TZNAME:BST
DTSTART:20190331T010000
END:DAYLIGHT
BEGIN:STANDARD
TZOFFSETFROM:+0100
TZOFFSETTO:+0000
TZNAME:GMT
DTSTART:20191027T010000
END:STANDARD
BEGIN:DAYLIGHT
TZOFFSETFROM:+0000
TZOFFSETTO:+0100
TZNAME:BST
DTSTART:20200329T010000
END:DAYLIGHT
BEGIN:STANDARD
TZOFFSETFROM:+0100
TZOFFSETTO:+0000
TZNAME:GMT
DTSTART:20201025T010000
END:STANDARD
BEGIN:DAYLIGHT
TZOFFSETFROM:+0000
TZOFFSETTO:+0100
TZNAME:BST
DTSTART:20210328T010000
END:DAYLIGHT
BEGIN:STANDARD
TZOFFSETFROM:+0100
TZOFFSETTO:+0000
TZNAME:GMT
DTSTART:20211031T010000
END:STANDARD
END:VTIMEZONE
BEGIN:VEVENT
DTSTART;TZID=Europe/London:20200724T150000
DTEND;TZID=Europe/London:20200724T160000
DTSTAMP:20260424T013709
CREATED:20200625T122409Z
LAST-MODIFIED:20200702T142825Z
UID:3218-1595602800-1595606400@www.rednoteensemble.com
SUMMARY:Red Note Fridays@3: McLeod's A Moment In Time
DESCRIPTION:Join us on our YouTube channel every Friday afternoon at 3PM for a session of new music where we release unseen performances\, delve into our recorded albums and meet the composers.  \nFriday 24 July: We look back to John McLeod’s landmark collection ‘Moments in Time’ recorded during the composer’s eightieth birthday year. The collection brings together McLeod’s four mythological ‘songs’ – powerful dramatic scenes in which instruments are elevated to voice-like expression – and a further work which crystallises the theme of a single moment with a long expressive ‘shadow’. Increasingly acclaimed at home and abroad\, Aberdeen-born John McLeod’s music bears all the hallmarks of exuberant colour and precisely imagined fantasy that his early associations with Lennox Berkeley and Witold Lutosławski would lead one to expect.   \nClick on this link or on BUY TICKETS and you will redirected to YouTube. \nAll events in our Fridays@3 series are offered online for free\, if you are in a position to do so\, we hope you will consider making a donation to Help Musicians’ Coronavirus Financial Hardship Fund Thank you!
URL:https://www.rednoteensemble.com/event/fridays3-mcleod-moment/
CATEGORIES:Concerts
ATTACH;FMTTYPE=image/jpeg:https://www.rednoteensemble.com/wp-content/uploads/2020/06/DCD34155_RGB_2000x.jpg
END:VEVENT
END:VCALENDAR