BEGIN:VCALENDAR
VERSION:2.0
PRODID:-//Red Note  - ECPv6.15.18//NONSGML v1.0//EN
CALSCALE:GREGORIAN
METHOD:PUBLISH
X-WR-CALNAME:Red Note 
X-ORIGINAL-URL:https://www.rednoteensemble.com
X-WR-CALDESC:Events for Red Note 
REFRESH-INTERVAL;VALUE=DURATION:PT1H
X-Robots-Tag:noindex
X-PUBLISHED-TTL:PT1H
BEGIN:VTIMEZONE
TZID:Europe/London
BEGIN:DAYLIGHT
TZOFFSETFROM:+0000
TZOFFSETTO:+0100
TZNAME:BST
DTSTART:20190331T010000
END:DAYLIGHT
BEGIN:STANDARD
TZOFFSETFROM:+0100
TZOFFSETTO:+0000
TZNAME:GMT
DTSTART:20191027T010000
END:STANDARD
BEGIN:DAYLIGHT
TZOFFSETFROM:+0000
TZOFFSETTO:+0100
TZNAME:BST
DTSTART:20200329T010000
END:DAYLIGHT
BEGIN:STANDARD
TZOFFSETFROM:+0100
TZOFFSETTO:+0000
TZNAME:GMT
DTSTART:20201025T010000
END:STANDARD
BEGIN:DAYLIGHT
TZOFFSETFROM:+0000
TZOFFSETTO:+0100
TZNAME:BST
DTSTART:20210328T010000
END:DAYLIGHT
BEGIN:STANDARD
TZOFFSETFROM:+0100
TZOFFSETTO:+0000
TZNAME:GMT
DTSTART:20211031T010000
END:STANDARD
END:VTIMEZONE
BEGIN:VEVENT
DTSTART;TZID=Europe/London:20200703T150000
DTEND;TZID=Europe/London:20200703T153000
DTSTAMP:20260424T013709
CREATED:20200612T142721Z
LAST-MODIFIED:20210315T170950Z
UID:3159-1593788400-1593790200@www.rednoteensemble.com
SUMMARY:Come and Play 4'33''
DESCRIPTION:We’ve invited members of the public to perform side-by-side with the musicians of Red Note Ensemble\, in what we believe might be the first online mass-participation performance of John Cage’s 4’33” on the Friday 3rd July 2020. \nComposed in 1952 for any instrument or combination of instruments\, Cage’s 4’33” requires the performer(s) not to play their instruments throughout the duration of the piece’s three movements. \nWe’ll use Zoom to connect performers from your various remote locations\, live-streaming straight onto our YouTube channel. \nDon’t miss a 49-strong ensemble led by some of Europe’s finest professional musicians re-create this iconic (and still controversial) 20th century classic in a live online performance\, please do come along and be part of the audience on YouTube! \n“We’ve no idea what the audio on Zoom will do with silence\, but that in itself brings the sense of randomness that the piece is about. It’s a bit crazy. It might of course be a total disaster and that’s a valid response too.“. Artistic Co-Director Robert Irvine \nAll events in our Fridays@3 series are offered online for free\, if you are in a position to do so\, we hope you will consider making a donation to Help Musicians’ Coronavirus Financial Hardship Fund Thank you!
URL:https://www.rednoteensemble.com/event/come-play-433/
CATEGORIES:Concerts
ATTACH;FMTTYPE=image/png:https://www.rednoteensemble.com/wp-content/uploads/2020/05/jcag_433-sheetmusic-e1591979209671.png
END:VEVENT
END:VCALENDAR